BEGIN:VCALENDAR
VERSION:2.0
PRODID:-//Kaleidoscope - ECPv6.15.18//NONSGML v1.0//EN
CALSCALE:GREGORIAN
METHOD:PUBLISH
X-WR-CALNAME:Kaleidoscope
X-ORIGINAL-URL:https://kaleidoscope-education.org
X-WR-CALDESC:Events for Kaleidoscope
REFRESH-INTERVAL;VALUE=DURATION:PT1H
X-Robots-Tag:noindex
X-PUBLISHED-TTL:PT1H
BEGIN:VTIMEZONE
TZID:America/Detroit
BEGIN:DAYLIGHT
TZOFFSETFROM:-0500
TZOFFSETTO:-0400
TZNAME:EDT
DTSTART:20250309T070000
END:DAYLIGHT
BEGIN:STANDARD
TZOFFSETFROM:-0400
TZOFFSETTO:-0500
TZNAME:EST
DTSTART:20251102T060000
END:STANDARD
BEGIN:DAYLIGHT
TZOFFSETFROM:-0500
TZOFFSETTO:-0400
TZNAME:EDT
DTSTART:20260308T070000
END:DAYLIGHT
BEGIN:STANDARD
TZOFFSETFROM:-0400
TZOFFSETTO:-0500
TZNAME:EST
DTSTART:20261101T060000
END:STANDARD
BEGIN:DAYLIGHT
TZOFFSETFROM:-0500
TZOFFSETTO:-0400
TZNAME:EDT
DTSTART:20270314T070000
END:DAYLIGHT
BEGIN:STANDARD
TZOFFSETFROM:-0400
TZOFFSETTO:-0500
TZNAME:EST
DTSTART:20271107T060000
END:STANDARD
END:VTIMEZONE
BEGIN:VEVENT
DTSTART;VALUE=DATE:20260427
DTEND;VALUE=DATE:20260428
DTSTAMP:20260423T175255
CREATED:20250902T155046Z
LAST-MODIFIED:20250902T155046Z
UID:10003384-1777248000-1777334399@kaleidoscope-education.org
SUMMARY:Hancock Classes
DESCRIPTION:See detailed class schedules and important dates here.
URL:https://kaleidoscope-education.org/event/hancock-classes-8/2026-04-27/
LOCATION:Kaleidoscope Hancock\, 417 Quincy St\, Hancock\, 49930\, United States
END:VEVENT
BEGIN:VEVENT
DTSTART;VALUE=DATE:20260427
DTEND;VALUE=DATE:20260428
DTSTAMP:20260423T175255
CREATED:20260203T150837Z
LAST-MODIFIED:20260203T150837Z
UID:10003355-1777248000-1777334399@kaleidoscope-education.org
SUMMARY:L'Anse Clubs
DESCRIPTION:Arts and Crafts Club 4:00-5:30\, ages 5+ \nBoredom Busters Club 4:00-5:30\, ages 5+ \nClub Teen Night 5:30-7:30\, ages 13-19 \nSee our schedules and important dates here. \nMore club info is available here.
URL:https://kaleidoscope-education.org/event/lanse-clubs-4-2/2026-04-27/
LOCATION:Kaleidoscope L’Anse\, 830 N Main St\, L'Anse\, MI\, 49946\, United States
END:VEVENT
BEGIN:VEVENT
DTSTART;VALUE=DATE:20260427
DTEND;VALUE=DATE:20260428
DTSTAMP:20260423T175255
CREATED:20260324T213407Z
LAST-MODIFIED:20260324T213407Z
UID:10003576-1777248000-1777334399@kaleidoscope-education.org
SUMMARY:Hancock Open House
DESCRIPTION:Come check us out! End of year open house from 5:30-7:30 at Kaleidoscope Hancock. \nView student work\, preview classes\, get help with registration\, plan for your 2026/2027 electives\, register for summer events\, and visit with staff and other Kaleidoscope families!
URL:https://kaleidoscope-education.org/event/hancock-open-house-4-2/
LOCATION:Kaleidoscope Hancock\, 417 Quincy St\, Hancock\, 49930\, United States
END:VEVENT
BEGIN:VEVENT
DTSTART;VALUE=DATE:20260427
DTEND;VALUE=DATE:20260503
DTSTAMP:20260423T175255
CREATED:20260303T172922Z
LAST-MODIFIED:20260312T152000Z
UID:10003613-1777248000-1777766399@kaleidoscope-education.org
SUMMARY:2026/2027 Registration for Returning Families
DESCRIPTION:April 27-May 2nd is when returning students and their siblings can register for the 2026/2027 school year.
URL:https://kaleidoscope-education.org/event/2026-2027-registration-for-returning-families/
END:VEVENT
END:VCALENDAR