BEGIN:VCALENDAR
VERSION:2.0
PRODID:-//Kaleidoscope - ECPv6.15.18//NONSGML v1.0//EN
CALSCALE:GREGORIAN
METHOD:PUBLISH
X-WR-CALNAME:Kaleidoscope
X-ORIGINAL-URL:https://kaleidoscope-education.org
X-WR-CALDESC:Events for Kaleidoscope
REFRESH-INTERVAL;VALUE=DURATION:PT1H
X-Robots-Tag:noindex
X-PUBLISHED-TTL:PT1H
BEGIN:VTIMEZONE
TZID:America/Detroit
BEGIN:DAYLIGHT
TZOFFSETFROM:-0500
TZOFFSETTO:-0400
TZNAME:EDT
DTSTART:20240310T070000
END:DAYLIGHT
BEGIN:STANDARD
TZOFFSETFROM:-0400
TZOFFSETTO:-0500
TZNAME:EST
DTSTART:20241103T060000
END:STANDARD
BEGIN:DAYLIGHT
TZOFFSETFROM:-0500
TZOFFSETTO:-0400
TZNAME:EDT
DTSTART:20250309T070000
END:DAYLIGHT
BEGIN:STANDARD
TZOFFSETFROM:-0400
TZOFFSETTO:-0500
TZNAME:EST
DTSTART:20251102T060000
END:STANDARD
BEGIN:DAYLIGHT
TZOFFSETFROM:-0500
TZOFFSETTO:-0400
TZNAME:EDT
DTSTART:20260308T070000
END:DAYLIGHT
BEGIN:STANDARD
TZOFFSETFROM:-0400
TZOFFSETTO:-0500
TZNAME:EST
DTSTART:20261101T060000
END:STANDARD
END:VTIMEZONE
BEGIN:VEVENT
DTSTART;VALUE=DATE:20250428
DTEND;VALUE=DATE:20250429
DTSTAMP:20260419T215759
CREATED:20240813T194921Z
LAST-MODIFIED:20241003T132232Z
UID:10002920-1745798400-1745884799@kaleidoscope-education.org
SUMMARY:L'Anse Clubs
DESCRIPTION:See our schedule and important dates here. \nLego Club 4:00-5:30 \nArts and Crafts Club 4:00-5:30 \nClub Teen Night 6:00-8:00 \n\n10/7 Star Wars RPG\n10/14 Board Game: Quelf\n10/21 Star Wars RPG\n10/28 Mystery Dinner (Registration Required by 10/24)\n11/4 Star Wars RPG\n11/11 Board Game: Codenames\n11/18 Star Wars RPG\n12/2 Star Wars RPG\n12/9 Board Game\n12/16 Star Wars RPG
URL:https://kaleidoscope-education.org/event/lanse-clubs-2/2025-04-28/
LOCATION:Kaleidoscope L’Anse\, 830 N Main St\, L'Anse\, MI\, 49946\, United States
END:VEVENT
BEGIN:VEVENT
DTSTART;VALUE=DATE:20250427
DTEND;VALUE=DATE:20250428
DTSTAMP:20260419T215759
CREATED:20240731T191748Z
LAST-MODIFIED:20240731T191748Z
UID:10002887-1745712000-1745798399@kaleidoscope-education.org
SUMMARY:Week 13
DESCRIPTION:Semester 2\, Week 13
URL:https://kaleidoscope-education.org/event/week-13-4/
END:VEVENT
BEGIN:VEVENT
DTSTART;VALUE=DATE:20250423
DTEND;VALUE=DATE:20250424
DTSTAMP:20260419T215759
CREATED:20240903T162216Z
LAST-MODIFIED:20240903T215914Z
UID:10003152-1745366400-1745452799@kaleidoscope-education.org
SUMMARY:Arvon School
DESCRIPTION:Kaleidoscope will be teaching at the Arvon School from 10-11 each Wednesday we are in session. This week is Tae Kwon Do. \n  \n  \nArvon School Music and Tae Kwon Do Dates for 2024-25 \nSemester 1 \nWeek 1 – September 11th\, Music \nWeek 2 – September 18th\, Tae Kwon Do \nWeek 3 – September 25th\, Music \nWeek 4 – October 2nd\, Tae Kwon Do \nWeek 5 – October 9th\, Music \nWeek 6 – October 16th\, Tae Kwon Do \nWeek 7 – October 23rd\, Music \nWeek 8 – October 30th\, Tae Kwon Do \nWeek 9 – November 6th\, Music \nWeek 10 – November 13th\, Tae Kwon Do \nWeek 11 – November 20th\, Music \nNo Class on November 27th \nWeek 12 – December 4th\, Tae Kwon Do \nWeek 13 – December 11th\, Music \nWeek 14 – December 18th\, Tae Kwon Do \nNo Class on December 25th \nNo Class on January 1st\, 8th\, and 15th \n  \nSemester 2 \nWeek 1 – January 22nd\, Music \nWeek 2 – January 29th\, Tae Kwon Do \nWeek 3 – February 5th\, Music \nWeek 4 – February 12th\, Tae Kwon Do \nWeek 5 – February 19th\, Music \nWeek 6 – February 26th\, Tae Kwon Do \nWeek 7 – March 5th\, Music \nWeek 8 – March 12th\, Tae Kwon Do \nWeek 9 – March 19th\, Music \nNo Class on March 26th \nNo Class on April 2nd \nWeek 10 – April 9th\, Tae Kwon Do \nWeek 11 – April 16th\, Music \nWeek 12 – April 23rd\, Tae Kwon Do \nWeek 13 – April 30th\, Music \nWeek 14 – May 7th\, Tae Kwon Do
URL:https://kaleidoscope-education.org/event/arvon-school/2025-04-23/
END:VEVENT
BEGIN:VEVENT
DTSTART;VALUE=DATE:20250423
DTEND;VALUE=DATE:20250424
DTSTAMP:20260419T215759
CREATED:20240813T200611Z
LAST-MODIFIED:20240910T201356Z
UID:10003115-1745366400-1745452799@kaleidoscope-education.org
SUMMARY:L'Anse Classes
DESCRIPTION:See our schedule and important dates here.
URL:https://kaleidoscope-education.org/event/lanse-classes-8/2025-04-23/
LOCATION:Kaleidoscope L’Anse\, 830 N Main St\, L'Anse\, MI\, 49946\, United States
END:VEVENT
BEGIN:VEVENT
DTSTART;VALUE=DATE:20250422
DTEND;VALUE=DATE:20250423
DTSTAMP:20260419T215759
CREATED:20240813T200233Z
LAST-MODIFIED:20240910T201050Z
UID:10003059-1745280000-1745366399@kaleidoscope-education.org
SUMMARY:Hancock Classes and Club
DESCRIPTION:See our schedule and important dates here.
URL:https://kaleidoscope-education.org/event/hancock-classes-and-club/2025-04-22/
LOCATION:Kaleidoscope Hancock\, 417 Quincy St\, Hancock\, 49930\, United States
END:VEVENT
BEGIN:VEVENT
DTSTART;VALUE=DATE:20250422
DTEND;VALUE=DATE:20250423
DTSTAMP:20260419T215759
CREATED:20240813T195758Z
LAST-MODIFIED:20240910T201241Z
UID:10003003-1745280000-1745366399@kaleidoscope-education.org
SUMMARY:L'Anse Classes
DESCRIPTION:See our schedule and important dates here.
URL:https://kaleidoscope-education.org/event/lanse-classes-7/2025-04-22/
LOCATION:Kaleidoscope L’Anse\, 830 N Main St\, L'Anse\, MI\, 49946\, United States
END:VEVENT
BEGIN:VEVENT
DTSTART;VALUE=DATE:20250421
DTEND;VALUE=DATE:20250422
DTSTAMP:20260419T215759
CREATED:20250110T185115Z
LAST-MODIFIED:20250110T185501Z
UID:10002947-1745193600-1745279999@kaleidoscope-education.org
SUMMARY:Hancock Classes
DESCRIPTION:See our schedule and important dates here.
URL:https://kaleidoscope-education.org/event/hancock-classes-and-clubs-2/2025-04-21/
LOCATION:Kaleidoscope Hancock\, 417 Quincy St\, Hancock\, 49930\, United States
END:VEVENT
BEGIN:VEVENT
DTSTART;VALUE=DATE:20250421
DTEND;VALUE=DATE:20250422
DTSTAMP:20260419T215759
CREATED:20240813T194921Z
LAST-MODIFIED:20241003T132232Z
UID:10002919-1745193600-1745279999@kaleidoscope-education.org
SUMMARY:L'Anse Clubs
DESCRIPTION:See our schedule and important dates here. \nLego Club 4:00-5:30 \nArts and Crafts Club 4:00-5:30 \nClub Teen Night 6:00-8:00 \n\n10/7 Star Wars RPG\n10/14 Board Game: Quelf\n10/21 Star Wars RPG\n10/28 Mystery Dinner (Registration Required by 10/24)\n11/4 Star Wars RPG\n11/11 Board Game: Codenames\n11/18 Star Wars RPG\n12/2 Star Wars RPG\n12/9 Board Game\n12/16 Star Wars RPG
URL:https://kaleidoscope-education.org/event/lanse-clubs-2/2025-04-21/
LOCATION:Kaleidoscope L’Anse\, 830 N Main St\, L'Anse\, MI\, 49946\, United States
END:VEVENT
BEGIN:VEVENT
DTSTART;VALUE=DATE:20250420
DTEND;VALUE=DATE:20250421
DTSTAMP:20260419T215759
CREATED:20240731T191702Z
LAST-MODIFIED:20240731T191702Z
UID:10002886-1745107200-1745193599@kaleidoscope-education.org
SUMMARY:Week 12
DESCRIPTION:Semester 2\, Week 12
URL:https://kaleidoscope-education.org/event/week-12-5/
END:VEVENT
BEGIN:VEVENT
DTSTART;VALUE=DATE:20250418
DTEND;VALUE=DATE:20250419
DTSTAMP:20260419T215759
CREATED:20250305T184134Z
LAST-MODIFIED:20250305T184134Z
UID:10003238-1744934400-1745020799@kaleidoscope-education.org
SUMMARY:Waiting List Deadline
DESCRIPTION:This is the last day to get on the waiting list for the 2025/2026 school year for CLK Virtual Programs shared time students. Sign up here!
URL:https://kaleidoscope-education.org/event/waiting-list-deadline/
END:VEVENT
BEGIN:VEVENT
DTSTART;VALUE=DATE:20250416
DTEND;VALUE=DATE:20250417
DTSTAMP:20260419T215759
CREATED:20240903T222612Z
LAST-MODIFIED:20240903T222612Z
UID:10003151-1744761600-1744847999@kaleidoscope-education.org
SUMMARY:Arvon School
DESCRIPTION:Kaleidoscope will be teaching at the Arvon School from 10-11 each Wednesday we are in session. This week is Music Class. \n  \n  \nArvon School Music and Tae Kwon Do Dates for 2024-25 \nSemester 1 \nWeek 1 – September 11th\, Music \nWeek 2 – September 18th\, Tae Kwon Do \nWeek 3 – September 25th\, Music \nWeek 4 – October 2nd\, Tae Kwon Do \nWeek 5 – October 9th\, Music \nWeek 6 – October 16th\, Tae Kwon Do \nWeek 7 – October 23rd\, Music \nWeek 8 – October 30th\, Tae Kwon Do \nWeek 9 – November 6th\, Music \nWeek 10 – November 13th\, Tae Kwon Do \nWeek 11 – November 20th\, Music \nNo Class on November 27th \nWeek 12 – December 4th\, Tae Kwon Do \nWeek 13 – December 11th\, Music \nWeek 14 – December 18th\, Tae Kwon Do \nNo Class on December 25th \nNo Class on January 1st\, 8th\, and 15th \n  \nSemester 2 \nWeek 1 – January 22nd\, Music \nWeek 2 – January 29th\, Tae Kwon Do \nWeek 3 – February 5th\, Music \nWeek 4 – February 12th\, Tae Kwon Do \nWeek 5 – February 19th\, Music \nWeek 6 – February 26th\, Tae Kwon Do \nWeek 7 – March 5th\, Music \nWeek 8 – March 12th\, Tae Kwon Do \nWeek 9 – March 19th\, Music \nNo Class on March 26th \nNo Class on April 2nd \nWeek 10 – April 9th\, Tae Kwon Do \nWeek 11 – April 16th\, Music \nWeek 12 – April 23rd\, Tae Kwon Do \nWeek 13 – April 30th\, Music \nWeek 14 – May 7th\, Tae Kwon Do
URL:https://kaleidoscope-education.org/event/arvon-school-20/
END:VEVENT
BEGIN:VEVENT
DTSTART;VALUE=DATE:20250416
DTEND;VALUE=DATE:20250417
DTSTAMP:20260419T215759
CREATED:20240813T200611Z
LAST-MODIFIED:20240910T201356Z
UID:10003114-1744761600-1744847999@kaleidoscope-education.org
SUMMARY:L'Anse Classes
DESCRIPTION:See our schedule and important dates here.
URL:https://kaleidoscope-education.org/event/lanse-classes-8/2025-04-16/
LOCATION:Kaleidoscope L’Anse\, 830 N Main St\, L'Anse\, MI\, 49946\, United States
END:VEVENT
BEGIN:VEVENT
DTSTART;VALUE=DATE:20250415
DTEND;VALUE=DATE:20250416
DTSTAMP:20260419T215759
CREATED:20240813T200233Z
LAST-MODIFIED:20240910T201050Z
UID:10003058-1744675200-1744761599@kaleidoscope-education.org
SUMMARY:Hancock Classes and Club
DESCRIPTION:See our schedule and important dates here.
URL:https://kaleidoscope-education.org/event/hancock-classes-and-club/2025-04-15/
LOCATION:Kaleidoscope Hancock\, 417 Quincy St\, Hancock\, 49930\, United States
END:VEVENT
BEGIN:VEVENT
DTSTART;VALUE=DATE:20250415
DTEND;VALUE=DATE:20250416
DTSTAMP:20260419T215759
CREATED:20240813T195758Z
LAST-MODIFIED:20240910T201241Z
UID:10003002-1744675200-1744761599@kaleidoscope-education.org
SUMMARY:L'Anse Classes
DESCRIPTION:See our schedule and important dates here.
URL:https://kaleidoscope-education.org/event/lanse-classes-7/2025-04-15/
LOCATION:Kaleidoscope L’Anse\, 830 N Main St\, L'Anse\, MI\, 49946\, United States
END:VEVENT
BEGIN:VEVENT
DTSTART;VALUE=DATE:20250414
DTEND;VALUE=DATE:20250415
DTSTAMP:20260419T215759
CREATED:20250110T185115Z
LAST-MODIFIED:20250110T185501Z
UID:10002946-1744588800-1744675199@kaleidoscope-education.org
SUMMARY:Hancock Classes
DESCRIPTION:See our schedule and important dates here.
URL:https://kaleidoscope-education.org/event/hancock-classes-and-clubs-2/2025-04-14/
LOCATION:Kaleidoscope Hancock\, 417 Quincy St\, Hancock\, 49930\, United States
END:VEVENT
BEGIN:VEVENT
DTSTART;VALUE=DATE:20250414
DTEND;VALUE=DATE:20250415
DTSTAMP:20260419T215759
CREATED:20240813T194921Z
LAST-MODIFIED:20241003T132232Z
UID:10002918-1744588800-1744675199@kaleidoscope-education.org
SUMMARY:L'Anse Clubs
DESCRIPTION:See our schedule and important dates here. \nLego Club 4:00-5:30 \nArts and Crafts Club 4:00-5:30 \nClub Teen Night 6:00-8:00 \n\n10/7 Star Wars RPG\n10/14 Board Game: Quelf\n10/21 Star Wars RPG\n10/28 Mystery Dinner (Registration Required by 10/24)\n11/4 Star Wars RPG\n11/11 Board Game: Codenames\n11/18 Star Wars RPG\n12/2 Star Wars RPG\n12/9 Board Game\n12/16 Star Wars RPG
URL:https://kaleidoscope-education.org/event/lanse-clubs-2/2025-04-14/
LOCATION:Kaleidoscope L’Anse\, 830 N Main St\, L'Anse\, MI\, 49946\, United States
END:VEVENT
BEGIN:VEVENT
DTSTART;VALUE=DATE:20250413
DTEND;VALUE=DATE:20250414
DTSTAMP:20260419T215759
CREATED:20240731T191305Z
LAST-MODIFIED:20240731T191305Z
UID:10002885-1744502400-1744588799@kaleidoscope-education.org
SUMMARY:Week 11
DESCRIPTION:Semester 2\, Week 11
URL:https://kaleidoscope-education.org/event/week-11-4/
END:VEVENT
BEGIN:VEVENT
DTSTART;VALUE=DATE:20250410
DTEND;VALUE=DATE:20250411
DTSTAMP:20260419T215759
CREATED:20250320T152112Z
LAST-MODIFIED:20250320T152112Z
UID:10003244-1744272000-1744304400@kaleidoscope-education.org
SUMMARY:Board Meeting
DESCRIPTION:6:00 pm \nBoard meetings are open to the public. \nContact us to be added to the zoom meeting.
URL:https://kaleidoscope-education.org/event/board-meeting-8/2025-04-10/
END:VEVENT
BEGIN:VEVENT
DTSTART;VALUE=DATE:20250409
DTEND;VALUE=DATE:20250410
DTSTAMP:20260419T215759
CREATED:20240903T162216Z
LAST-MODIFIED:20240903T215914Z
UID:10003150-1744156800-1744243199@kaleidoscope-education.org
SUMMARY:Arvon School
DESCRIPTION:Kaleidoscope will be teaching at the Arvon School from 10-11 each Wednesday we are in session. This week is Tae Kwon Do. \n  \n  \nArvon School Music and Tae Kwon Do Dates for 2024-25 \nSemester 1 \nWeek 1 – September 11th\, Music \nWeek 2 – September 18th\, Tae Kwon Do \nWeek 3 – September 25th\, Music \nWeek 4 – October 2nd\, Tae Kwon Do \nWeek 5 – October 9th\, Music \nWeek 6 – October 16th\, Tae Kwon Do \nWeek 7 – October 23rd\, Music \nWeek 8 – October 30th\, Tae Kwon Do \nWeek 9 – November 6th\, Music \nWeek 10 – November 13th\, Tae Kwon Do \nWeek 11 – November 20th\, Music \nNo Class on November 27th \nWeek 12 – December 4th\, Tae Kwon Do \nWeek 13 – December 11th\, Music \nWeek 14 – December 18th\, Tae Kwon Do \nNo Class on December 25th \nNo Class on January 1st\, 8th\, and 15th \n  \nSemester 2 \nWeek 1 – January 22nd\, Music \nWeek 2 – January 29th\, Tae Kwon Do \nWeek 3 – February 5th\, Music \nWeek 4 – February 12th\, Tae Kwon Do \nWeek 5 – February 19th\, Music \nWeek 6 – February 26th\, Tae Kwon Do \nWeek 7 – March 5th\, Music \nWeek 8 – March 12th\, Tae Kwon Do \nWeek 9 – March 19th\, Music \nNo Class on March 26th \nNo Class on April 2nd \nWeek 10 – April 9th\, Tae Kwon Do \nWeek 11 – April 16th\, Music \nWeek 12 – April 23rd\, Tae Kwon Do \nWeek 13 – April 30th\, Music \nWeek 14 – May 7th\, Tae Kwon Do
URL:https://kaleidoscope-education.org/event/arvon-school/2025-04-09/
END:VEVENT
BEGIN:VEVENT
DTSTART;VALUE=DATE:20250409
DTEND;VALUE=DATE:20250410
DTSTAMP:20260419T215759
CREATED:20240813T200611Z
LAST-MODIFIED:20240910T201356Z
UID:10003113-1744156800-1744243199@kaleidoscope-education.org
SUMMARY:L'Anse Classes
DESCRIPTION:See our schedule and important dates here.
URL:https://kaleidoscope-education.org/event/lanse-classes-8/2025-04-09/
LOCATION:Kaleidoscope L’Anse\, 830 N Main St\, L'Anse\, MI\, 49946\, United States
END:VEVENT
BEGIN:VEVENT
DTSTART;VALUE=DATE:20250408
DTEND;VALUE=DATE:20250409
DTSTAMP:20260419T215759
CREATED:20241217T170632Z
LAST-MODIFIED:20250116T175236Z
UID:10003168-1744099200-1744131600@kaleidoscope-education.org
SUMMARY:Grownups Art Night - L'Anse
DESCRIPTION:@Kaleidoscope L’Anse\, 6:00-8:00 pm. \nTime to craft! All supplies\, coffee\, and tea provided. Bring a snack to share if you would like–totally optional. Pay at the door\, $12.\nNo registration required.  \nClick here for more info on Grownups Art Night.
URL:https://kaleidoscope-education.org/event/craft-night-lanse-2-2/2025-04-08/
LOCATION:Kaleidoscope L’Anse\, 830 N Main St\, L'Anse\, MI\, 49946\, United States
END:VEVENT
BEGIN:VEVENT
DTSTART;VALUE=DATE:20250408
DTEND;VALUE=DATE:20250409
DTSTAMP:20260419T215759
CREATED:20240813T200233Z
LAST-MODIFIED:20240910T201050Z
UID:10003057-1744070400-1744156799@kaleidoscope-education.org
SUMMARY:Hancock Classes and Club
DESCRIPTION:See our schedule and important dates here.
URL:https://kaleidoscope-education.org/event/hancock-classes-and-club/2025-04-08/
LOCATION:Kaleidoscope Hancock\, 417 Quincy St\, Hancock\, 49930\, United States
END:VEVENT
BEGIN:VEVENT
DTSTART;VALUE=DATE:20250408
DTEND;VALUE=DATE:20250409
DTSTAMP:20260419T215759
CREATED:20240813T195758Z
LAST-MODIFIED:20240910T201241Z
UID:10003001-1744070400-1744156799@kaleidoscope-education.org
SUMMARY:L'Anse Classes
DESCRIPTION:See our schedule and important dates here.
URL:https://kaleidoscope-education.org/event/lanse-classes-7/2025-04-08/
LOCATION:Kaleidoscope L’Anse\, 830 N Main St\, L'Anse\, MI\, 49946\, United States
END:VEVENT
BEGIN:VEVENT
DTSTART;VALUE=DATE:20250407
DTEND;VALUE=DATE:20250408
DTSTAMP:20260419T215759
CREATED:20250110T185115Z
LAST-MODIFIED:20250110T185501Z
UID:10002945-1743984000-1744070399@kaleidoscope-education.org
SUMMARY:Hancock Classes
DESCRIPTION:See our schedule and important dates here.
URL:https://kaleidoscope-education.org/event/hancock-classes-and-clubs-2/2025-04-07/
LOCATION:Kaleidoscope Hancock\, 417 Quincy St\, Hancock\, 49930\, United States
END:VEVENT
BEGIN:VEVENT
DTSTART;VALUE=DATE:20250407
DTEND;VALUE=DATE:20250408
DTSTAMP:20260419T215759
CREATED:20240813T194921Z
LAST-MODIFIED:20241003T132232Z
UID:10002917-1743984000-1744070399@kaleidoscope-education.org
SUMMARY:L'Anse Clubs
DESCRIPTION:See our schedule and important dates here. \nLego Club 4:00-5:30 \nArts and Crafts Club 4:00-5:30 \nClub Teen Night 6:00-8:00 \n\n10/7 Star Wars RPG\n10/14 Board Game: Quelf\n10/21 Star Wars RPG\n10/28 Mystery Dinner (Registration Required by 10/24)\n11/4 Star Wars RPG\n11/11 Board Game: Codenames\n11/18 Star Wars RPG\n12/2 Star Wars RPG\n12/9 Board Game\n12/16 Star Wars RPG
URL:https://kaleidoscope-education.org/event/lanse-clubs-2/2025-04-07/
LOCATION:Kaleidoscope L’Anse\, 830 N Main St\, L'Anse\, MI\, 49946\, United States
END:VEVENT
BEGIN:VEVENT
DTSTART;VALUE=DATE:20250406
DTEND;VALUE=DATE:20250407
DTSTAMP:20260419T215759
CREATED:20240731T191232Z
LAST-MODIFIED:20240731T191232Z
UID:10002884-1743897600-1743983999@kaleidoscope-education.org
SUMMARY:Week 10
DESCRIPTION:Semester 2\, Week 10
URL:https://kaleidoscope-education.org/event/week-10-4/
END:VEVENT
BEGIN:VEVENT
DTSTART;VALUE=DATE:20250323
DTEND;VALUE=DATE:20250406
DTSTAMP:20260419T215759
CREATED:20240731T191153Z
LAST-MODIFIED:20240731T191153Z
UID:10002883-1742688000-1743897599@kaleidoscope-education.org
SUMMARY:Spring Break
DESCRIPTION:March 23-April 5th\, Spring Break. No classes\, clubs\, or events. Office hours by appointment only. 
URL:https://kaleidoscope-education.org/event/spring-break/
END:VEVENT
BEGIN:VEVENT
DTSTART;VALUE=DATE:20250319
DTEND;VALUE=DATE:20250320
DTSTAMP:20260419T215759
CREATED:20240903T222331Z
LAST-MODIFIED:20240903T222331Z
UID:10003149-1742342400-1742428799@kaleidoscope-education.org
SUMMARY:Arvon School
DESCRIPTION:Kaleidoscope will be teaching at the Arvon School from 10-11 each Wednesday we are in session. This week is Music Class. \n  \nArvon School Music and Tae Kwon Do Dates for 2024-25 \nSemester 1 \nWeek 1 – September 11th\, Music \nWeek 2 – September 18th\, Tae Kwon Do \nWeek 3 – September 25th\, Music \nWeek 4 – October 2nd\, Tae Kwon Do \nWeek 5 – October 9th\, Music \nWeek 6 – October 16th\, Tae Kwon Do \nWeek 7 – October 23rd\, Music \nWeek 8 – October 30th\, Tae Kwon Do \nWeek 9 – November 6th\, Music \nWeek 10 – November 13th\, Tae Kwon Do \nWeek 11 – November 20th\, Music \nNo Class on November 27th \nWeek 12 – December 4th\, Tae Kwon Do \nWeek 13 – December 11th\, Music \nWeek 14 – December 18th\, Tae Kwon Do \nNo Class on December 25th \nNo Class on January 1st\, 8th\, and 15th \n  \nSemester 2 \nWeek 1 – January 22nd\, Music \nWeek 2 – January 29th\, Tae Kwon Do \nWeek 3 – February 5th\, Music \nWeek 4 – February 12th\, Tae Kwon Do \nWeek 5 – February 19th\, Music \nWeek 6 – February 26th\, Tae Kwon Do \nWeek 7 – March 5th\, Music \nWeek 8 – March 12th\, Tae Kwon Do \nWeek 9 – March 19th\, Music \nNo Class on March 26th \nNo Class on April 2nd \nWeek 10 – April 9th\, Tae Kwon Do \nWeek 11 – April 16th\, Music \nWeek 12 – April 23rd\, Tae Kwon Do \nWeek 13 – April 30th\, Music \nWeek 14 – May 7th\, Tae Kwon Do
URL:https://kaleidoscope-education.org/event/arvon-school-19/
END:VEVENT
BEGIN:VEVENT
DTSTART;VALUE=DATE:20250319
DTEND;VALUE=DATE:20250320
DTSTAMP:20260419T215759
CREATED:20240813T200611Z
LAST-MODIFIED:20240910T201356Z
UID:10003112-1742342400-1742428799@kaleidoscope-education.org
SUMMARY:L'Anse Classes
DESCRIPTION:See our schedule and important dates here.
URL:https://kaleidoscope-education.org/event/lanse-classes-8/2025-03-19/
LOCATION:Kaleidoscope L’Anse\, 830 N Main St\, L'Anse\, MI\, 49946\, United States
END:VEVENT
BEGIN:VEVENT
DTSTART;VALUE=DATE:20250318
DTEND;VALUE=DATE:20250319
DTSTAMP:20260419T215759
CREATED:20240813T200233Z
LAST-MODIFIED:20240910T201050Z
UID:10003056-1742256000-1742342399@kaleidoscope-education.org
SUMMARY:Hancock Classes and Club
DESCRIPTION:See our schedule and important dates here.
URL:https://kaleidoscope-education.org/event/hancock-classes-and-club/2025-03-18/
LOCATION:Kaleidoscope Hancock\, 417 Quincy St\, Hancock\, 49930\, United States
END:VEVENT
END:VCALENDAR