BEGIN:VCALENDAR
VERSION:2.0
PRODID:-//Kaleidoscope - ECPv6.15.18//NONSGML v1.0//EN
CALSCALE:GREGORIAN
METHOD:PUBLISH
X-WR-CALNAME:Kaleidoscope
X-ORIGINAL-URL:https://kaleidoscope-education.org
X-WR-CALDESC:Events for Kaleidoscope
REFRESH-INTERVAL;VALUE=DURATION:PT1H
X-Robots-Tag:noindex
X-PUBLISHED-TTL:PT1H
BEGIN:VTIMEZONE
TZID:America/Detroit
BEGIN:DAYLIGHT
TZOFFSETFROM:-0500
TZOFFSETTO:-0400
TZNAME:EDT
DTSTART:20240310T070000
END:DAYLIGHT
BEGIN:STANDARD
TZOFFSETFROM:-0400
TZOFFSETTO:-0500
TZNAME:EST
DTSTART:20241103T060000
END:STANDARD
BEGIN:DAYLIGHT
TZOFFSETFROM:-0500
TZOFFSETTO:-0400
TZNAME:EDT
DTSTART:20250309T070000
END:DAYLIGHT
BEGIN:STANDARD
TZOFFSETFROM:-0400
TZOFFSETTO:-0500
TZNAME:EST
DTSTART:20251102T060000
END:STANDARD
BEGIN:DAYLIGHT
TZOFFSETFROM:-0500
TZOFFSETTO:-0400
TZNAME:EDT
DTSTART:20260308T070000
END:DAYLIGHT
BEGIN:STANDARD
TZOFFSETFROM:-0400
TZOFFSETTO:-0500
TZNAME:EST
DTSTART:20261101T060000
END:STANDARD
END:VTIMEZONE
BEGIN:VEVENT
DTSTART;VALUE=DATE:20250213
DTEND;VALUE=DATE:20250214
DTSTAMP:20260422T064158
CREATED:20241030T163354Z
LAST-MODIFIED:20241105T191513Z
UID:10003181-1739433600-1739466000@kaleidoscope-education.org
SUMMARY:Open Skating
DESCRIPTION:Skate with us on the following Thursdays from 2:00-3:00 PM at Meadowbrook Arena in L’Anse: \nNovember: 14\, 21 \nDecember: 5\, 12\,19 \nJanuary: 9\, 16\, 23\, 30 \nFebruary: 6\, 13\, 20\, 27 \nThis is a free community event open to all Kaledoscope members and local families with children. Loaner skates are available from the rink at no cost.
URL:https://kaleidoscope-education.org/event/open-skating-2/2025-02-13/
LOCATION:Meadowbrook Arena\, 204 Division St\, L'Anse\, MI\, 49946\, United States
END:VEVENT
BEGIN:VEVENT
DTSTART;VALUE=DATE:20250212
DTEND;VALUE=DATE:20250213
DTSTAMP:20260422T064158
CREATED:20240903T162216Z
LAST-MODIFIED:20240903T215914Z
UID:10003144-1739318400-1739404799@kaleidoscope-education.org
SUMMARY:Arvon School
DESCRIPTION:Kaleidoscope will be teaching at the Arvon School from 10-11 each Wednesday we are in session. This week is Tae Kwon Do. \n  \n  \nArvon School Music and Tae Kwon Do Dates for 2024-25 \nSemester 1 \nWeek 1 – September 11th\, Music \nWeek 2 – September 18th\, Tae Kwon Do \nWeek 3 – September 25th\, Music \nWeek 4 – October 2nd\, Tae Kwon Do \nWeek 5 – October 9th\, Music \nWeek 6 – October 16th\, Tae Kwon Do \nWeek 7 – October 23rd\, Music \nWeek 8 – October 30th\, Tae Kwon Do \nWeek 9 – November 6th\, Music \nWeek 10 – November 13th\, Tae Kwon Do \nWeek 11 – November 20th\, Music \nNo Class on November 27th \nWeek 12 – December 4th\, Tae Kwon Do \nWeek 13 – December 11th\, Music \nWeek 14 – December 18th\, Tae Kwon Do \nNo Class on December 25th \nNo Class on January 1st\, 8th\, and 15th \n  \nSemester 2 \nWeek 1 – January 22nd\, Music \nWeek 2 – January 29th\, Tae Kwon Do \nWeek 3 – February 5th\, Music \nWeek 4 – February 12th\, Tae Kwon Do \nWeek 5 – February 19th\, Music \nWeek 6 – February 26th\, Tae Kwon Do \nWeek 7 – March 5th\, Music \nWeek 8 – March 12th\, Tae Kwon Do \nWeek 9 – March 19th\, Music \nNo Class on March 26th \nNo Class on April 2nd \nWeek 10 – April 9th\, Tae Kwon Do \nWeek 11 – April 16th\, Music \nWeek 12 – April 23rd\, Tae Kwon Do \nWeek 13 – April 30th\, Music \nWeek 14 – May 7th\, Tae Kwon Do
URL:https://kaleidoscope-education.org/event/arvon-school/2025-02-12/
LOCATION:MI
END:VEVENT
BEGIN:VEVENT
DTSTART;VALUE=DATE:20250212
DTEND;VALUE=DATE:20250213
DTSTAMP:20260422T064159
CREATED:20240813T200611Z
LAST-MODIFIED:20240910T201356Z
UID:10003107-1739318400-1739404799@kaleidoscope-education.org
SUMMARY:L'Anse Classes
DESCRIPTION:See our schedule and important dates here.
URL:https://kaleidoscope-education.org/event/lanse-classes-8/2025-02-12/
LOCATION:Kaleidoscope L’Anse\, 830 N Main St\, L'Anse\, MI\, 49946\, United States
END:VEVENT
BEGIN:VEVENT
DTSTART;VALUE=DATE:20250211
DTEND;VALUE=DATE:20250212
DTSTAMP:20260422T064159
CREATED:20241217T170632Z
LAST-MODIFIED:20250116T175236Z
UID:10003166-1739260800-1739293200@kaleidoscope-education.org
SUMMARY:Grownups Art Night - L'Anse
DESCRIPTION:@Kaleidoscope L’Anse\, 6:00-8:00 pm. \nTime to craft! All supplies\, coffee\, and tea provided. Bring a snack to share if you would like–totally optional. Pay at the door\, $12.\nNo registration required.  \nClick here for more info on Grownups Art Night.
URL:https://kaleidoscope-education.org/event/craft-night-lanse-2-2/2025-02-11/2/
LOCATION:Kaleidoscope L’Anse\, 830 N Main St\, L'Anse\, MI\, 49946\, United States
END:VEVENT
BEGIN:VEVENT
DTSTART;VALUE=DATE:20250211
DTEND;VALUE=DATE:20250212
DTSTAMP:20260422T064159
CREATED:20241217T170632Z
LAST-MODIFIED:20250116T175236Z
UID:10003219-1739232000-1739318399@kaleidoscope-education.org
SUMMARY:Grownups Art Night - L'Anse
DESCRIPTION:@Kaleidoscope L’Anse\, 6:00-8:00 pm. \nTime to craft! All supplies\, coffee\, and tea provided. Bring a snack to share if you would like–totally optional. Pay at the door\, $12.\nNo registration required.  \nClick here for more info on Grownups Art Night.
URL:https://kaleidoscope-education.org/event/craft-night-lanse-2-2/2025-02-11/1/
LOCATION:Kaleidoscope L’Anse\, 830 N Main St\, L'Anse\, MI\, 49946\, United States
END:VEVENT
BEGIN:VEVENT
DTSTART;VALUE=DATE:20250211
DTEND;VALUE=DATE:20250212
DTSTAMP:20260422T064159
CREATED:20240813T200233Z
LAST-MODIFIED:20240910T201050Z
UID:10003051-1739232000-1739318399@kaleidoscope-education.org
SUMMARY:Hancock Classes and Club
DESCRIPTION:See our schedule and important dates here.
URL:https://kaleidoscope-education.org/event/hancock-classes-and-club/2025-02-11/
LOCATION:Kaleidoscope Hancock\, 417 Quincy St\, Hancock\, 49930\, United States
END:VEVENT
BEGIN:VEVENT
DTSTART;VALUE=DATE:20250211
DTEND;VALUE=DATE:20250212
DTSTAMP:20260422T064159
CREATED:20240813T195758Z
LAST-MODIFIED:20240910T201241Z
UID:10002995-1739232000-1739318399@kaleidoscope-education.org
SUMMARY:L'Anse Classes
DESCRIPTION:See our schedule and important dates here.
URL:https://kaleidoscope-education.org/event/lanse-classes-7/2025-02-11/
LOCATION:Kaleidoscope L’Anse\, 830 N Main St\, L'Anse\, MI\, 49946\, United States
END:VEVENT
BEGIN:VEVENT
DTSTART;VALUE=DATE:20250210
DTEND;VALUE=DATE:20250211
DTSTAMP:20260422T064159
CREATED:20250110T185115Z
LAST-MODIFIED:20250110T185501Z
UID:10002939-1739145600-1739231999@kaleidoscope-education.org
SUMMARY:Hancock Classes
DESCRIPTION:See our schedule and important dates here.
URL:https://kaleidoscope-education.org/event/hancock-classes-and-clubs-2/2025-02-10/
LOCATION:Kaleidoscope Hancock\, 417 Quincy St\, Hancock\, 49930\, United States
END:VEVENT
BEGIN:VEVENT
DTSTART;VALUE=DATE:20250210
DTEND;VALUE=DATE:20250211
DTSTAMP:20260422T064159
CREATED:20240813T194921Z
LAST-MODIFIED:20241003T132232Z
UID:10002911-1739145600-1739231999@kaleidoscope-education.org
SUMMARY:L'Anse Clubs
DESCRIPTION:See our schedule and important dates here. \nLego Club 4:00-5:30 \nArts and Crafts Club 4:00-5:30 \nClub Teen Night 6:00-8:00 \n\n10/7 Star Wars RPG\n10/14 Board Game: Quelf\n10/21 Star Wars RPG\n10/28 Mystery Dinner (Registration Required by 10/24)\n11/4 Star Wars RPG\n11/11 Board Game: Codenames\n11/18 Star Wars RPG\n12/2 Star Wars RPG\n12/9 Board Game\n12/16 Star Wars RPG
URL:https://kaleidoscope-education.org/event/lanse-clubs-2/2025-02-10/
LOCATION:Kaleidoscope L’Anse\, 830 N Main St\, L'Anse\, MI\, 49946\, United States
END:VEVENT
BEGIN:VEVENT
DTSTART;VALUE=DATE:20250209
DTEND;VALUE=DATE:20250210
DTSTAMP:20260422T064159
CREATED:20240731T190621Z
LAST-MODIFIED:20240731T190621Z
UID:10002877-1739059200-1739145599@kaleidoscope-education.org
SUMMARY:Week 4
DESCRIPTION:Semester 2\, Week 4
URL:https://kaleidoscope-education.org/event/week-4-3/
LOCATION:MI
END:VEVENT
BEGIN:VEVENT
DTSTART;VALUE=DATE:20250206
DTEND;VALUE=DATE:20250207
DTSTAMP:20260422T064159
CREATED:20241030T163354Z
LAST-MODIFIED:20241105T191513Z
UID:10003180-1738828800-1738861200@kaleidoscope-education.org
SUMMARY:Open Skating
DESCRIPTION:Skate with us on the following Thursdays from 2:00-3:00 PM at Meadowbrook Arena in L’Anse: \nNovember: 14\, 21 \nDecember: 5\, 12\,19 \nJanuary: 9\, 16\, 23\, 30 \nFebruary: 6\, 13\, 20\, 27 \nThis is a free community event open to all Kaledoscope members and local families with children. Loaner skates are available from the rink at no cost.
URL:https://kaleidoscope-education.org/event/open-skating-2/2025-02-06/
LOCATION:Meadowbrook Arena\, 204 Division St\, L'Anse\, MI\, 49946\, United States
END:VEVENT
BEGIN:VEVENT
DTSTART;VALUE=DATE:20250205
DTEND;VALUE=DATE:20250206
DTSTAMP:20260422T064159
CREATED:20240903T220737Z
LAST-MODIFIED:20240903T220737Z
UID:10003143-1738713600-1738799999@kaleidoscope-education.org
SUMMARY:Arvon School
DESCRIPTION:Kaleidoscope will be teaching at the Arvon School from 10-11 each Wednesday we are in session. This week is Music Class. \n  \n  \nArvon School Music and Tae Kwon Do Dates for 2024-25 \nSemester 1 \nWeek 1 – September 11th\, Music \nWeek 2 – September 18th\, Tae Kwon Do \nWeek 3 – September 25th\, Music \nWeek 4 – October 2nd\, Tae Kwon Do \nWeek 5 – October 9th\, Music \nWeek 6 – October 16th\, Tae Kwon Do \nWeek 7 – October 23rd\, Music \nWeek 8 – October 30th\, Tae Kwon Do \nWeek 9 – November 6th\, Music \nWeek 10 – November 13th\, Tae Kwon Do \nWeek 11 – November 20th\, Music \nNo Class on November 27th \nWeek 12 – December 4th\, Tae Kwon Do \nWeek 13 – December 11th\, Music \nWeek 14 – December 18th\, Tae Kwon Do \nNo Class on December 25th \nNo Class on January 1st\, 8th\, and 15th \n  \nSemester 2 \nWeek 1 – January 22nd\, Music \nWeek 2 – January 29th\, Tae Kwon Do \nWeek 3 – February 5th\, Music \nWeek 4 – February 12th\, Tae Kwon Do \nWeek 5 – February 19th\, Music \nWeek 6 – February 26th\, Tae Kwon Do \nWeek 7 – March 5th\, Music \nWeek 8 – March 12th\, Tae Kwon Do \nWeek 9 – March 19th\, Music \nNo Class on March 26th \nNo Class on April 2nd \nWeek 10 – April 9th\, Tae Kwon Do \nWeek 11 – April 16th\, Music \nWeek 12 – April 23rd\, Tae Kwon Do \nWeek 13 – April 30th\, Music \nWeek 14 – May 7th\, Tae Kwon Do
URL:https://kaleidoscope-education.org/event/arvon-school-16/
LOCATION:MI
END:VEVENT
BEGIN:VEVENT
DTSTART;VALUE=DATE:20250205
DTEND;VALUE=DATE:20250206
DTSTAMP:20260422T064159
CREATED:20240813T200611Z
LAST-MODIFIED:20240910T201356Z
UID:10003106-1738713600-1738799999@kaleidoscope-education.org
SUMMARY:L'Anse Classes
DESCRIPTION:See our schedule and important dates here.
URL:https://kaleidoscope-education.org/event/lanse-classes-8/2025-02-05/
LOCATION:Kaleidoscope L’Anse\, 830 N Main St\, L'Anse\, MI\, 49946\, United States
END:VEVENT
BEGIN:VEVENT
DTSTART;VALUE=DATE:20250204
DTEND;VALUE=DATE:20250205
DTSTAMP:20260422T064159
CREATED:20240813T200233Z
LAST-MODIFIED:20240910T201050Z
UID:10003050-1738627200-1738713599@kaleidoscope-education.org
SUMMARY:Hancock Classes and Club
DESCRIPTION:See our schedule and important dates here.
URL:https://kaleidoscope-education.org/event/hancock-classes-and-club/2025-02-04/
LOCATION:Kaleidoscope Hancock\, 417 Quincy St\, Hancock\, 49930\, United States
END:VEVENT
BEGIN:VEVENT
DTSTART;VALUE=DATE:20250204
DTEND;VALUE=DATE:20250205
DTSTAMP:20260422T064159
CREATED:20240813T195758Z
LAST-MODIFIED:20240910T201241Z
UID:10002994-1738627200-1738713599@kaleidoscope-education.org
SUMMARY:L'Anse Classes
DESCRIPTION:See our schedule and important dates here.
URL:https://kaleidoscope-education.org/event/lanse-classes-7/2025-02-04/
LOCATION:Kaleidoscope L’Anse\, 830 N Main St\, L'Anse\, MI\, 49946\, United States
END:VEVENT
BEGIN:VEVENT
DTSTART;VALUE=DATE:20250203
DTEND;VALUE=DATE:20250204
DTSTAMP:20260422T064159
CREATED:20250110T185115Z
LAST-MODIFIED:20250110T185501Z
UID:10002938-1738540800-1738627199@kaleidoscope-education.org
SUMMARY:Hancock Classes
DESCRIPTION:See our schedule and important dates here.
URL:https://kaleidoscope-education.org/event/hancock-classes-and-clubs-2/2025-02-03/
LOCATION:Kaleidoscope Hancock\, 417 Quincy St\, Hancock\, 49930\, United States
END:VEVENT
BEGIN:VEVENT
DTSTART;VALUE=DATE:20250203
DTEND;VALUE=DATE:20250204
DTSTAMP:20260422T064159
CREATED:20240813T194921Z
LAST-MODIFIED:20241003T132232Z
UID:10002910-1738540800-1738627199@kaleidoscope-education.org
SUMMARY:L'Anse Clubs
DESCRIPTION:See our schedule and important dates here. \nLego Club 4:00-5:30 \nArts and Crafts Club 4:00-5:30 \nClub Teen Night 6:00-8:00 \n\n10/7 Star Wars RPG\n10/14 Board Game: Quelf\n10/21 Star Wars RPG\n10/28 Mystery Dinner (Registration Required by 10/24)\n11/4 Star Wars RPG\n11/11 Board Game: Codenames\n11/18 Star Wars RPG\n12/2 Star Wars RPG\n12/9 Board Game\n12/16 Star Wars RPG
URL:https://kaleidoscope-education.org/event/lanse-clubs-2/2025-02-03/
LOCATION:Kaleidoscope L’Anse\, 830 N Main St\, L'Anse\, MI\, 49946\, United States
END:VEVENT
BEGIN:VEVENT
DTSTART;VALUE=DATE:20250202
DTEND;VALUE=DATE:20250203
DTSTAMP:20260422T064159
CREATED:20240731T190537Z
LAST-MODIFIED:20240731T190537Z
UID:10002876-1738454400-1738540799@kaleidoscope-education.org
SUMMARY:Week 3
DESCRIPTION:Semester 2\, Week 3
URL:https://kaleidoscope-education.org/event/week-3-5/
LOCATION:MI
END:VEVENT
BEGIN:VEVENT
DTSTART;VALUE=DATE:20250130
DTEND;VALUE=DATE:20250131
DTSTAMP:20260422T064159
CREATED:20241030T163354Z
LAST-MODIFIED:20241105T191513Z
UID:10003179-1738224000-1738256400@kaleidoscope-education.org
SUMMARY:Open Skating
DESCRIPTION:Skate with us on the following Thursdays from 2:00-3:00 PM at Meadowbrook Arena in L’Anse: \nNovember: 14\, 21 \nDecember: 5\, 12\,19 \nJanuary: 9\, 16\, 23\, 30 \nFebruary: 6\, 13\, 20\, 27 \nThis is a free community event open to all Kaledoscope members and local families with children. Loaner skates are available from the rink at no cost.
URL:https://kaleidoscope-education.org/event/open-skating-2/2025-01-30/
LOCATION:Meadowbrook Arena\, 204 Division St\, L'Anse\, MI\, 49946\, United States
END:VEVENT
BEGIN:VEVENT
DTSTART;VALUE=DATE:20250129
DTEND;VALUE=DATE:20250130
DTSTAMP:20260422T064159
CREATED:20240903T162216Z
LAST-MODIFIED:20240903T215914Z
UID:10003142-1738108800-1738195199@kaleidoscope-education.org
SUMMARY:Arvon School
DESCRIPTION:Kaleidoscope will be teaching at the Arvon School from 10-11 each Wednesday we are in session. This week is Tae Kwon Do. \n  \n  \nArvon School Music and Tae Kwon Do Dates for 2024-25 \nSemester 1 \nWeek 1 – September 11th\, Music \nWeek 2 – September 18th\, Tae Kwon Do \nWeek 3 – September 25th\, Music \nWeek 4 – October 2nd\, Tae Kwon Do \nWeek 5 – October 9th\, Music \nWeek 6 – October 16th\, Tae Kwon Do \nWeek 7 – October 23rd\, Music \nWeek 8 – October 30th\, Tae Kwon Do \nWeek 9 – November 6th\, Music \nWeek 10 – November 13th\, Tae Kwon Do \nWeek 11 – November 20th\, Music \nNo Class on November 27th \nWeek 12 – December 4th\, Tae Kwon Do \nWeek 13 – December 11th\, Music \nWeek 14 – December 18th\, Tae Kwon Do \nNo Class on December 25th \nNo Class on January 1st\, 8th\, and 15th \n  \nSemester 2 \nWeek 1 – January 22nd\, Music \nWeek 2 – January 29th\, Tae Kwon Do \nWeek 3 – February 5th\, Music \nWeek 4 – February 12th\, Tae Kwon Do \nWeek 5 – February 19th\, Music \nWeek 6 – February 26th\, Tae Kwon Do \nWeek 7 – March 5th\, Music \nWeek 8 – March 12th\, Tae Kwon Do \nWeek 9 – March 19th\, Music \nNo Class on March 26th \nNo Class on April 2nd \nWeek 10 – April 9th\, Tae Kwon Do \nWeek 11 – April 16th\, Music \nWeek 12 – April 23rd\, Tae Kwon Do \nWeek 13 – April 30th\, Music \nWeek 14 – May 7th\, Tae Kwon Do
URL:https://kaleidoscope-education.org/event/arvon-school/2025-01-29/
LOCATION:MI
END:VEVENT
BEGIN:VEVENT
DTSTART;VALUE=DATE:20250129
DTEND;VALUE=DATE:20250130
DTSTAMP:20260422T064159
CREATED:20240813T200611Z
LAST-MODIFIED:20240910T201356Z
UID:10003105-1738108800-1738195199@kaleidoscope-education.org
SUMMARY:L'Anse Classes
DESCRIPTION:See our schedule and important dates here.
URL:https://kaleidoscope-education.org/event/lanse-classes-8/2025-01-29/
LOCATION:Kaleidoscope L’Anse\, 830 N Main St\, L'Anse\, MI\, 49946\, United States
END:VEVENT
BEGIN:VEVENT
DTSTART;VALUE=DATE:20250128
DTEND;VALUE=DATE:20250129
DTSTAMP:20260422T064159
CREATED:20240813T200233Z
LAST-MODIFIED:20240910T201050Z
UID:10003049-1738022400-1738108799@kaleidoscope-education.org
SUMMARY:Hancock Classes and Club
DESCRIPTION:See our schedule and important dates here.
URL:https://kaleidoscope-education.org/event/hancock-classes-and-club/2025-01-28/
LOCATION:Kaleidoscope Hancock\, 417 Quincy St\, Hancock\, 49930\, United States
END:VEVENT
BEGIN:VEVENT
DTSTART;VALUE=DATE:20250128
DTEND;VALUE=DATE:20250129
DTSTAMP:20260422T064159
CREATED:20240813T195758Z
LAST-MODIFIED:20240910T201241Z
UID:10002993-1738022400-1738108799@kaleidoscope-education.org
SUMMARY:L'Anse Classes
DESCRIPTION:See our schedule and important dates here.
URL:https://kaleidoscope-education.org/event/lanse-classes-7/2025-01-28/
LOCATION:Kaleidoscope L’Anse\, 830 N Main St\, L'Anse\, MI\, 49946\, United States
END:VEVENT
BEGIN:VEVENT
DTSTART;VALUE=DATE:20250127
DTEND;VALUE=DATE:20250128
DTSTAMP:20260422T064159
CREATED:20250110T185917Z
LAST-MODIFIED:20250122T201242Z
UID:10003194-1737936000-1738022399@kaleidoscope-education.org
SUMMARY:Hancock Clubs
DESCRIPTION:See our schedule and important dates here. \nAll Hancock Clubs meet ONLY on the following dates: \n\n1/27\n2/24\n3/17\n4/28
URL:https://kaleidoscope-education.org/event/hancock-clubs/2025-01-27/
LOCATION:Kaleidoscope Hancock\, 417 Quincy St\, Hancock\, 49930\, United States
END:VEVENT
BEGIN:VEVENT
DTSTART;VALUE=DATE:20250127
DTEND;VALUE=DATE:20250128
DTSTAMP:20260422T064159
CREATED:20250110T185115Z
LAST-MODIFIED:20250110T185501Z
UID:10002937-1737936000-1738022399@kaleidoscope-education.org
SUMMARY:Hancock Classes
DESCRIPTION:See our schedule and important dates here.
URL:https://kaleidoscope-education.org/event/hancock-classes-and-clubs-2/2025-01-27/
LOCATION:Kaleidoscope Hancock\, 417 Quincy St\, Hancock\, 49930\, United States
END:VEVENT
BEGIN:VEVENT
DTSTART;VALUE=DATE:20250127
DTEND;VALUE=DATE:20250128
DTSTAMP:20260422T064159
CREATED:20240813T194921Z
LAST-MODIFIED:20241003T132232Z
UID:10002909-1737936000-1738022399@kaleidoscope-education.org
SUMMARY:L'Anse Clubs
DESCRIPTION:See our schedule and important dates here. \nLego Club 4:00-5:30 \nArts and Crafts Club 4:00-5:30 \nClub Teen Night 6:00-8:00 \n\n10/7 Star Wars RPG\n10/14 Board Game: Quelf\n10/21 Star Wars RPG\n10/28 Mystery Dinner (Registration Required by 10/24)\n11/4 Star Wars RPG\n11/11 Board Game: Codenames\n11/18 Star Wars RPG\n12/2 Star Wars RPG\n12/9 Board Game\n12/16 Star Wars RPG
URL:https://kaleidoscope-education.org/event/lanse-clubs-2/2025-01-27/
LOCATION:Kaleidoscope L’Anse\, 830 N Main St\, L'Anse\, MI\, 49946\, United States
END:VEVENT
BEGIN:VEVENT
DTSTART;VALUE=DATE:20250126
DTEND;VALUE=DATE:20250127
DTSTAMP:20260422T064159
CREATED:20240731T190436Z
LAST-MODIFIED:20240731T190436Z
UID:10002875-1737849600-1737935999@kaleidoscope-education.org
SUMMARY:Week 2
DESCRIPTION:Semester 2\, Week 2
URL:https://kaleidoscope-education.org/event/week-2-4/
LOCATION:MI
END:VEVENT
BEGIN:VEVENT
DTSTART;VALUE=DATE:20250123
DTEND;VALUE=DATE:20250124
DTSTAMP:20260422T064159
CREATED:20241030T163354Z
LAST-MODIFIED:20241105T191513Z
UID:10003178-1737619200-1737651600@kaleidoscope-education.org
SUMMARY:Open Skating
DESCRIPTION:Skate with us on the following Thursdays from 2:00-3:00 PM at Meadowbrook Arena in L’Anse: \nNovember: 14\, 21 \nDecember: 5\, 12\,19 \nJanuary: 9\, 16\, 23\, 30 \nFebruary: 6\, 13\, 20\, 27 \nThis is a free community event open to all Kaledoscope members and local families with children. Loaner skates are available from the rink at no cost.
URL:https://kaleidoscope-education.org/event/open-skating-2/2025-01-23/
LOCATION:Meadowbrook Arena\, 204 Division St\, L'Anse\, MI\, 49946\, United States
END:VEVENT
BEGIN:VEVENT
DTSTART;VALUE=DATE:20250122
DTEND;VALUE=DATE:20250123
DTSTAMP:20260422T064159
CREATED:20240903T220138Z
LAST-MODIFIED:20240903T220138Z
UID:10003141-1737504000-1737590399@kaleidoscope-education.org
SUMMARY:Arvon School
DESCRIPTION:Kaleidoscope will be teaching at the Arvon School from 10-11 each Wednesday we are in session. This week is Music Class. \n  \n  \nArvon School Music and Tae Kwon Do Dates for 2024-25 \nSemester 1 \nWeek 1 – September 11th\, Music \nWeek 2 – September 18th\, Tae Kwon Do \nWeek 3 – September 25th\, Music \nWeek 4 – October 2nd\, Tae Kwon Do \nWeek 5 – October 9th\, Music \nWeek 6 – October 16th\, Tae Kwon Do \nWeek 7 – October 23rd\, Music \nWeek 8 – October 30th\, Tae Kwon Do \nWeek 9 – November 6th\, Music \nWeek 10 – November 13th\, Tae Kwon Do \nWeek 11 – November 20th\, Music \nNo Class on November 27th \nWeek 12 – December 4th\, Tae Kwon Do \nWeek 13 – December 11th\, Music \nWeek 14 – December 18th\, Tae Kwon Do \nNo Class on December 25th \nNo Class on January 1st\, 8th\, and 15th \n  \nSemester 2 \nWeek 1 – January 22nd\, Music \nWeek 2 – January 29th\, Tae Kwon Do \nWeek 3 – February 5th\, Music \nWeek 4 – February 12th\, Tae Kwon Do \nWeek 5 – February 19th\, Music \nWeek 6 – February 26th\, Tae Kwon Do \nWeek 7 – March 5th\, Music \nWeek 8 – March 12th\, Tae Kwon Do \nWeek 9 – March 19th\, Music \nNo Class on March 26th \nNo Class on April 2nd \nWeek 10 – April 9th\, Tae Kwon Do \nWeek 11 – April 16th\, Music \nWeek 12 – April 23rd\, Tae Kwon Do \nWeek 13 – April 30th\, Music \nWeek 14 – May 7th\, Tae Kwon Do
URL:https://kaleidoscope-education.org/event/arvon-school-15/
LOCATION:MI
END:VEVENT
BEGIN:VEVENT
DTSTART;VALUE=DATE:20250122
DTEND;VALUE=DATE:20250123
DTSTAMP:20260422T064159
CREATED:20240813T200611Z
LAST-MODIFIED:20240910T201356Z
UID:10003104-1737504000-1737590399@kaleidoscope-education.org
SUMMARY:L'Anse Classes
DESCRIPTION:See our schedule and important dates here.
URL:https://kaleidoscope-education.org/event/lanse-classes-8/2025-01-22/
LOCATION:Kaleidoscope L’Anse\, 830 N Main St\, L'Anse\, MI\, 49946\, United States
END:VEVENT
END:VCALENDAR