BEGIN:VCALENDAR
VERSION:2.0
PRODID:-//Kaleidoscope - ECPv6.15.18//NONSGML v1.0//EN
CALSCALE:GREGORIAN
METHOD:PUBLISH
X-WR-CALNAME:Kaleidoscope
X-ORIGINAL-URL:https://kaleidoscope-education.org
X-WR-CALDESC:Events for Kaleidoscope
REFRESH-INTERVAL;VALUE=DURATION:PT1H
X-Robots-Tag:noindex
X-PUBLISHED-TTL:PT1H
BEGIN:VTIMEZONE
TZID:America/Detroit
BEGIN:DAYLIGHT
TZOFFSETFROM:-0500
TZOFFSETTO:-0400
TZNAME:EDT
DTSTART:20230312T070000
END:DAYLIGHT
BEGIN:STANDARD
TZOFFSETFROM:-0400
TZOFFSETTO:-0500
TZNAME:EST
DTSTART:20231105T060000
END:STANDARD
BEGIN:DAYLIGHT
TZOFFSETFROM:-0500
TZOFFSETTO:-0400
TZNAME:EDT
DTSTART:20240310T070000
END:DAYLIGHT
BEGIN:STANDARD
TZOFFSETFROM:-0400
TZOFFSETTO:-0500
TZNAME:EST
DTSTART:20241103T060000
END:STANDARD
BEGIN:DAYLIGHT
TZOFFSETFROM:-0500
TZOFFSETTO:-0400
TZNAME:EDT
DTSTART:20250309T070000
END:DAYLIGHT
BEGIN:STANDARD
TZOFFSETFROM:-0400
TZOFFSETTO:-0500
TZNAME:EST
DTSTART:20251102T060000
END:STANDARD
END:VTIMEZONE
BEGIN:VEVENT
DTSTART;VALUE=DATE:20241204
DTEND;VALUE=DATE:20241205
DTSTAMP:20260422T135749
CREATED:20240903T215602Z
LAST-MODIFIED:20240903T215602Z
UID:10003138-1733270400-1733356799@kaleidoscope-education.org
SUMMARY:Arvon School
DESCRIPTION:Kaleidoscope will be teaching at the Arvon School from 10-11 each Wednesday we are in session. This week is Tae Kwon Do. \n  \n  \nArvon School Music and Tae Kwon Do Dates for 2024-25 \nSemester 1 \nWeek 1 – September 11th\, Music \nWeek 2 – September 18th\, Tae Kwon Do \nWeek 3 – September 25th\, Music \nWeek 4 – October 2nd\, Tae Kwon Do \nWeek 5 – October 9th\, Music \nWeek 6 – October 16th\, Tae Kwon Do \nWeek 7 – October 23rd\, Music \nWeek 8 – October 30th\, Tae Kwon Do \nWeek 9 – November 6th\, Music \nWeek 10 – November 13th\, Tae Kwon Do \nWeek 11 – November 20th\, Music \nNo Class on November 27th \nWeek 12 – December 4th\, Tae Kwon Do \nWeek 13 – December 11th\, Music \nWeek 14 – December 18th\, Tae Kwon Do \nNo Class on December 25th \nNo Class on January 1st\, 8th\, and 15th \n  \nSemester 2 \nWeek 1 – January 22nd\, Music \nWeek 2 – January 29th\, Tae Kwon Do \nWeek 3 – February 5th\, Music \nWeek 4 – February 12th\, Tae Kwon Do \nWeek 5 – February 19th\, Music \nWeek 6 – February 26th\, Tae Kwon Do \nWeek 7 – March 5th\, Music \nWeek 8 – March 12th\, Tae Kwon Do \nWeek 9 – March 19th\, Music \nNo Class on March 26th \nNo Class on April 2nd \nWeek 10 – April 9th\, Tae Kwon Do \nWeek 11 – April 16th\, Music \nWeek 12 – April 23rd\, Tae Kwon Do \nWeek 13 – April 30th\, Music \nWeek 14 – May 7th\, Tae Kwon Do
URL:https://kaleidoscope-education.org/event/arvon-school-13/
END:VEVENT
BEGIN:VEVENT
DTSTART;VALUE=DATE:20241204
DTEND;VALUE=DATE:20241205
DTSTAMP:20260422T135749
CREATED:20240813T200611Z
LAST-MODIFIED:20240910T201356Z
UID:10003101-1733270400-1733356799@kaleidoscope-education.org
SUMMARY:L'Anse Classes
DESCRIPTION:See our schedule and important dates here.
URL:https://kaleidoscope-education.org/event/lanse-classes-8/2024-12-04/
LOCATION:Kaleidoscope L’Anse\, 830 N Main St\, L'Anse\, MI\, 49946\, United States
END:VEVENT
BEGIN:VEVENT
DTSTART;VALUE=DATE:20241203
DTEND;VALUE=DATE:20241204
DTSTAMP:20260422T135749
CREATED:20241122T223408Z
LAST-MODIFIED:20241122T223408Z
UID:10003188-1733184000-1733270399@kaleidoscope-education.org
SUMMARY:Giving Tuesday
DESCRIPTION:Please partner with Kaleidoscope on this international day of giving. For more information\, click here.
URL:https://kaleidoscope-education.org/event/giving-tuesday-2/
END:VEVENT
BEGIN:VEVENT
DTSTART;VALUE=DATE:20241203
DTEND;VALUE=DATE:20241204
DTSTAMP:20260422T135749
CREATED:20241023T182016Z
LAST-MODIFIED:20241112T201023Z
UID:10003164-1733184000-1733270399@kaleidoscope-education.org
SUMMARY:Grownups Art Night - L'Anse
DESCRIPTION:Tues 12/3 @Kaleidoscope L’Anse\, 6:00-8:00 pm. \nTime to craft! All supplies\, coffee\, and tea provided. Bring a snack to share if you would like–totally optional. Pay at the door\, $12.\nNo registration required. 
URL:https://kaleidoscope-education.org/event/craft-night-lanse-2/
LOCATION:Kaleidoscope L’Anse\, 830 N Main St\, L'Anse\, MI\, 49946\, United States
END:VEVENT
BEGIN:VEVENT
DTSTART;VALUE=DATE:20241203
DTEND;VALUE=DATE:20241204
DTSTAMP:20260422T135749
CREATED:20240813T200233Z
LAST-MODIFIED:20240910T201050Z
UID:10003045-1733184000-1733270399@kaleidoscope-education.org
SUMMARY:Hancock Classes and Club
DESCRIPTION:See our schedule and important dates here.
URL:https://kaleidoscope-education.org/event/hancock-classes-and-club/2024-12-03/
LOCATION:Kaleidoscope Hancock\, 417 Quincy St\, Hancock\, 49930\, United States
END:VEVENT
BEGIN:VEVENT
DTSTART;VALUE=DATE:20241203
DTEND;VALUE=DATE:20241204
DTSTAMP:20260422T135749
CREATED:20240813T195758Z
LAST-MODIFIED:20240910T201241Z
UID:10002989-1733184000-1733270399@kaleidoscope-education.org
SUMMARY:L'Anse Classes
DESCRIPTION:See our schedule and important dates here.
URL:https://kaleidoscope-education.org/event/lanse-classes-7/2024-12-03/
LOCATION:Kaleidoscope L’Anse\, 830 N Main St\, L'Anse\, MI\, 49946\, United States
END:VEVENT
BEGIN:VEVENT
DTSTART;VALUE=DATE:20241202
DTEND;VALUE=DATE:20241203
DTSTAMP:20260422T135749
CREATED:20241122T224725Z
LAST-MODIFIED:20241122T224725Z
UID:10003189-1733097600-1733183999@kaleidoscope-education.org
SUMMARY:Bag Decorating for LBFE
DESCRIPTION:Decorate a bag! Little Brothers Friends of the Elderly will use our festively-decorated bags to deliver food to the elderly in our community. Bags will be available December 2-December 18 in the hallway outside Kaleidoscope Hancock.
URL:https://kaleidoscope-education.org/event/bag-decorating-for-lbfe/
LOCATION:Kaleidoscope Hancock\, 417 Quincy St\, Hancock\, 49930\, United States
END:VEVENT
BEGIN:VEVENT
DTSTART;VALUE=DATE:20241202
DTEND;VALUE=DATE:20241203
DTSTAMP:20260422T135749
CREATED:20240813T195555Z
LAST-MODIFIED:20241003T132630Z
UID:10002933-1733097600-1733183999@kaleidoscope-education.org
SUMMARY:Hancock Classes and Clubs
DESCRIPTION:See our schedule and important dates here. \nClub Teen Night meets ONLY on the following dates (from 5:30-7:30): \n\n10/28 Mystery Dinner: Registration Required by 10/24\n11/18\n1/27\n2/24\n3/17\n4/28
URL:https://kaleidoscope-education.org/event/hancock-classes-and-clubs/2024-12-02/
LOCATION:Kaleidoscope Hancock\, 417 Quincy St\, Hancock\, 49930\, United States
END:VEVENT
BEGIN:VEVENT
DTSTART;VALUE=DATE:20241202
DTEND;VALUE=DATE:20241203
DTSTAMP:20260422T135749
CREATED:20240813T194921Z
LAST-MODIFIED:20241003T132232Z
UID:10002905-1733097600-1733183999@kaleidoscope-education.org
SUMMARY:L'Anse Clubs
DESCRIPTION:See our schedule and important dates here. \nLego Club 4:00-5:30 \nArts and Crafts Club 4:00-5:30 \nClub Teen Night 6:00-8:00 \n\n10/7 Star Wars RPG\n10/14 Board Game: Quelf\n10/21 Star Wars RPG\n10/28 Mystery Dinner (Registration Required by 10/24)\n11/4 Star Wars RPG\n11/11 Board Game: Codenames\n11/18 Star Wars RPG\n12/2 Star Wars RPG\n12/9 Board Game\n12/16 Star Wars RPG
URL:https://kaleidoscope-education.org/event/lanse-clubs-2/2024-12-02/
LOCATION:Kaleidoscope L’Anse\, 830 N Main St\, L'Anse\, MI\, 49946\, United States
END:VEVENT
BEGIN:VEVENT
DTSTART;VALUE=DATE:20241201
DTEND;VALUE=DATE:20241202
DTSTAMP:20260422T135749
CREATED:20240731T184940Z
LAST-MODIFIED:20240731T184940Z
UID:10002869-1733011200-1733097599@kaleidoscope-education.org
SUMMARY:Week 12
DESCRIPTION:Semester 1\, Week 12
URL:https://kaleidoscope-education.org/event/week-12-3/
END:VEVENT
BEGIN:VEVENT
DTSTART;VALUE=DATE:20241124
DTEND;VALUE=DATE:20241201
DTSTAMP:20260422T135749
CREATED:20240731T185550Z
LAST-MODIFIED:20240731T185550Z
UID:10002872-1732406400-1733011199@kaleidoscope-education.org
SUMMARY:Fall Break
DESCRIPTION:Nov 24-30\, Fall Break. No classes\, clubs\, or events. Offices are closed.
URL:https://kaleidoscope-education.org/event/fall-break-2/
END:VEVENT
BEGIN:VEVENT
DTSTART;VALUE=DATE:20241121
DTEND;VALUE=DATE:20241122
DTSTAMP:20260422T135749
CREATED:20241030T163354Z
LAST-MODIFIED:20241105T191513Z
UID:10003172-1732176000-1732208400@kaleidoscope-education.org
SUMMARY:Open Skating
DESCRIPTION:Skate with us on the following Thursdays from 2:00-3:00 PM at Meadowbrook Arena in L’Anse: \nNovember: 14\, 21 \nDecember: 5\, 12\,19 \nJanuary: 9\, 16\, 23\, 30 \nFebruary: 6\, 13\, 20\, 27 \nThis is a free community event open to all Kaledoscope members and local families with children. Loaner skates are available from the rink at no cost.
URL:https://kaleidoscope-education.org/event/open-skating-2/2024-11-21/
LOCATION:Meadowbrook Arena\, 204 Division St\, L'Anse\, MI\, 49946\, United States
END:VEVENT
BEGIN:VEVENT
DTSTART;VALUE=DATE:20241121
DTEND;VALUE=DATE:20241122
DTSTAMP:20260422T135749
CREATED:20240927T200208Z
LAST-MODIFIED:20241118T210703Z
UID:10003159-1732147200-1732233599@kaleidoscope-education.org
SUMMARY:Board Meeting
DESCRIPTION:7:00-9:00 pm. \nBoard meetings are open to the public. \nContact us to be added to the zoom meeting.
URL:https://kaleidoscope-education.org/event/board-meeting-6/
END:VEVENT
BEGIN:VEVENT
DTSTART;VALUE=DATE:20241120
DTEND;VALUE=DATE:20241121
DTSTAMP:20260422T135749
CREATED:20240903T215349Z
LAST-MODIFIED:20240903T215350Z
UID:10003137-1732060800-1732147199@kaleidoscope-education.org
SUMMARY:Arvon School
DESCRIPTION:Kaleidoscope will be teaching at the Arvon School from 10-11 each Wednesday we are in session. This week is Music Class. \n  \n  \nArvon School Music and Tae Kwon Do Dates for 2024-25 \nSemester 1 \nWeek 1 – September 11th\, Music \nWeek 2 – September 18th\, Tae Kwon Do \nWeek 3 – September 25th\, Music \nWeek 4 – October 2nd\, Tae Kwon Do \nWeek 5 – October 9th\, Music \nWeek 6 – October 16th\, Tae Kwon Do \nWeek 7 – October 23rd\, Music \nWeek 8 – October 30th\, Tae Kwon Do \nWeek 9 – November 6th\, Music \nWeek 10 – November 13th\, Tae Kwon Do \nWeek 11 – November 20th\, Music \nNo Class on November 27th \nWeek 12 – December 4th\, Tae Kwon Do \nWeek 13 – December 11th\, Music \nWeek 14 – December 18th\, Tae Kwon Do \nNo Class on December 25th \nNo Class on January 1st\, 8th\, and 15th \n  \nSemester 2 \nWeek 1 – January 22nd\, Music \nWeek 2 – January 29th\, Tae Kwon Do \nWeek 3 – February 5th\, Music \nWeek 4 – February 12th\, Tae Kwon Do \nWeek 5 – February 19th\, Music \nWeek 6 – February 26th\, Tae Kwon Do \nWeek 7 – March 5th\, Music \nWeek 8 – March 12th\, Tae Kwon Do \nWeek 9 – March 19th\, Music \nNo Class on March 26th \nNo Class on April 2nd \nWeek 10 – April 9th\, Tae Kwon Do \nWeek 11 – April 16th\, Music \nWeek 12 – April 23rd\, Tae Kwon Do \nWeek 13 – April 30th\, Music \nWeek 14 – May 7th\, Tae Kwon Do
URL:https://kaleidoscope-education.org/event/arvon-school-12/
END:VEVENT
BEGIN:VEVENT
DTSTART;VALUE=DATE:20241120
DTEND;VALUE=DATE:20241121
DTSTAMP:20260422T135749
CREATED:20240813T200611Z
LAST-MODIFIED:20240910T201356Z
UID:10003100-1732060800-1732147199@kaleidoscope-education.org
SUMMARY:L'Anse Classes
DESCRIPTION:See our schedule and important dates here.
URL:https://kaleidoscope-education.org/event/lanse-classes-8/2024-11-20/
LOCATION:Kaleidoscope L’Anse\, 830 N Main St\, L'Anse\, MI\, 49946\, United States
END:VEVENT
BEGIN:VEVENT
DTSTART;VALUE=DATE:20241119
DTEND;VALUE=DATE:20241120
DTSTAMP:20260422T135749
CREATED:20240813T200233Z
LAST-MODIFIED:20240910T201050Z
UID:10003044-1731974400-1732060799@kaleidoscope-education.org
SUMMARY:Hancock Classes and Club
DESCRIPTION:See our schedule and important dates here.
URL:https://kaleidoscope-education.org/event/hancock-classes-and-club/2024-11-19/
LOCATION:Kaleidoscope Hancock\, 417 Quincy St\, Hancock\, 49930\, United States
END:VEVENT
BEGIN:VEVENT
DTSTART;VALUE=DATE:20241119
DTEND;VALUE=DATE:20241120
DTSTAMP:20260422T135749
CREATED:20240813T195758Z
LAST-MODIFIED:20240910T201241Z
UID:10002988-1731974400-1732060799@kaleidoscope-education.org
SUMMARY:L'Anse Classes
DESCRIPTION:See our schedule and important dates here.
URL:https://kaleidoscope-education.org/event/lanse-classes-7/2024-11-19/
LOCATION:Kaleidoscope L’Anse\, 830 N Main St\, L'Anse\, MI\, 49946\, United States
END:VEVENT
BEGIN:VEVENT
DTSTART;VALUE=DATE:20241118
DTEND;VALUE=DATE:20241119
DTSTAMP:20260422T135749
CREATED:20240813T195555Z
LAST-MODIFIED:20241003T132630Z
UID:10002932-1731888000-1731974399@kaleidoscope-education.org
SUMMARY:Hancock Classes and Clubs
DESCRIPTION:See our schedule and important dates here. \nClub Teen Night meets ONLY on the following dates (from 5:30-7:30): \n\n10/28 Mystery Dinner: Registration Required by 10/24\n11/18\n1/27\n2/24\n3/17\n4/28
URL:https://kaleidoscope-education.org/event/hancock-classes-and-clubs/2024-11-18/
LOCATION:Kaleidoscope Hancock\, 417 Quincy St\, Hancock\, 49930\, United States
END:VEVENT
BEGIN:VEVENT
DTSTART;VALUE=DATE:20241118
DTEND;VALUE=DATE:20241119
DTSTAMP:20260422T135749
CREATED:20240813T194921Z
LAST-MODIFIED:20241003T132232Z
UID:10002904-1731888000-1731974399@kaleidoscope-education.org
SUMMARY:L'Anse Clubs
DESCRIPTION:See our schedule and important dates here. \nLego Club 4:00-5:30 \nArts and Crafts Club 4:00-5:30 \nClub Teen Night 6:00-8:00 \n\n10/7 Star Wars RPG\n10/14 Board Game: Quelf\n10/21 Star Wars RPG\n10/28 Mystery Dinner (Registration Required by 10/24)\n11/4 Star Wars RPG\n11/11 Board Game: Codenames\n11/18 Star Wars RPG\n12/2 Star Wars RPG\n12/9 Board Game\n12/16 Star Wars RPG
URL:https://kaleidoscope-education.org/event/lanse-clubs-2/2024-11-18/
LOCATION:Kaleidoscope L’Anse\, 830 N Main St\, L'Anse\, MI\, 49946\, United States
END:VEVENT
BEGIN:VEVENT
DTSTART;VALUE=DATE:20241117
DTEND;VALUE=DATE:20241118
DTSTAMP:20260422T135749
CREATED:20240731T184610Z
LAST-MODIFIED:20240731T184610Z
UID:10002868-1731801600-1731887999@kaleidoscope-education.org
SUMMARY:Week 11
DESCRIPTION:Semester 1\, Week 11
URL:https://kaleidoscope-education.org/event/week-11-3/
END:VEVENT
BEGIN:VEVENT
DTSTART;VALUE=DATE:20241115
DTEND;VALUE=DATE:20241116
DTSTAMP:20260422T135749
CREATED:20241106T171738Z
LAST-MODIFIED:20241106T172256Z
UID:10003184-1731628800-1731715199@kaleidoscope-education.org
SUMMARY:Deadline for Mont Ripley Discount
DESCRIPTION:This is the last day to sign up for the Mont Ripley Discount.  \n 
URL:https://kaleidoscope-education.org/event/deadline-for-mont-ripley-discount/
END:VEVENT
BEGIN:VEVENT
DTSTART;VALUE=DATE:20241114
DTEND;VALUE=DATE:20241115
DTSTAMP:20260422T135749
CREATED:20241030T163354Z
LAST-MODIFIED:20241105T191513Z
UID:10003171-1731571200-1731603600@kaleidoscope-education.org
SUMMARY:Open Skating
DESCRIPTION:Skate with us on the following Thursdays from 2:00-3:00 PM at Meadowbrook Arena in L’Anse: \nNovember: 14\, 21 \nDecember: 5\, 12\,19 \nJanuary: 9\, 16\, 23\, 30 \nFebruary: 6\, 13\, 20\, 27 \nThis is a free community event open to all Kaledoscope members and local families with children. Loaner skates are available from the rink at no cost.
URL:https://kaleidoscope-education.org/event/open-skating-2/2024-11-14/
LOCATION:Meadowbrook Arena\, 204 Division St\, L'Anse\, MI\, 49946\, United States
END:VEVENT
BEGIN:VEVENT
DTSTART;VALUE=DATE:20241113
DTEND;VALUE=DATE:20241114
DTSTAMP:20260422T135749
CREATED:20240903T215201Z
LAST-MODIFIED:20240903T215202Z
UID:10003136-1731456000-1731542399@kaleidoscope-education.org
SUMMARY:Arvon School
DESCRIPTION:Kaleidoscope will be teaching at the Arvon School from 10-11 each Wednesday we are in session. This week is Tae Kwon Do. \n  \n  \nArvon School Music and Tae Kwon Do Dates for 2024-25 \nSemester 1 \nWeek 1 – September 11th\, Music \nWeek 2 – September 18th\, Tae Kwon Do \nWeek 3 – September 25th\, Music \nWeek 4 – October 2nd\, Tae Kwon Do \nWeek 5 – October 9th\, Music \nWeek 6 – October 16th\, Tae Kwon Do \nWeek 7 – October 23rd\, Music \nWeek 8 – October 30th\, Tae Kwon Do \nWeek 9 – November 6th\, Music \nWeek 10 – November 13th\, Tae Kwon Do \nWeek 11 – November 20th\, Music \nNo Class on November 27th \nWeek 12 – December 4th\, Tae Kwon Do \nWeek 13 – December 11th\, Music \nWeek 14 – December 18th\, Tae Kwon Do \nNo Class on December 25th \nNo Class on January 1st\, 8th\, and 15th \n  \nSemester 2 \nWeek 1 – January 22nd\, Music \nWeek 2 – January 29th\, Tae Kwon Do \nWeek 3 – February 5th\, Music \nWeek 4 – February 12th\, Tae Kwon Do \nWeek 5 – February 19th\, Music \nWeek 6 – February 26th\, Tae Kwon Do \nWeek 7 – March 5th\, Music \nWeek 8 – March 12th\, Tae Kwon Do \nWeek 9 – March 19th\, Music \nNo Class on March 26th \nNo Class on April 2nd \nWeek 10 – April 9th\, Tae Kwon Do \nWeek 11 – April 16th\, Music \nWeek 12 – April 23rd\, Tae Kwon Do \nWeek 13 – April 30th\, Music \nWeek 14 – May 7th\, Tae Kwon Do
URL:https://kaleidoscope-education.org/event/arvon-school-11/
END:VEVENT
BEGIN:VEVENT
DTSTART;VALUE=DATE:20241113
DTEND;VALUE=DATE:20241114
DTSTAMP:20260422T135749
CREATED:20240813T200611Z
LAST-MODIFIED:20240910T201356Z
UID:10003099-1731456000-1731542399@kaleidoscope-education.org
SUMMARY:L'Anse Classes
DESCRIPTION:See our schedule and important dates here.
URL:https://kaleidoscope-education.org/event/lanse-classes-8/2024-11-13/
LOCATION:Kaleidoscope L’Anse\, 830 N Main St\, L'Anse\, MI\, 49946\, United States
END:VEVENT
BEGIN:VEVENT
DTSTART;VALUE=DATE:20241112
DTEND;VALUE=DATE:20241113
DTSTAMP:20260422T135749
CREATED:20241022T173550Z
LAST-MODIFIED:20241022T173550Z
UID:10003163-1731369600-1731455999@kaleidoscope-education.org
SUMMARY:Craft Night - L'Anse
DESCRIPTION:Tues Nov 12 @Kaleidoscope L’Anse\, 6:00-8:00 pm. \nTime to craft! All supplies\, coffee\, and tea provided. Bring a snack to share if you would like–totally optional. Pay at the door\, $12.\nNo registration required. Grownups only! This session will be no-sew fabric pumpkins. 
URL:https://kaleidoscope-education.org/event/craft-night-lanse/
LOCATION:Kaleidoscope L’Anse\, 830 N Main St\, L'Anse\, MI\, 49946\, United States
END:VEVENT
BEGIN:VEVENT
DTSTART;VALUE=DATE:20241112
DTEND;VALUE=DATE:20241113
DTSTAMP:20260422T135749
CREATED:20240813T200233Z
LAST-MODIFIED:20240910T201050Z
UID:10003043-1731369600-1731455999@kaleidoscope-education.org
SUMMARY:Hancock Classes and Club
DESCRIPTION:See our schedule and important dates here.
URL:https://kaleidoscope-education.org/event/hancock-classes-and-club/2024-11-12/
LOCATION:Kaleidoscope Hancock\, 417 Quincy St\, Hancock\, 49930\, United States
END:VEVENT
BEGIN:VEVENT
DTSTART;VALUE=DATE:20241112
DTEND;VALUE=DATE:20241113
DTSTAMP:20260422T135749
CREATED:20240813T195758Z
LAST-MODIFIED:20240910T201241Z
UID:10002987-1731369600-1731455999@kaleidoscope-education.org
SUMMARY:L'Anse Classes
DESCRIPTION:See our schedule and important dates here.
URL:https://kaleidoscope-education.org/event/lanse-classes-7/2024-11-12/
LOCATION:Kaleidoscope L’Anse\, 830 N Main St\, L'Anse\, MI\, 49946\, United States
END:VEVENT
BEGIN:VEVENT
DTSTART;VALUE=DATE:20241111
DTEND;VALUE=DATE:20241112
DTSTAMP:20260422T135749
CREATED:20240813T195555Z
LAST-MODIFIED:20241003T132630Z
UID:10002931-1731283200-1731369599@kaleidoscope-education.org
SUMMARY:Hancock Classes and Clubs
DESCRIPTION:See our schedule and important dates here. \nClub Teen Night meets ONLY on the following dates (from 5:30-7:30): \n\n10/28 Mystery Dinner: Registration Required by 10/24\n11/18\n1/27\n2/24\n3/17\n4/28
URL:https://kaleidoscope-education.org/event/hancock-classes-and-clubs/2024-11-11/
LOCATION:Kaleidoscope Hancock\, 417 Quincy St\, Hancock\, 49930\, United States
END:VEVENT
BEGIN:VEVENT
DTSTART;VALUE=DATE:20241111
DTEND;VALUE=DATE:20241112
DTSTAMP:20260422T135749
CREATED:20240813T194921Z
LAST-MODIFIED:20241003T132232Z
UID:10002903-1731283200-1731369599@kaleidoscope-education.org
SUMMARY:L'Anse Clubs
DESCRIPTION:See our schedule and important dates here. \nLego Club 4:00-5:30 \nArts and Crafts Club 4:00-5:30 \nClub Teen Night 6:00-8:00 \n\n10/7 Star Wars RPG\n10/14 Board Game: Quelf\n10/21 Star Wars RPG\n10/28 Mystery Dinner (Registration Required by 10/24)\n11/4 Star Wars RPG\n11/11 Board Game: Codenames\n11/18 Star Wars RPG\n12/2 Star Wars RPG\n12/9 Board Game\n12/16 Star Wars RPG
URL:https://kaleidoscope-education.org/event/lanse-clubs-2/2024-11-11/
LOCATION:Kaleidoscope L’Anse\, 830 N Main St\, L'Anse\, MI\, 49946\, United States
END:VEVENT
BEGIN:VEVENT
DTSTART;VALUE=DATE:20241110
DTEND;VALUE=DATE:20241111
DTSTAMP:20260422T135749
CREATED:20240731T184528Z
LAST-MODIFIED:20240731T184528Z
UID:10002867-1731196800-1731283199@kaleidoscope-education.org
SUMMARY:Week 10
DESCRIPTION:Semester 1\, Week 10
URL:https://kaleidoscope-education.org/event/week-10-3/
END:VEVENT
END:VCALENDAR