BEGIN:VCALENDAR
VERSION:2.0
PRODID:-//Kaleidoscope - ECPv6.15.18//NONSGML v1.0//EN
CALSCALE:GREGORIAN
METHOD:PUBLISH
X-WR-CALNAME:Kaleidoscope
X-ORIGINAL-URL:https://kaleidoscope-education.org
X-WR-CALDESC:Events for Kaleidoscope
REFRESH-INTERVAL;VALUE=DURATION:PT1H
X-Robots-Tag:noindex
X-PUBLISHED-TTL:PT1H
BEGIN:VTIMEZONE
TZID:America/Detroit
BEGIN:DAYLIGHT
TZOFFSETFROM:-0500
TZOFFSETTO:-0400
TZNAME:EDT
DTSTART:20230312T070000
END:DAYLIGHT
BEGIN:STANDARD
TZOFFSETFROM:-0400
TZOFFSETTO:-0500
TZNAME:EST
DTSTART:20231105T060000
END:STANDARD
BEGIN:DAYLIGHT
TZOFFSETFROM:-0500
TZOFFSETTO:-0400
TZNAME:EDT
DTSTART:20240310T070000
END:DAYLIGHT
BEGIN:STANDARD
TZOFFSETFROM:-0400
TZOFFSETTO:-0500
TZNAME:EST
DTSTART:20241103T060000
END:STANDARD
BEGIN:DAYLIGHT
TZOFFSETFROM:-0500
TZOFFSETTO:-0400
TZNAME:EDT
DTSTART:20250309T070000
END:DAYLIGHT
BEGIN:STANDARD
TZOFFSETFROM:-0400
TZOFFSETTO:-0500
TZNAME:EST
DTSTART:20251102T060000
END:STANDARD
END:VTIMEZONE
BEGIN:VEVENT
DTSTART;VALUE=DATE:20241001
DTEND;VALUE=DATE:20241002
DTSTAMP:20260422T224135
CREATED:20240813T200233Z
LAST-MODIFIED:20240910T201050Z
UID:10003037-1727740800-1727827199@kaleidoscope-education.org
SUMMARY:Hancock Classes and Club
DESCRIPTION:See our schedule and important dates here.
URL:https://kaleidoscope-education.org/event/hancock-classes-and-club/2024-10-01/
LOCATION:Kaleidoscope Hancock\, 417 Quincy St\, Hancock\, 49930\, United States
END:VEVENT
BEGIN:VEVENT
DTSTART;VALUE=DATE:20241001
DTEND;VALUE=DATE:20241002
DTSTAMP:20260422T224135
CREATED:20240813T195758Z
LAST-MODIFIED:20240910T201241Z
UID:10002981-1727740800-1727827199@kaleidoscope-education.org
SUMMARY:L'Anse Classes
DESCRIPTION:See our schedule and important dates here.
URL:https://kaleidoscope-education.org/event/lanse-classes-7/2024-10-01/
LOCATION:Kaleidoscope L’Anse\, 830 N Main St\, L'Anse\, MI\, 49946\, United States
END:VEVENT
BEGIN:VEVENT
DTSTART;VALUE=DATE:20240930
DTEND;VALUE=DATE:20241001
DTSTAMP:20260422T224135
CREATED:20240813T195555Z
LAST-MODIFIED:20241003T132630Z
UID:10002925-1727654400-1727740799@kaleidoscope-education.org
SUMMARY:Hancock Classes and Clubs
DESCRIPTION:See our schedule and important dates here. \nClub Teen Night meets ONLY on the following dates (from 5:30-7:30): \n\n10/28 Mystery Dinner: Registration Required by 10/24\n11/18\n1/27\n2/24\n3/17\n4/28
URL:https://kaleidoscope-education.org/event/hancock-classes-and-clubs/2024-09-30/
LOCATION:Kaleidoscope Hancock\, 417 Quincy St\, Hancock\, 49930\, United States
END:VEVENT
BEGIN:VEVENT
DTSTART;VALUE=DATE:20240930
DTEND;VALUE=DATE:20241001
DTSTAMP:20260422T224135
CREATED:20240813T194921Z
LAST-MODIFIED:20241003T132232Z
UID:10002897-1727654400-1727740799@kaleidoscope-education.org
SUMMARY:L'Anse Clubs
DESCRIPTION:See our schedule and important dates here. \nLego Club 4:00-5:30 \nArts and Crafts Club 4:00-5:30 \nClub Teen Night 6:00-8:00 \n\n10/7 Star Wars RPG\n10/14 Board Game: Quelf\n10/21 Star Wars RPG\n10/28 Mystery Dinner (Registration Required by 10/24)\n11/4 Star Wars RPG\n11/11 Board Game: Codenames\n11/18 Star Wars RPG\n12/2 Star Wars RPG\n12/9 Board Game\n12/16 Star Wars RPG
URL:https://kaleidoscope-education.org/event/lanse-clubs-2/2024-09-30/
LOCATION:Kaleidoscope L’Anse\, 830 N Main St\, L'Anse\, MI\, 49946\, United States
END:VEVENT
BEGIN:VEVENT
DTSTART;VALUE=DATE:20240929
DTEND;VALUE=DATE:20240930
DTSTAMP:20260422T224135
CREATED:20240731T184056Z
LAST-MODIFIED:20240731T184056Z
UID:10002861-1727568000-1727654399@kaleidoscope-education.org
SUMMARY:Week 4
DESCRIPTION:Semester 1\, Week 4
URL:https://kaleidoscope-education.org/event/week-4-2/
END:VEVENT
BEGIN:VEVENT
DTSTART;VALUE=DATE:20240927
DTEND;VALUE=DATE:20240928
DTSTAMP:20260422T224135
CREATED:20240731T192531Z
LAST-MODIFIED:20240731T192531Z
UID:10002891-1727395200-1727481599@kaleidoscope-education.org
SUMMARY:Virtual Elective Change Deadline
DESCRIPTION:This is the last day to make changes to your Kaleidoscope Virtual Elective choices. 
URL:https://kaleidoscope-education.org/event/virtual-elective-change-deadline/
END:VEVENT
BEGIN:VEVENT
DTSTART;VALUE=DATE:20240925
DTEND;VALUE=DATE:20240926
DTSTAMP:20260422T224135
CREATED:20240903T213946Z
LAST-MODIFIED:20240903T213946Z
UID:10003129-1727222400-1727308799@kaleidoscope-education.org
SUMMARY:Arvon School
DESCRIPTION:Kaleidoscope will be teaching at the Arvon School from 10-11 each Wednesday we are in session. This week is Music Class. \n  \n  \nArvon School Music and Tae Kwon Do Dates for 2024-25 \nSemester 1 \nWeek 1 – September 11th\, Music \nWeek 2 – September 18th\, Tae Kwon Do \nWeek 3 – September 25th\, Music \nWeek 4 – October 2nd\, Tae Kwon Do \nWeek 5 – October 9th\, Music \nWeek 6 – October 16th\, Tae Kwon Do \nWeek 7 – October 23rd\, Music \nWeek 8 – October 30th\, Tae Kwon Do \nWeek 9 – November 6th\, Music \nWeek 10 – November 13th\, Tae Kwon Do \nWeek 11 – November 20th\, Music \nNo Class on November 27th \nWeek 12 – December 4th\, Tae Kwon Do \nWeek 13 – December 11th\, Music \nWeek 14 – December 18th\, Tae Kwon Do \nNo Class on December 25th \nNo Class on January 1st\, 8th\, and 15th \n  \nSemester 2 \nWeek 1 – January 22nd\, Music \nWeek 2 – January 29th\, Tae Kwon Do \nWeek 3 – February 5th\, Music \nWeek 4 – February 12th\, Tae Kwon Do \nWeek 5 – February 19th\, Music \nWeek 6 – February 26th\, Tae Kwon Do \nWeek 7 – March 5th\, Music \nWeek 8 – March 12th\, Tae Kwon Do \nWeek 9 – March 19th\, Music \nNo Class on March 26th \nNo Class on April 2nd \nWeek 10 – April 9th\, Tae Kwon Do \nWeek 11 – April 16th\, Music \nWeek 12 – April 23rd\, Tae Kwon Do \nWeek 13 – April 30th\, Music \nWeek 14 – May 7th\, Tae Kwon Do
URL:https://kaleidoscope-education.org/event/arvon-school-4/
END:VEVENT
BEGIN:VEVENT
DTSTART;VALUE=DATE:20240925
DTEND;VALUE=DATE:20240926
DTSTAMP:20260422T224135
CREATED:20240813T200611Z
LAST-MODIFIED:20240910T201356Z
UID:10003092-1727222400-1727308799@kaleidoscope-education.org
SUMMARY:L'Anse Classes
DESCRIPTION:See our schedule and important dates here.
URL:https://kaleidoscope-education.org/event/lanse-classes-8/2024-09-25/
LOCATION:Kaleidoscope L’Anse\, 830 N Main St\, L'Anse\, MI\, 49946\, United States
END:VEVENT
BEGIN:VEVENT
DTSTART;VALUE=DATE:20240924
DTEND;VALUE=DATE:20240925
DTSTAMP:20260422T224135
CREATED:20240813T200233Z
LAST-MODIFIED:20240910T201050Z
UID:10003036-1727136000-1727222399@kaleidoscope-education.org
SUMMARY:Hancock Classes and Club
DESCRIPTION:See our schedule and important dates here.
URL:https://kaleidoscope-education.org/event/hancock-classes-and-club/2024-09-24/
LOCATION:Kaleidoscope Hancock\, 417 Quincy St\, Hancock\, 49930\, United States
END:VEVENT
BEGIN:VEVENT
DTSTART;VALUE=DATE:20240924
DTEND;VALUE=DATE:20240925
DTSTAMP:20260422T224135
CREATED:20240813T195758Z
LAST-MODIFIED:20240910T201241Z
UID:10002980-1727136000-1727222399@kaleidoscope-education.org
SUMMARY:L'Anse Classes
DESCRIPTION:See our schedule and important dates here.
URL:https://kaleidoscope-education.org/event/lanse-classes-7/2024-09-24/
LOCATION:Kaleidoscope L’Anse\, 830 N Main St\, L'Anse\, MI\, 49946\, United States
END:VEVENT
BEGIN:VEVENT
DTSTART;VALUE=DATE:20240923
DTEND;VALUE=DATE:20240924
DTSTAMP:20260422T224135
CREATED:20240813T195555Z
LAST-MODIFIED:20241003T132630Z
UID:10002924-1727049600-1727135999@kaleidoscope-education.org
SUMMARY:Hancock Classes and Clubs
DESCRIPTION:See our schedule and important dates here. \nClub Teen Night meets ONLY on the following dates (from 5:30-7:30): \n\n10/28 Mystery Dinner: Registration Required by 10/24\n11/18\n1/27\n2/24\n3/17\n4/28
URL:https://kaleidoscope-education.org/event/hancock-classes-and-clubs/2024-09-23/
LOCATION:Kaleidoscope Hancock\, 417 Quincy St\, Hancock\, 49930\, United States
END:VEVENT
BEGIN:VEVENT
DTSTART;VALUE=DATE:20240923
DTEND;VALUE=DATE:20240924
DTSTAMP:20260422T224135
CREATED:20240813T194921Z
LAST-MODIFIED:20241003T132232Z
UID:10002896-1727049600-1727135999@kaleidoscope-education.org
SUMMARY:L'Anse Clubs
DESCRIPTION:See our schedule and important dates here. \nLego Club 4:00-5:30 \nArts and Crafts Club 4:00-5:30 \nClub Teen Night 6:00-8:00 \n\n10/7 Star Wars RPG\n10/14 Board Game: Quelf\n10/21 Star Wars RPG\n10/28 Mystery Dinner (Registration Required by 10/24)\n11/4 Star Wars RPG\n11/11 Board Game: Codenames\n11/18 Star Wars RPG\n12/2 Star Wars RPG\n12/9 Board Game\n12/16 Star Wars RPG
URL:https://kaleidoscope-education.org/event/lanse-clubs-2/2024-09-23/
LOCATION:Kaleidoscope L’Anse\, 830 N Main St\, L'Anse\, MI\, 49946\, United States
END:VEVENT
BEGIN:VEVENT
DTSTART;VALUE=DATE:20240922
DTEND;VALUE=DATE:20240923
DTSTAMP:20260422T224135
CREATED:20240731T184018Z
LAST-MODIFIED:20240731T184018Z
UID:10002860-1726963200-1727049599@kaleidoscope-education.org
SUMMARY:Week 3
DESCRIPTION:Semester 1\, Week 3
URL:https://kaleidoscope-education.org/event/week-3-4/
END:VEVENT
BEGIN:VEVENT
DTSTART;VALUE=DATE:20240918
DTEND;VALUE=DATE:20240919
DTSTAMP:20260422T224135
CREATED:20240903T213604Z
LAST-MODIFIED:20240903T213604Z
UID:10003128-1726617600-1726703999@kaleidoscope-education.org
SUMMARY:Arvon School
DESCRIPTION:Kaleidoscope will be teaching at the Arvon School from 10-11 each Wednesday we are in session. This week is Tae Kwon Do. \n  \nArvon School Music and Tae Kwon Do Dates for 2024-25 \nSemester 1 \nWeek 1 – September 11th\, Music \nWeek 2 – September 18th\, Tae Kwon Do \nWeek 3 – September 25th\, Music \nWeek 4 – October 2nd\, Tae Kwon Do \nWeek 5 – October 9th\, Music \nWeek 6 – October 16th\, Tae Kwon Do \nWeek 7 – October 23rd\, Music \nWeek 8 – October 30th\, Tae Kwon Do \nWeek 9 – November 6th\, Music \nWeek 10 – November 13th\, Tae Kwon Do \nWeek 11 – November 20th\, Music \nNo Class on November 27th \nWeek 12 – December 4th\, Tae Kwon Do \nWeek 13 – December 11th\, Music \nWeek 14 – December 18th\, Tae Kwon Do \nNo Class on December 25th \nNo Class on January 1st\, 8th\, and 15th \n  \nSemester 2 \nWeek 1 – January 22nd\, Music \nWeek 2 – January 29th\, Tae Kwon Do \nWeek 3 – February 5th\, Music \nWeek 4 – February 12th\, Tae Kwon Do \nWeek 5 – February 19th\, Music \nWeek 6 – February 26th\, Tae Kwon Do \nWeek 7 – March 5th\, Music \nWeek 8 – March 12th\, Tae Kwon Do \nWeek 9 – March 19th\, Music \nNo Class on March 26th \nNo Class on April 2nd \nWeek 10 – April 9th\, Tae Kwon Do \nWeek 11 – April 16th\, Music \nWeek 12 – April 23rd\, Tae Kwon Do \nWeek 13 – April 30th\, Music \nWeek 14 – May 7th\, Tae Kwon Do
URL:https://kaleidoscope-education.org/event/arvon-school-3/
END:VEVENT
BEGIN:VEVENT
DTSTART;VALUE=DATE:20240918
DTEND;VALUE=DATE:20240919
DTSTAMP:20260422T224135
CREATED:20240813T200611Z
LAST-MODIFIED:20240910T201356Z
UID:10003091-1726617600-1726703999@kaleidoscope-education.org
SUMMARY:L'Anse Classes
DESCRIPTION:See our schedule and important dates here.
URL:https://kaleidoscope-education.org/event/lanse-classes-8/2024-09-18/
LOCATION:Kaleidoscope L’Anse\, 830 N Main St\, L'Anse\, MI\, 49946\, United States
END:VEVENT
BEGIN:VEVENT
DTSTART;VALUE=DATE:20240917
DTEND;VALUE=DATE:20240918
DTSTAMP:20260422T224135
CREATED:20240813T200233Z
LAST-MODIFIED:20240910T201050Z
UID:10003035-1726531200-1726617599@kaleidoscope-education.org
SUMMARY:Hancock Classes and Club
DESCRIPTION:See our schedule and important dates here.
URL:https://kaleidoscope-education.org/event/hancock-classes-and-club/2024-09-17/
LOCATION:Kaleidoscope Hancock\, 417 Quincy St\, Hancock\, 49930\, United States
END:VEVENT
BEGIN:VEVENT
DTSTART;VALUE=DATE:20240917
DTEND;VALUE=DATE:20240918
DTSTAMP:20260422T224135
CREATED:20240813T195758Z
LAST-MODIFIED:20240910T201241Z
UID:10002979-1726531200-1726617599@kaleidoscope-education.org
SUMMARY:L'Anse Classes
DESCRIPTION:See our schedule and important dates here.
URL:https://kaleidoscope-education.org/event/lanse-classes-7/2024-09-17/
LOCATION:Kaleidoscope L’Anse\, 830 N Main St\, L'Anse\, MI\, 49946\, United States
END:VEVENT
BEGIN:VEVENT
DTSTART;VALUE=DATE:20240916
DTEND;VALUE=DATE:20240917
DTSTAMP:20260422T224135
CREATED:20240813T195555Z
LAST-MODIFIED:20241003T132630Z
UID:10002923-1726444800-1726531199@kaleidoscope-education.org
SUMMARY:Hancock Classes and Clubs
DESCRIPTION:See our schedule and important dates here. \nClub Teen Night meets ONLY on the following dates (from 5:30-7:30): \n\n10/28 Mystery Dinner: Registration Required by 10/24\n11/18\n1/27\n2/24\n3/17\n4/28
URL:https://kaleidoscope-education.org/event/hancock-classes-and-clubs/2024-09-16/
LOCATION:Kaleidoscope Hancock\, 417 Quincy St\, Hancock\, 49930\, United States
END:VEVENT
BEGIN:VEVENT
DTSTART;VALUE=DATE:20240916
DTEND;VALUE=DATE:20240917
DTSTAMP:20260422T224135
CREATED:20240813T194921Z
LAST-MODIFIED:20241003T132232Z
UID:10002895-1726444800-1726531199@kaleidoscope-education.org
SUMMARY:L'Anse Clubs
DESCRIPTION:See our schedule and important dates here. \nLego Club 4:00-5:30 \nArts and Crafts Club 4:00-5:30 \nClub Teen Night 6:00-8:00 \n\n10/7 Star Wars RPG\n10/14 Board Game: Quelf\n10/21 Star Wars RPG\n10/28 Mystery Dinner (Registration Required by 10/24)\n11/4 Star Wars RPG\n11/11 Board Game: Codenames\n11/18 Star Wars RPG\n12/2 Star Wars RPG\n12/9 Board Game\n12/16 Star Wars RPG
URL:https://kaleidoscope-education.org/event/lanse-clubs-2/2024-09-16/
LOCATION:Kaleidoscope L’Anse\, 830 N Main St\, L'Anse\, MI\, 49946\, United States
END:VEVENT
BEGIN:VEVENT
DTSTART;VALUE=DATE:20240915
DTEND;VALUE=DATE:20240916
DTSTAMP:20260422T224135
CREATED:20240731T183935Z
LAST-MODIFIED:20240731T183935Z
UID:10002859-1726358400-1726444799@kaleidoscope-education.org
SUMMARY:Week 2
DESCRIPTION:Semester 1\, Week 2
URL:https://kaleidoscope-education.org/event/week-2-3/
END:VEVENT
BEGIN:VEVENT
DTSTART;VALUE=DATE:20240913
DTEND;VALUE=DATE:20240914
DTSTAMP:20260422T224135
CREATED:20240731T192422Z
LAST-MODIFIED:20240731T192422Z
UID:10002890-1726185600-1726271999@kaleidoscope-education.org
SUMMARY:Class Add/Drop Deadline
DESCRIPTION:This is the last day to change your in-person Kaleidoscope Classes.
URL:https://kaleidoscope-education.org/event/class-add-drop-deadline/
END:VEVENT
BEGIN:VEVENT
DTSTART;VALUE=DATE:20240912
DTEND;VALUE=DATE:20240913
DTSTAMP:20260422T224135
CREATED:20240831T173628Z
LAST-MODIFIED:20240904T214932Z
UID:10003126-1726099200-1726185599@kaleidoscope-education.org
SUMMARY:Wonka Game Day
DESCRIPTION:Join us at Kaleidoscope L’Anse from 4:00-6:00 pm for Willie Wonka themed games and treats! Ages 5 and up. \n$5 for Community Members\, FREE for Kaleidoscope Members\n\nNo Registration Required; Optional Semester Pass Here
URL:https://kaleidoscope-education.org/event/wonka-game-day/
LOCATION:Kaleidoscope L’Anse\, 830 N Main St\, L'Anse\, MI\, 49946\, United States
END:VEVENT
BEGIN:VEVENT
DTSTART;VALUE=DATE:20240911
DTEND;VALUE=DATE:20240912
DTSTAMP:20260422T224135
CREATED:20240903T213112Z
LAST-MODIFIED:20240903T213421Z
UID:10003127-1726012800-1726099199@kaleidoscope-education.org
SUMMARY:Arvon School
DESCRIPTION:Kaleidoscope will be teaching at the Arvon School from 10-11 each Wednesday we are in session. This week is Music Class. \n  \nArvon School Music and Tae Kwon Do Dates for 2024-25 \nSemester 1 \nWeek 1 – September 11th\, Music \nWeek 2 – September 18th\, Tae Kwon Do \nWeek 3 – September 25th\, Music \nWeek 4 – October 2nd\, Tae Kwon Do \nWeek 5 – October 9th\, Music \nWeek 6 – October 16th\, Tae Kwon Do \nWeek 7 – October 23rd\, Music \nWeek 8 – October 30th\, Tae Kwon Do \nWeek 9 – November 6th\, Music \nWeek 10 – November 13th\, Tae Kwon Do \nWeek 11 – November 20th\, Music \nNo Class on November 27th \nWeek 12 – December 4th\, Tae Kwon Do \nWeek 13 – December 11th\, Music \nWeek 14 – December 18th\, Tae Kwon Do \nNo Class on December 25th \nNo Class on January 1st\, 8th\, and 15th \n  \nSemester 2 \nWeek 1 – January 22nd\, Music \nWeek 2 – January 29th\, Tae Kwon Do \nWeek 3 – February 5th\, Music \nWeek 4 – February 12th\, Tae Kwon Do \nWeek 5 – February 19th\, Music \nWeek 6 – February 26th\, Tae Kwon Do \nWeek 7 – March 5th\, Music \nWeek 8 – March 12th\, Tae Kwon Do \nWeek 9 – March 19th\, Music \nNo Class on March 26th \nNo Class on April 2nd \nWeek 10 – April 9th\, Tae Kwon Do \nWeek 11 – April 16th\, Music \nWeek 12 – April 23rd\, Tae Kwon Do \nWeek 13 – April 30th\, Music \nWeek 14 – May 7th\, Tae Kwon Do
URL:https://kaleidoscope-education.org/event/arvon-school-2/
END:VEVENT
BEGIN:VEVENT
DTSTART;VALUE=DATE:20240911
DTEND;VALUE=DATE:20240912
DTSTAMP:20260422T224135
CREATED:20240813T200611Z
LAST-MODIFIED:20240910T201356Z
UID:10003090-1726012800-1726099199@kaleidoscope-education.org
SUMMARY:L'Anse Classes
DESCRIPTION:See our schedule and important dates here.
URL:https://kaleidoscope-education.org/event/lanse-classes-8/2024-09-11/
LOCATION:Kaleidoscope L’Anse\, 830 N Main St\, L'Anse\, MI\, 49946\, United States
END:VEVENT
BEGIN:VEVENT
DTSTART;VALUE=DATE:20240910
DTEND;VALUE=DATE:20240911
DTSTAMP:20260422T224135
CREATED:20240813T200233Z
LAST-MODIFIED:20240910T201050Z
UID:10003034-1725926400-1726012799@kaleidoscope-education.org
SUMMARY:Hancock Classes and Club
DESCRIPTION:See our schedule and important dates here.
URL:https://kaleidoscope-education.org/event/hancock-classes-and-club/2024-09-10/
LOCATION:Kaleidoscope Hancock\, 417 Quincy St\, Hancock\, 49930\, United States
END:VEVENT
BEGIN:VEVENT
DTSTART;VALUE=DATE:20240910
DTEND;VALUE=DATE:20240911
DTSTAMP:20260422T224135
CREATED:20240813T195758Z
LAST-MODIFIED:20240910T201241Z
UID:10002978-1725926400-1726012799@kaleidoscope-education.org
SUMMARY:L'Anse Classes
DESCRIPTION:See our schedule and important dates here.
URL:https://kaleidoscope-education.org/event/lanse-classes-7/2024-09-10/
LOCATION:Kaleidoscope L’Anse\, 830 N Main St\, L'Anse\, MI\, 49946\, United States
END:VEVENT
BEGIN:VEVENT
DTSTART;VALUE=DATE:20240909
DTEND;VALUE=DATE:20240910
DTSTAMP:20260422T224135
CREATED:20240813T195555Z
LAST-MODIFIED:20241003T132630Z
UID:10002922-1725840000-1725926399@kaleidoscope-education.org
SUMMARY:Hancock Classes and Clubs
DESCRIPTION:See our schedule and important dates here. \nClub Teen Night meets ONLY on the following dates (from 5:30-7:30): \n\n10/28 Mystery Dinner: Registration Required by 10/24\n11/18\n1/27\n2/24\n3/17\n4/28
URL:https://kaleidoscope-education.org/event/hancock-classes-and-clubs/2024-09-09/
LOCATION:Kaleidoscope Hancock\, 417 Quincy St\, Hancock\, 49930\, United States
END:VEVENT
BEGIN:VEVENT
DTSTART;VALUE=DATE:20240909
DTEND;VALUE=DATE:20240910
DTSTAMP:20260422T224135
CREATED:20240813T194921Z
LAST-MODIFIED:20241003T132232Z
UID:10002894-1725840000-1725926399@kaleidoscope-education.org
SUMMARY:L'Anse Clubs
DESCRIPTION:See our schedule and important dates here. \nLego Club 4:00-5:30 \nArts and Crafts Club 4:00-5:30 \nClub Teen Night 6:00-8:00 \n\n10/7 Star Wars RPG\n10/14 Board Game: Quelf\n10/21 Star Wars RPG\n10/28 Mystery Dinner (Registration Required by 10/24)\n11/4 Star Wars RPG\n11/11 Board Game: Codenames\n11/18 Star Wars RPG\n12/2 Star Wars RPG\n12/9 Board Game\n12/16 Star Wars RPG
URL:https://kaleidoscope-education.org/event/lanse-clubs-2/2024-09-09/
LOCATION:Kaleidoscope L’Anse\, 830 N Main St\, L'Anse\, MI\, 49946\, United States
END:VEVENT
BEGIN:VEVENT
DTSTART;VALUE=DATE:20240908
DTEND;VALUE=DATE:20240909
DTSTAMP:20260422T224135
CREATED:20240731T183140Z
LAST-MODIFIED:20240731T183140Z
UID:10002858-1725753600-1725839999@kaleidoscope-education.org
SUMMARY:Week 1
DESCRIPTION:Semester 1\, Week 1
URL:https://kaleidoscope-education.org/event/week-1/
END:VEVENT
BEGIN:VEVENT
DTSTART;VALUE=DATE:20240905
DTEND;VALUE=DATE:20240906
DTSTAMP:20260422T224135
CREATED:20240823T190500Z
LAST-MODIFIED:20240823T190500Z
UID:10003118-1725494400-1725580799@kaleidoscope-education.org
SUMMARY:Hancock: New Families Orientation
DESCRIPTION:5:00-7:00 PM\, Kaleidoscope Hancock. This orientation is for students who are either brand new to Kaleidoscope or who have been involved with Kaleidoscope before but it is their first year enrolled via CLK Schools Virtual Programs.  \nNew families who are virtual-only are highly encouraged to attend one of our orientations. \nQuestions welcome all evening. Watch your email for more info if you are a new Kaleidoscope family!
URL:https://kaleidoscope-education.org/event/hancock-new-families-orientation/
LOCATION:Kaleidoscope Hancock\, 417 Quincy St\, Hancock\, 49930\, United States
END:VEVENT
END:VCALENDAR