BEGIN:VCALENDAR
VERSION:2.0
PRODID:-//Kaleidoscope - ECPv6.15.18//NONSGML v1.0//EN
CALSCALE:GREGORIAN
METHOD:PUBLISH
X-WR-CALNAME:Kaleidoscope
X-ORIGINAL-URL:https://kaleidoscope-education.org
X-WR-CALDESC:Events for Kaleidoscope
REFRESH-INTERVAL;VALUE=DURATION:PT1H
X-Robots-Tag:noindex
X-PUBLISHED-TTL:PT1H
BEGIN:VTIMEZONE
TZID:America/Detroit
BEGIN:DAYLIGHT
TZOFFSETFROM:-0500
TZOFFSETTO:-0400
TZNAME:EDT
DTSTART:20230312T070000
END:DAYLIGHT
BEGIN:STANDARD
TZOFFSETFROM:-0400
TZOFFSETTO:-0500
TZNAME:EST
DTSTART:20231105T060000
END:STANDARD
BEGIN:DAYLIGHT
TZOFFSETFROM:-0500
TZOFFSETTO:-0400
TZNAME:EDT
DTSTART:20240310T070000
END:DAYLIGHT
BEGIN:STANDARD
TZOFFSETFROM:-0400
TZOFFSETTO:-0500
TZNAME:EST
DTSTART:20241103T060000
END:STANDARD
BEGIN:DAYLIGHT
TZOFFSETFROM:-0500
TZOFFSETTO:-0400
TZNAME:EDT
DTSTART:20250309T070000
END:DAYLIGHT
BEGIN:STANDARD
TZOFFSETFROM:-0400
TZOFFSETTO:-0500
TZNAME:EST
DTSTART:20251102T060000
END:STANDARD
END:VTIMEZONE
BEGIN:VEVENT
DTSTART;VALUE=DATE:20240910
DTEND;VALUE=DATE:20240911
DTSTAMP:20260423T013102
CREATED:20240813T200233Z
LAST-MODIFIED:20240910T201050Z
UID:10003034-1725926400-1726012799@kaleidoscope-education.org
SUMMARY:Hancock Classes and Club
DESCRIPTION:See our schedule and important dates here.
URL:https://kaleidoscope-education.org/event/hancock-classes-and-club/2024-09-10/
LOCATION:Kaleidoscope Hancock\, 417 Quincy St\, Hancock\, 49930\, United States
END:VEVENT
BEGIN:VEVENT
DTSTART;VALUE=DATE:20240910
DTEND;VALUE=DATE:20240911
DTSTAMP:20260423T013102
CREATED:20240813T195758Z
LAST-MODIFIED:20240910T201241Z
UID:10002978-1725926400-1726012799@kaleidoscope-education.org
SUMMARY:L'Anse Classes
DESCRIPTION:See our schedule and important dates here.
URL:https://kaleidoscope-education.org/event/lanse-classes-7/2024-09-10/
LOCATION:Kaleidoscope L’Anse\, 830 N Main St\, L'Anse\, MI\, 49946\, United States
END:VEVENT
BEGIN:VEVENT
DTSTART;VALUE=DATE:20240909
DTEND;VALUE=DATE:20240910
DTSTAMP:20260423T013102
CREATED:20240813T195555Z
LAST-MODIFIED:20241003T132630Z
UID:10002922-1725840000-1725926399@kaleidoscope-education.org
SUMMARY:Hancock Classes and Clubs
DESCRIPTION:See our schedule and important dates here. \nClub Teen Night meets ONLY on the following dates (from 5:30-7:30): \n\n10/28 Mystery Dinner: Registration Required by 10/24\n11/18\n1/27\n2/24\n3/17\n4/28
URL:https://kaleidoscope-education.org/event/hancock-classes-and-clubs/2024-09-09/
LOCATION:Kaleidoscope Hancock\, 417 Quincy St\, Hancock\, 49930\, United States
END:VEVENT
BEGIN:VEVENT
DTSTART;VALUE=DATE:20240909
DTEND;VALUE=DATE:20240910
DTSTAMP:20260423T013102
CREATED:20240813T194921Z
LAST-MODIFIED:20241003T132232Z
UID:10002894-1725840000-1725926399@kaleidoscope-education.org
SUMMARY:L'Anse Clubs
DESCRIPTION:See our schedule and important dates here. \nLego Club 4:00-5:30 \nArts and Crafts Club 4:00-5:30 \nClub Teen Night 6:00-8:00 \n\n10/7 Star Wars RPG\n10/14 Board Game: Quelf\n10/21 Star Wars RPG\n10/28 Mystery Dinner (Registration Required by 10/24)\n11/4 Star Wars RPG\n11/11 Board Game: Codenames\n11/18 Star Wars RPG\n12/2 Star Wars RPG\n12/9 Board Game\n12/16 Star Wars RPG
URL:https://kaleidoscope-education.org/event/lanse-clubs-2/2024-09-09/
LOCATION:Kaleidoscope L’Anse\, 830 N Main St\, L'Anse\, MI\, 49946\, United States
END:VEVENT
BEGIN:VEVENT
DTSTART;VALUE=DATE:20240908
DTEND;VALUE=DATE:20240909
DTSTAMP:20260423T013102
CREATED:20240731T183140Z
LAST-MODIFIED:20240731T183140Z
UID:10002858-1725753600-1725839999@kaleidoscope-education.org
SUMMARY:Week 1
DESCRIPTION:Semester 1\, Week 1
URL:https://kaleidoscope-education.org/event/week-1/
LOCATION:MI
END:VEVENT
BEGIN:VEVENT
DTSTART;VALUE=DATE:20240905
DTEND;VALUE=DATE:20240906
DTSTAMP:20260423T013102
CREATED:20240823T190500Z
LAST-MODIFIED:20240823T190500Z
UID:10003118-1725494400-1725580799@kaleidoscope-education.org
SUMMARY:Hancock: New Families Orientation
DESCRIPTION:5:00-7:00 PM\, Kaleidoscope Hancock. This orientation is for students who are either brand new to Kaleidoscope or who have been involved with Kaleidoscope before but it is their first year enrolled via CLK Schools Virtual Programs.  \nNew families who are virtual-only are highly encouraged to attend one of our orientations. \nQuestions welcome all evening. Watch your email for more info if you are a new Kaleidoscope family!
URL:https://kaleidoscope-education.org/event/hancock-new-families-orientation/
LOCATION:Kaleidoscope Hancock\, 417 Quincy St\, Hancock\, 49930\, United States
END:VEVENT
BEGIN:VEVENT
DTSTART;VALUE=DATE:20240904
DTEND;VALUE=DATE:20240905
DTSTAMP:20260423T013102
CREATED:20240801T155958Z
LAST-MODIFIED:20240801T160425Z
UID:10002893-1725408000-1725494399@kaleidoscope-education.org
SUMMARY:L'Anse: New Families Orientation
DESCRIPTION:6:00-8:00 PM\, Kaleidoscope L’Anse. This orientation is for students who are either brand new to Kaleidoscope or who have been involved with Kaleidoscope before but it is their first year enrolled via CLK Schools Virtual Programs.  \nAt 6:00 we will tour the facility and go over information pertinent to everyone. \nAfter that\, any non-CLK families (self pay families) can leave and we will go over virtual elective requirements and how “solo” classes work.  \nNew families who are virtual-only are highly encouraged to attend one of our orientations. \nQuestions welcome all evening. Watch your email for more info if you are a new Kaleidoscope family!
URL:https://kaleidoscope-education.org/event/lanse-new-families-orientation/
LOCATION:Kaleidoscope L’Anse\, 830 N Main St\, L'Anse\, MI\, 49946\, United States
END:VEVENT
BEGIN:VEVENT
DTSTART;VALUE=DATE:20240829
DTEND;VALUE=DATE:20240830
DTSTAMP:20260423T013102
CREATED:20240605T201928Z
LAST-MODIFIED:20240701T173457Z
UID:10002802-1724889600-1724975999@kaleidoscope-education.org
SUMMARY:L'Anse Summer Clubs
DESCRIPTION:Clubs meet from 10-3 at Kaleidoscope L’Anse.  Summer Club Info
URL:https://kaleidoscope-education.org/event/lanse-summer-clubs/2024-08-29/
LOCATION:Kaleidoscope L’Anse\, 830 N Main St\, L'Anse\, MI\, 49946\, United States
END:VEVENT
BEGIN:VEVENT
DTSTART;VALUE=DATE:20240828
DTEND;VALUE=DATE:20240829
DTSTAMP:20260423T013102
CREATED:20240412T205441Z
LAST-MODIFIED:20240701T173303Z
UID:10002658-1724803200-1724889599@kaleidoscope-education.org
SUMMARY:L'Anse Summer Classes
DESCRIPTION:L’Anse Summer Class Schedule
URL:https://kaleidoscope-education.org/event/lanse-summer-classes-2/2024-08-28/
LOCATION:Kaleidoscope L’Anse\, 830 N Main St\, L'Anse\, MI\, 49946\, United States
END:VEVENT
BEGIN:VEVENT
DTSTART;VALUE=DATE:20240827
DTEND;VALUE=DATE:20240828
DTSTAMP:20260423T013102
CREATED:20240412T205311Z
LAST-MODIFIED:20240701T173059Z
UID:10002598-1724716800-1724803199@kaleidoscope-education.org
SUMMARY:Hancock Summer Classes
DESCRIPTION:Hancock Summer Class Schedule
URL:https://kaleidoscope-education.org/event/hancock-summer-classes-2/2024-08-27/
LOCATION:Kaleidoscope Hancock\, 417 Quincy St\, Hancock\, 49930\, United States
END:VEVENT
BEGIN:VEVENT
DTSTART;VALUE=DATE:20240823
DTEND;VALUE=DATE:20240824
DTSTAMP:20260423T013102
CREATED:20240731T192312Z
LAST-MODIFIED:20240731T192312Z
UID:10002889-1724371200-1724457599@kaleidoscope-education.org
SUMMARY:Elective Transfer Deadline
DESCRIPTION:This is the last day you can transfer your CLK Virtual Electives between partner organizations.
URL:https://kaleidoscope-education.org/event/elective-transfer-deadline/
LOCATION:MI
END:VEVENT
BEGIN:VEVENT
DTSTART;VALUE=DATE:20240822
DTEND;VALUE=DATE:20240823
DTSTAMP:20260423T013102
CREATED:20240605T203140Z
LAST-MODIFIED:20240808T144412Z
UID:10002855-1724284800-1724371199@kaleidoscope-education.org
SUMMARY:Waterway Cruise
DESCRIPTION:This summer Kaleidoscope will be partnering with Isle Royale National Park to run their family waterway cruise day. This is an event where local families can ride the Ranger III for free on a 45 minute cruise to Portage Lake and back. Cruises depart at 11:00 and 2:00. Reservations are required.  
URL:https://kaleidoscope-education.org/event/waterway-cruise/
LOCATION:MI
END:VEVENT
BEGIN:VEVENT
DTSTART;VALUE=DATE:20240822
DTEND;VALUE=DATE:20240823
DTSTAMP:20260423T013102
CREATED:20240412T205634Z
LAST-MODIFIED:20240412T205634Z
UID:10002711-1724284800-1724371199@kaleidoscope-education.org
SUMMARY:Battle of the Books
DESCRIPTION:Battle of the Books. L’Anse Township Park. Exact times TBD. Registration will open in May.
URL:https://kaleidoscope-education.org/event/battle-of-the-books-3/
LOCATION:L’Anse Township Park\, 15829 Skanee Rd\, L'Anse\, MI\, 49946\, United States
END:VEVENT
BEGIN:VEVENT
DTSTART;VALUE=DATE:20240821
DTEND;VALUE=DATE:20240822
DTSTAMP:20260423T013102
CREATED:20240412T205441Z
LAST-MODIFIED:20240701T173303Z
UID:10002657-1724198400-1724284799@kaleidoscope-education.org
SUMMARY:L'Anse Summer Classes
DESCRIPTION:L’Anse Summer Class Schedule
URL:https://kaleidoscope-education.org/event/lanse-summer-classes-2/2024-08-21/
LOCATION:Kaleidoscope L’Anse\, 830 N Main St\, L'Anse\, MI\, 49946\, United States
END:VEVENT
BEGIN:VEVENT
DTSTART;VALUE=DATE:20240820
DTEND;VALUE=DATE:20240821
DTSTAMP:20260423T013102
CREATED:20240412T205311Z
LAST-MODIFIED:20240701T173059Z
UID:10002597-1724112000-1724198399@kaleidoscope-education.org
SUMMARY:Hancock Summer Classes
DESCRIPTION:Hancock Summer Class Schedule
URL:https://kaleidoscope-education.org/event/hancock-summer-classes-2/2024-08-20/
LOCATION:Kaleidoscope Hancock\, 417 Quincy St\, Hancock\, 49930\, United States
END:VEVENT
BEGIN:VEVENT
DTSTART;VALUE=DATE:20240815
DTEND;VALUE=DATE:20240816
DTSTAMP:20260423T013102
CREATED:20230913T214635Z
LAST-MODIFIED:20240716T195616Z
UID:10002857-1723708800-1723741200@kaleidoscope-education.org
SUMMARY:Board Meeting
DESCRIPTION:6:30-8:30 pm. \nBoard meetings are open to the public. \n Contact us to be added to the zoom meeting.
URL:https://kaleidoscope-education.org/event/board-meeting-5/2024-08-15/
LOCATION:MI
END:VEVENT
BEGIN:VEVENT
DTSTART;VALUE=DATE:20240815
DTEND;VALUE=DATE:20240816
DTSTAMP:20260423T013102
CREATED:20240605T201928Z
LAST-MODIFIED:20240701T173457Z
UID:10002801-1723680000-1723766399@kaleidoscope-education.org
SUMMARY:L'Anse Summer Clubs
DESCRIPTION:Clubs meet from 10-3 at Kaleidoscope L’Anse.  Summer Club Info
URL:https://kaleidoscope-education.org/event/lanse-summer-clubs/2024-08-15/
LOCATION:Kaleidoscope L’Anse\, 830 N Main St\, L'Anse\, MI\, 49946\, United States
END:VEVENT
BEGIN:VEVENT
DTSTART;VALUE=DATE:20240814
DTEND;VALUE=DATE:20240815
DTSTAMP:20260423T013102
CREATED:20240412T205441Z
LAST-MODIFIED:20240701T173303Z
UID:10002656-1723593600-1723679999@kaleidoscope-education.org
SUMMARY:L'Anse Summer Classes
DESCRIPTION:L’Anse Summer Class Schedule
URL:https://kaleidoscope-education.org/event/lanse-summer-classes-2/2024-08-14/
LOCATION:Kaleidoscope L’Anse\, 830 N Main St\, L'Anse\, MI\, 49946\, United States
END:VEVENT
BEGIN:VEVENT
DTSTART;VALUE=DATE:20240813
DTEND;VALUE=DATE:20240814
DTSTAMP:20260423T013102
CREATED:20240412T211652Z
LAST-MODIFIED:20240430T180918Z
UID:10002715-1723507200-1723593599@kaleidoscope-education.org
SUMMARY:Grown Ups Art Night
DESCRIPTION:Kaleidoscope L’Anse \nJoin us at 7PM for a one hour art class followed by social hour on these nights: \n5/14\, 6/11\, 7/9\, 8/13 \n$12 per class. Coffee and Tea provided\, \nbring a snack to share (optional).
URL:https://kaleidoscope-education.org/event/grown-ups-art-night/2024-08-13/
LOCATION:Kaleidoscope L’Anse\, 830 N Main St\, L'Anse\, MI\, 49946\, United States
END:VEVENT
BEGIN:VEVENT
DTSTART;VALUE=DATE:20240813
DTEND;VALUE=DATE:20240814
DTSTAMP:20260423T013102
CREATED:20240412T205311Z
LAST-MODIFIED:20240701T173059Z
UID:10002596-1723507200-1723593599@kaleidoscope-education.org
SUMMARY:Hancock Summer Classes
DESCRIPTION:Hancock Summer Class Schedule
URL:https://kaleidoscope-education.org/event/hancock-summer-classes-2/2024-08-13/
LOCATION:Kaleidoscope Hancock\, 417 Quincy St\, Hancock\, 49930\, United States
END:VEVENT
BEGIN:VEVENT
DTSTART;VALUE=DATE:20240808
DTEND;VALUE=DATE:20240809
DTSTAMP:20260423T013102
CREATED:20240605T201928Z
LAST-MODIFIED:20240701T173457Z
UID:10002800-1723075200-1723161599@kaleidoscope-education.org
SUMMARY:L'Anse Summer Clubs
DESCRIPTION:Clubs meet from 10-3 at Kaleidoscope L’Anse.  Summer Club Info
URL:https://kaleidoscope-education.org/event/lanse-summer-clubs/2024-08-08/
LOCATION:Kaleidoscope L’Anse\, 830 N Main St\, L'Anse\, MI\, 49946\, United States
END:VEVENT
BEGIN:VEVENT
DTSTART;VALUE=DATE:20240807
DTEND;VALUE=DATE:20240808
DTSTAMP:20260423T013102
CREATED:20240412T205441Z
LAST-MODIFIED:20240701T173303Z
UID:10002655-1722988800-1723075199@kaleidoscope-education.org
SUMMARY:L'Anse Summer Classes
DESCRIPTION:L’Anse Summer Class Schedule
URL:https://kaleidoscope-education.org/event/lanse-summer-classes-2/2024-08-07/
LOCATION:Kaleidoscope L’Anse\, 830 N Main St\, L'Anse\, MI\, 49946\, United States
END:VEVENT
BEGIN:VEVENT
DTSTART;VALUE=DATE:20240806
DTEND;VALUE=DATE:20240807
DTSTAMP:20260423T013102
CREATED:20240412T205311Z
LAST-MODIFIED:20240701T173059Z
UID:10002595-1722902400-1722988799@kaleidoscope-education.org
SUMMARY:Hancock Summer Classes
DESCRIPTION:Hancock Summer Class Schedule
URL:https://kaleidoscope-education.org/event/hancock-summer-classes-2/2024-08-06/
LOCATION:Kaleidoscope Hancock\, 417 Quincy St\, Hancock\, 49930\, United States
END:VEVENT
BEGIN:VEVENT
DTSTART;VALUE=DATE:20240801
DTEND;VALUE=DATE:20240802
DTSTAMP:20260423T013102
CREATED:20240605T201928Z
LAST-MODIFIED:20240701T173457Z
UID:10002799-1722470400-1722556799@kaleidoscope-education.org
SUMMARY:L'Anse Summer Clubs
DESCRIPTION:Clubs meet from 10-3 at Kaleidoscope L’Anse.  Summer Club Info
URL:https://kaleidoscope-education.org/event/lanse-summer-clubs/2024-08-01/
LOCATION:Kaleidoscope L’Anse\, 830 N Main St\, L'Anse\, MI\, 49946\, United States
END:VEVENT
BEGIN:VEVENT
DTSTART;VALUE=DATE:20240731
DTEND;VALUE=DATE:20240801
DTSTAMP:20260423T013102
CREATED:20240412T205441Z
LAST-MODIFIED:20240701T173303Z
UID:10002654-1722384000-1722470399@kaleidoscope-education.org
SUMMARY:L'Anse Summer Classes
DESCRIPTION:L’Anse Summer Class Schedule
URL:https://kaleidoscope-education.org/event/lanse-summer-classes-2/2024-07-31/
LOCATION:Kaleidoscope L’Anse\, 830 N Main St\, L'Anse\, MI\, 49946\, United States
END:VEVENT
BEGIN:VEVENT
DTSTART;VALUE=DATE:20240730
DTEND;VALUE=DATE:20240731
DTSTAMP:20260423T013102
CREATED:20240412T205311Z
LAST-MODIFIED:20240701T173059Z
UID:10002594-1722297600-1722383999@kaleidoscope-education.org
SUMMARY:Hancock Summer Classes
DESCRIPTION:Hancock Summer Class Schedule
URL:https://kaleidoscope-education.org/event/hancock-summer-classes-2/2024-07-30/
LOCATION:Kaleidoscope Hancock\, 417 Quincy St\, Hancock\, 49930\, United States
END:VEVENT
BEGIN:VEVENT
DTSTART;VALUE=DATE:20240725
DTEND;VALUE=DATE:20240726
DTSTAMP:20260423T013102
CREATED:20240509T152426Z
LAST-MODIFIED:20240603T145032Z
UID:10002720-1721894400-1721926800@kaleidoscope-education.org
SUMMARY:Workshop with Joe F.
DESCRIPTION:3:30-5:30 pm at Kaleidoscope L’Anse \nJoin Geologist and Wildlife Expert Joe Ferrer to learn about hawks and owls\, dissect owl pellets\, and more! $5 for community members\, free for Kaleidoscope members. \nRegister Here\n \n 
URL:https://kaleidoscope-education.org/event/workshop-with-joe-f/2024-07-25/
LOCATION:Kaleidoscope L’Anse\, 830 N Main St\, L'Anse\, MI\, 49946\, United States
END:VEVENT
BEGIN:VEVENT
DTSTART;VALUE=DATE:20240725
DTEND;VALUE=DATE:20240726
DTSTAMP:20260423T013102
CREATED:20240605T201928Z
LAST-MODIFIED:20240701T173457Z
UID:10002798-1721865600-1721951999@kaleidoscope-education.org
SUMMARY:L'Anse Summer Clubs
DESCRIPTION:Clubs meet from 10-3 at Kaleidoscope L’Anse.  Summer Club Info
URL:https://kaleidoscope-education.org/event/lanse-summer-clubs/2024-07-25/
LOCATION:Kaleidoscope L’Anse\, 830 N Main St\, L'Anse\, MI\, 49946\, United States
END:VEVENT
BEGIN:VEVENT
DTSTART;VALUE=DATE:20240724
DTEND;VALUE=DATE:20240725
DTSTAMP:20260423T013102
CREATED:20240412T205441Z
LAST-MODIFIED:20240701T173303Z
UID:10002653-1721779200-1721865599@kaleidoscope-education.org
SUMMARY:L'Anse Summer Classes
DESCRIPTION:L’Anse Summer Class Schedule
URL:https://kaleidoscope-education.org/event/lanse-summer-classes-2/2024-07-24/
LOCATION:Kaleidoscope L’Anse\, 830 N Main St\, L'Anse\, MI\, 49946\, United States
END:VEVENT
BEGIN:VEVENT
DTSTART;VALUE=DATE:20240723
DTEND;VALUE=DATE:20240724
DTSTAMP:20260423T013102
CREATED:20240412T205311Z
LAST-MODIFIED:20240701T173059Z
UID:10002593-1721692800-1721779199@kaleidoscope-education.org
SUMMARY:Hancock Summer Classes
DESCRIPTION:Hancock Summer Class Schedule
URL:https://kaleidoscope-education.org/event/hancock-summer-classes-2/2024-07-23/
LOCATION:Kaleidoscope Hancock\, 417 Quincy St\, Hancock\, 49930\, United States
END:VEVENT
END:VCALENDAR