BEGIN:VCALENDAR
VERSION:2.0
PRODID:-//Kaleidoscope - ECPv6.15.18//NONSGML v1.0//EN
CALSCALE:GREGORIAN
METHOD:PUBLISH
X-WR-CALNAME:Kaleidoscope
X-ORIGINAL-URL:https://kaleidoscope-education.org
X-WR-CALDESC:Events for Kaleidoscope
REFRESH-INTERVAL;VALUE=DURATION:PT1H
X-Robots-Tag:noindex
X-PUBLISHED-TTL:PT1H
BEGIN:VTIMEZONE
TZID:America/Detroit
BEGIN:DAYLIGHT
TZOFFSETFROM:-0500
TZOFFSETTO:-0400
TZNAME:EDT
DTSTART:20230312T070000
END:DAYLIGHT
BEGIN:STANDARD
TZOFFSETFROM:-0400
TZOFFSETTO:-0500
TZNAME:EST
DTSTART:20231105T060000
END:STANDARD
BEGIN:DAYLIGHT
TZOFFSETFROM:-0500
TZOFFSETTO:-0400
TZNAME:EDT
DTSTART:20240310T070000
END:DAYLIGHT
BEGIN:STANDARD
TZOFFSETFROM:-0400
TZOFFSETTO:-0500
TZNAME:EST
DTSTART:20241103T060000
END:STANDARD
BEGIN:DAYLIGHT
TZOFFSETFROM:-0500
TZOFFSETTO:-0400
TZNAME:EDT
DTSTART:20250309T070000
END:DAYLIGHT
BEGIN:STANDARD
TZOFFSETFROM:-0400
TZOFFSETTO:-0500
TZNAME:EST
DTSTART:20251102T060000
END:STANDARD
END:VTIMEZONE
BEGIN:VEVENT
DTSTART;VALUE=DATE:20240731
DTEND;VALUE=DATE:20240801
DTSTAMP:20260423T043121
CREATED:20240412T205441Z
LAST-MODIFIED:20240701T173303Z
UID:10002654-1722384000-1722470399@kaleidoscope-education.org
SUMMARY:L'Anse Summer Classes
DESCRIPTION:L’Anse Summer Class Schedule
URL:https://kaleidoscope-education.org/event/lanse-summer-classes-2/2024-07-31/
LOCATION:Kaleidoscope L’Anse\, 830 N Main St\, L'Anse\, MI\, 49946\, United States
END:VEVENT
BEGIN:VEVENT
DTSTART;VALUE=DATE:20240730
DTEND;VALUE=DATE:20240731
DTSTAMP:20260423T043121
CREATED:20240412T205311Z
LAST-MODIFIED:20240701T173059Z
UID:10002594-1722297600-1722383999@kaleidoscope-education.org
SUMMARY:Hancock Summer Classes
DESCRIPTION:Hancock Summer Class Schedule
URL:https://kaleidoscope-education.org/event/hancock-summer-classes-2/2024-07-30/
LOCATION:Kaleidoscope Hancock\, 417 Quincy St\, Hancock\, 49930\, United States
END:VEVENT
BEGIN:VEVENT
DTSTART;VALUE=DATE:20240725
DTEND;VALUE=DATE:20240726
DTSTAMP:20260423T043121
CREATED:20240509T152426Z
LAST-MODIFIED:20240603T145032Z
UID:10002720-1721894400-1721926800@kaleidoscope-education.org
SUMMARY:Workshop with Joe F.
DESCRIPTION:3:30-5:30 pm at Kaleidoscope L’Anse \nJoin Geologist and Wildlife Expert Joe Ferrer to learn about hawks and owls\, dissect owl pellets\, and more! $5 for community members\, free for Kaleidoscope members. \nRegister Here\n \n 
URL:https://kaleidoscope-education.org/event/workshop-with-joe-f/2024-07-25/
LOCATION:Kaleidoscope L’Anse\, 830 N Main St\, L'Anse\, MI\, 49946\, United States
END:VEVENT
BEGIN:VEVENT
DTSTART;VALUE=DATE:20240725
DTEND;VALUE=DATE:20240726
DTSTAMP:20260423T043121
CREATED:20240605T201928Z
LAST-MODIFIED:20240701T173457Z
UID:10002798-1721865600-1721951999@kaleidoscope-education.org
SUMMARY:L'Anse Summer Clubs
DESCRIPTION:Clubs meet from 10-3 at Kaleidoscope L’Anse.  Summer Club Info
URL:https://kaleidoscope-education.org/event/lanse-summer-clubs/2024-07-25/
LOCATION:Kaleidoscope L’Anse\, 830 N Main St\, L'Anse\, MI\, 49946\, United States
END:VEVENT
BEGIN:VEVENT
DTSTART;VALUE=DATE:20240724
DTEND;VALUE=DATE:20240725
DTSTAMP:20260423T043121
CREATED:20240412T205441Z
LAST-MODIFIED:20240701T173303Z
UID:10002653-1721779200-1721865599@kaleidoscope-education.org
SUMMARY:L'Anse Summer Classes
DESCRIPTION:L’Anse Summer Class Schedule
URL:https://kaleidoscope-education.org/event/lanse-summer-classes-2/2024-07-24/
LOCATION:Kaleidoscope L’Anse\, 830 N Main St\, L'Anse\, MI\, 49946\, United States
END:VEVENT
BEGIN:VEVENT
DTSTART;VALUE=DATE:20240723
DTEND;VALUE=DATE:20240724
DTSTAMP:20260423T043121
CREATED:20240412T205311Z
LAST-MODIFIED:20240701T173059Z
UID:10002593-1721692800-1721779199@kaleidoscope-education.org
SUMMARY:Hancock Summer Classes
DESCRIPTION:Hancock Summer Class Schedule
URL:https://kaleidoscope-education.org/event/hancock-summer-classes-2/2024-07-23/
LOCATION:Kaleidoscope Hancock\, 417 Quincy St\, Hancock\, 49930\, United States
END:VEVENT
BEGIN:VEVENT
DTSTART;VALUE=DATE:20240718
DTEND;VALUE=DATE:20240719
DTSTAMP:20260423T043121
CREATED:20230913T214635Z
LAST-MODIFIED:20240716T195616Z
UID:10002856-1721289600-1721322000@kaleidoscope-education.org
SUMMARY:Board Meeting
DESCRIPTION:6:30-8:30 pm. \nBoard meetings are open to the public. \n Contact us to be added to the zoom meeting.
URL:https://kaleidoscope-education.org/event/board-meeting-5/2024-07-18/
LOCATION:MI
END:VEVENT
BEGIN:VEVENT
DTSTART;VALUE=DATE:20240718
DTEND;VALUE=DATE:20240719
DTSTAMP:20260423T043121
CREATED:20240605T201928Z
LAST-MODIFIED:20240701T173457Z
UID:10002797-1721260800-1721347199@kaleidoscope-education.org
SUMMARY:L'Anse Summer Clubs
DESCRIPTION:Clubs meet from 10-3 at Kaleidoscope L’Anse.  Summer Club Info
URL:https://kaleidoscope-education.org/event/lanse-summer-clubs/2024-07-18/
LOCATION:Kaleidoscope L’Anse\, 830 N Main St\, L'Anse\, MI\, 49946\, United States
END:VEVENT
BEGIN:VEVENT
DTSTART;VALUE=DATE:20240717
DTEND;VALUE=DATE:20240718
DTSTAMP:20260423T043121
CREATED:20240412T205441Z
LAST-MODIFIED:20240701T173303Z
UID:10002652-1721174400-1721260799@kaleidoscope-education.org
SUMMARY:L'Anse Summer Classes
DESCRIPTION:L’Anse Summer Class Schedule
URL:https://kaleidoscope-education.org/event/lanse-summer-classes-2/2024-07-17/
LOCATION:Kaleidoscope L’Anse\, 830 N Main St\, L'Anse\, MI\, 49946\, United States
END:VEVENT
BEGIN:VEVENT
DTSTART;VALUE=DATE:20240716
DTEND;VALUE=DATE:20240717
DTSTAMP:20260423T043121
CREATED:20240412T205311Z
LAST-MODIFIED:20240701T173059Z
UID:10002592-1721088000-1721174399@kaleidoscope-education.org
SUMMARY:Hancock Summer Classes
DESCRIPTION:Hancock Summer Class Schedule
URL:https://kaleidoscope-education.org/event/hancock-summer-classes-2/2024-07-16/
LOCATION:Kaleidoscope Hancock\, 417 Quincy St\, Hancock\, 49930\, United States
END:VEVENT
BEGIN:VEVENT
DTSTART;VALUE=DATE:20240711
DTEND;VALUE=DATE:20240712
DTSTAMP:20260423T043121
CREATED:20240509T152426Z
LAST-MODIFIED:20240603T145032Z
UID:10002719-1720684800-1720717200@kaleidoscope-education.org
SUMMARY:Workshop with Joe F.
DESCRIPTION:3:30-5:30 pm at Kaleidoscope L’Anse \nJoin Geologist and Wildlife Expert Joe Ferrer to learn about hawks and owls\, dissect owl pellets\, and more! $5 for community members\, free for Kaleidoscope members. \nRegister Here\n \n 
URL:https://kaleidoscope-education.org/event/workshop-with-joe-f/2024-07-11/
LOCATION:Kaleidoscope L’Anse\, 830 N Main St\, L'Anse\, MI\, 49946\, United States
END:VEVENT
BEGIN:VEVENT
DTSTART;VALUE=DATE:20240711
DTEND;VALUE=DATE:20240712
DTSTAMP:20260423T043121
CREATED:20240605T201928Z
LAST-MODIFIED:20240701T173457Z
UID:10002796-1720656000-1720742399@kaleidoscope-education.org
SUMMARY:L'Anse Summer Clubs
DESCRIPTION:Clubs meet from 10-3 at Kaleidoscope L’Anse.  Summer Club Info
URL:https://kaleidoscope-education.org/event/lanse-summer-clubs/2024-07-11/
LOCATION:Kaleidoscope L’Anse\, 830 N Main St\, L'Anse\, MI\, 49946\, United States
END:VEVENT
BEGIN:VEVENT
DTSTART;VALUE=DATE:20240710
DTEND;VALUE=DATE:20240711
DTSTAMP:20260423T043121
CREATED:20240412T205441Z
LAST-MODIFIED:20240701T173303Z
UID:10002651-1720569600-1720655999@kaleidoscope-education.org
SUMMARY:L'Anse Summer Classes
DESCRIPTION:L’Anse Summer Class Schedule
URL:https://kaleidoscope-education.org/event/lanse-summer-classes-2/2024-07-10/
LOCATION:Kaleidoscope L’Anse\, 830 N Main St\, L'Anse\, MI\, 49946\, United States
END:VEVENT
BEGIN:VEVENT
DTSTART;VALUE=DATE:20240709
DTEND;VALUE=DATE:20240710
DTSTAMP:20260423T043121
CREATED:20240412T211652Z
LAST-MODIFIED:20240430T180918Z
UID:10002714-1720483200-1720569599@kaleidoscope-education.org
SUMMARY:Grown Ups Art Night
DESCRIPTION:Kaleidoscope L’Anse \nJoin us at 7PM for a one hour art class followed by social hour on these nights: \n5/14\, 6/11\, 7/9\, 8/13 \n$12 per class. Coffee and Tea provided\, \nbring a snack to share (optional).
URL:https://kaleidoscope-education.org/event/grown-ups-art-night/2024-07-09/
LOCATION:Kaleidoscope L’Anse\, 830 N Main St\, L'Anse\, MI\, 49946\, United States
END:VEVENT
BEGIN:VEVENT
DTSTART;VALUE=DATE:20240709
DTEND;VALUE=DATE:20240710
DTSTAMP:20260423T043121
CREATED:20240412T205311Z
LAST-MODIFIED:20240701T173059Z
UID:10002591-1720483200-1720569599@kaleidoscope-education.org
SUMMARY:Hancock Summer Classes
DESCRIPTION:Hancock Summer Class Schedule
URL:https://kaleidoscope-education.org/event/hancock-summer-classes-2/2024-07-09/
LOCATION:Kaleidoscope Hancock\, 417 Quincy St\, Hancock\, 49930\, United States
END:VEVENT
BEGIN:VEVENT
DTSTART;VALUE=DATE:20240629
DTEND;VALUE=DATE:20240630
DTSTAMP:20260423T043121
CREATED:20240604T202756Z
LAST-MODIFIED:20240604T202756Z
UID:10002723-1719648000-1719680400@kaleidoscope-education.org
SUMMARY:Pied Piper - Drama Camp Performance
DESCRIPTION:6:00 PM Fri 6/28 and 10:00 AM Sat 6/29 at the Calumet Theatre! \nCome see what our Drama Camp students have accomplished in just one week. \nBuy Tickets Here!
URL:https://kaleidoscope-education.org/event/pied-piper-drama-camp-performance/2024-06-29/
LOCATION:The Calumet Theatre\, 340 6th Street\, Calumet\, MI\, 49931
END:VEVENT
BEGIN:VEVENT
DTSTART;VALUE=DATE:20240628
DTEND;VALUE=DATE:20240629
DTSTAMP:20260423T043121
CREATED:20240604T202756Z
LAST-MODIFIED:20240604T202756Z
UID:10002722-1719532800-1719619199@kaleidoscope-education.org
SUMMARY:Pied Piper - Drama Camp Performance
DESCRIPTION:6:00 PM Fri 6/28 and 10:00 AM Sat 6/29 at the Calumet Theatre! \nCome see what our Drama Camp students have accomplished in just one week. \nBuy Tickets Here!
URL:https://kaleidoscope-education.org/event/pied-piper-drama-camp-performance/2024-06-28/
LOCATION:The Calumet Theatre\, 340 6th Street\, Calumet\, MI\, 49931
END:VEVENT
BEGIN:VEVENT
DTSTART;VALUE=DATE:20240627
DTEND;VALUE=DATE:20240628
DTSTAMP:20260423T043121
CREATED:20240509T152426Z
LAST-MODIFIED:20240603T145032Z
UID:10002718-1719475200-1719507600@kaleidoscope-education.org
SUMMARY:Workshop with Joe F.
DESCRIPTION:3:30-5:30 pm at Kaleidoscope L’Anse \nJoin Geologist and Wildlife Expert Joe Ferrer to learn about hawks and owls\, dissect owl pellets\, and more! $5 for community members\, free for Kaleidoscope members. \nRegister Here\n \n 
URL:https://kaleidoscope-education.org/event/workshop-with-joe-f/2024-06-27/
LOCATION:Kaleidoscope L’Anse\, 830 N Main St\, L'Anse\, MI\, 49946\, United States
END:VEVENT
BEGIN:VEVENT
DTSTART;VALUE=DATE:20240627
DTEND;VALUE=DATE:20240628
DTSTAMP:20260423T043121
CREATED:20240605T201928Z
LAST-MODIFIED:20240701T173457Z
UID:10002795-1719446400-1719532799@kaleidoscope-education.org
SUMMARY:L'Anse Summer Clubs
DESCRIPTION:Clubs meet from 10-3 at Kaleidoscope L’Anse.  Summer Club Info
URL:https://kaleidoscope-education.org/event/lanse-summer-clubs/2024-06-27/
LOCATION:Kaleidoscope L’Anse\, 830 N Main St\, L'Anse\, MI\, 49946\, United States
END:VEVENT
BEGIN:VEVENT
DTSTART;VALUE=DATE:20240624
DTEND;VALUE=DATE:20240630
DTSTAMP:20260423T043121
CREATED:20231109T221612Z
LAST-MODIFIED:20240415T161632Z
UID:10000401-1719187200-1719705599@kaleidoscope-education.org
SUMMARY:Drama Camp
DESCRIPTION:June 24th-29th \nJoin us at Kaleidoscope Hancock for our third annual Drama Camp and performances! This year’s production: The Pied Piper \nClick here for all the details!
URL:https://kaleidoscope-education.org/event/drama-camp-2/
LOCATION:MI
END:VEVENT
BEGIN:VEVENT
DTSTART;VALUE=DATE:20240620
DTEND;VALUE=DATE:20240621
DTSTAMP:20260423T043121
CREATED:20240605T201928Z
LAST-MODIFIED:20240701T173457Z
UID:10002794-1718841600-1718927999@kaleidoscope-education.org
SUMMARY:L'Anse Summer Clubs
DESCRIPTION:Clubs meet from 10-3 at Kaleidoscope L’Anse.  Summer Club Info
URL:https://kaleidoscope-education.org/event/lanse-summer-clubs/2024-06-20/
LOCATION:Kaleidoscope L’Anse\, 830 N Main St\, L'Anse\, MI\, 49946\, United States
END:VEVENT
BEGIN:VEVENT
DTSTART;VALUE=DATE:20240617
DTEND;VALUE=DATE:20240621
DTSTAMP:20260423T043121
CREATED:20240412T204941Z
LAST-MODIFIED:20240415T161747Z
UID:10002590-1718582400-1718927999@kaleidoscope-education.org
SUMMARY:Art Camp
DESCRIPTION:Art Day Camp at Kaleidoscope L’Anse for ages 8-14. June 17-20\, 1:00-4:00 PM.  More information coming soon. Registration will open in May.
URL:https://kaleidoscope-education.org/event/art-camp/
LOCATION:Kaleidoscope L’Anse\, 830 N Main St\, L'Anse\, MI\, 49946\, United States
END:VEVENT
BEGIN:VEVENT
DTSTART;VALUE=DATE:20240614
DTEND;VALUE=DATE:20240615
DTSTAMP:20260423T043121
CREATED:20240605T202655Z
LAST-MODIFIED:20240606T141937Z
UID:10002791-1718323200-1718409599@kaleidoscope-education.org
SUMMARY:Kids on the Green
DESCRIPTION:Kids on the Green\nStop by our booth and make slime.\n11:00-3:00 on Quincy Green in Hancock\nAll Ages\nFREE\, as part of Bridgefest
URL:https://kaleidoscope-education.org/event/kids-on-the-green-2/
LOCATION:MI
END:VEVENT
BEGIN:VEVENT
DTSTART;VALUE=DATE:20240613
DTEND;VALUE=DATE:20240614
DTSTAMP:20260423T043121
CREATED:20240605T201928Z
LAST-MODIFIED:20240701T173457Z
UID:10002793-1718236800-1718323199@kaleidoscope-education.org
SUMMARY:L'Anse Summer Clubs
DESCRIPTION:Clubs meet from 10-3 at Kaleidoscope L’Anse.  Summer Club Info
URL:https://kaleidoscope-education.org/event/lanse-summer-clubs/2024-06-13/
LOCATION:Kaleidoscope L’Anse\, 830 N Main St\, L'Anse\, MI\, 49946\, United States
END:VEVENT
BEGIN:VEVENT
DTSTART;VALUE=DATE:20240613
DTEND;VALUE=DATE:20240614
DTSTAMP:20260423T043121
CREATED:20240509T152426Z
LAST-MODIFIED:20240603T145032Z
UID:10002721-1718236800-1718323199@kaleidoscope-education.org
SUMMARY:Workshop with Joe F.
DESCRIPTION:3:30-5:30 pm at Kaleidoscope L’Anse \nJoin Geologist and Wildlife Expert Joe Ferrer to learn about hawks and owls\, dissect owl pellets\, and more! $5 for community members\, free for Kaleidoscope members. \nRegister Here\n \n 
URL:https://kaleidoscope-education.org/event/workshop-with-joe-f/2024-06-13/
LOCATION:Kaleidoscope L’Anse\, 830 N Main St\, L'Anse\, MI\, 49946\, United States
END:VEVENT
BEGIN:VEVENT
DTSTART;VALUE=DATE:20240611
DTEND;VALUE=DATE:20240612
DTSTAMP:20260423T043121
CREATED:20240412T211652Z
LAST-MODIFIED:20240430T180918Z
UID:10002713-1718064000-1718150399@kaleidoscope-education.org
SUMMARY:Grown Ups Art Night
DESCRIPTION:Kaleidoscope L’Anse \nJoin us at 7PM for a one hour art class followed by social hour on these nights: \n5/14\, 6/11\, 7/9\, 8/13 \n$12 per class. Coffee and Tea provided\, \nbring a snack to share (optional).
URL:https://kaleidoscope-education.org/event/grown-ups-art-night/2024-06-11/
LOCATION:Kaleidoscope L’Anse\, 830 N Main St\, L'Anse\, MI\, 49946\, United States
END:VEVENT
BEGIN:VEVENT
DTSTART;VALUE=DATE:20240608
DTEND;VALUE=DATE:20240609
DTSTAMP:20260423T043121
CREATED:20240605T202547Z
LAST-MODIFIED:20240605T202547Z
UID:10002790-1717804800-1717891199@kaleidoscope-education.org
SUMMARY:Lake Trout Festival
DESCRIPTION:Lake Trout Festival\nStop by our booth and participate in Kaleidoscope Spy School.\n12:00-5:00 pm at L’Anse Waterfront Park*\nAll Ages\nFREE\, as part of Lake Trout Festival\n*festival will be moved to Meadowbrook Arena in case of inclement weather
URL:https://kaleidoscope-education.org/event/lake-trout-festival/
LOCATION:MI
END:VEVENT
BEGIN:VEVENT
DTSTART;VALUE=DATE:20240606
DTEND;VALUE=DATE:20240607
DTSTAMP:20260423T043121
CREATED:20240605T201928Z
LAST-MODIFIED:20240701T173457Z
UID:10002792-1717632000-1717718399@kaleidoscope-education.org
SUMMARY:L'Anse Summer Clubs
DESCRIPTION:Clubs meet from 10-3 at Kaleidoscope L’Anse.  Summer Club Info
URL:https://kaleidoscope-education.org/event/lanse-summer-clubs/2024-06-06/
LOCATION:Kaleidoscope L’Anse\, 830 N Main St\, L'Anse\, MI\, 49946\, United States
END:VEVENT
BEGIN:VEVENT
DTSTART;VALUE=DATE:20240514
DTEND;VALUE=DATE:20240515
DTSTAMP:20260423T043121
CREATED:20240412T211652Z
LAST-MODIFIED:20240430T180918Z
UID:10002712-1715644800-1715731199@kaleidoscope-education.org
SUMMARY:Grown Ups Art Night
DESCRIPTION:Kaleidoscope L’Anse \nJoin us at 7PM for a one hour art class followed by social hour on these nights: \n5/14\, 6/11\, 7/9\, 8/13 \n$12 per class. Coffee and Tea provided\, \nbring a snack to share (optional).
URL:https://kaleidoscope-education.org/event/grown-ups-art-night/2024-05-14/
LOCATION:Kaleidoscope L’Anse\, 830 N Main St\, L'Anse\, MI\, 49946\, United States
END:VEVENT
BEGIN:VEVENT
DTSTART;VALUE=DATE:20240513
DTEND;VALUE=DATE:20240518
DTSTAMP:20260423T043121
CREATED:20231109T220850Z
LAST-MODIFIED:20231109T220850Z
UID:10000400-1715558400-1715990399@kaleidoscope-education.org
SUMMARY:New Student Registration
DESCRIPTION:May 13th-17th \nNew students may register for 2024/2025 classes and electives this week.
URL:https://kaleidoscope-education.org/event/new-student-registration/
LOCATION:MI
END:VEVENT
END:VCALENDAR