BEGIN:VCALENDAR
VERSION:2.0
PRODID:-//Kaleidoscope - ECPv6.15.18//NONSGML v1.0//EN
CALSCALE:GREGORIAN
METHOD:PUBLISH
X-WR-CALNAME:Kaleidoscope
X-ORIGINAL-URL:https://kaleidoscope-education.org
X-WR-CALDESC:Events for Kaleidoscope
REFRESH-INTERVAL;VALUE=DURATION:PT1H
X-Robots-Tag:noindex
X-PUBLISHED-TTL:PT1H
BEGIN:VTIMEZONE
TZID:America/Detroit
BEGIN:DAYLIGHT
TZOFFSETFROM:-0500
TZOFFSETTO:-0400
TZNAME:EDT
DTSTART:20230312T070000
END:DAYLIGHT
BEGIN:STANDARD
TZOFFSETFROM:-0400
TZOFFSETTO:-0500
TZNAME:EST
DTSTART:20231105T060000
END:STANDARD
BEGIN:DAYLIGHT
TZOFFSETFROM:-0500
TZOFFSETTO:-0400
TZNAME:EDT
DTSTART:20240310T070000
END:DAYLIGHT
BEGIN:STANDARD
TZOFFSETFROM:-0400
TZOFFSETTO:-0500
TZNAME:EST
DTSTART:20241103T060000
END:STANDARD
BEGIN:DAYLIGHT
TZOFFSETFROM:-0500
TZOFFSETTO:-0400
TZNAME:EDT
DTSTART:20250309T070000
END:DAYLIGHT
BEGIN:STANDARD
TZOFFSETFROM:-0400
TZOFFSETTO:-0500
TZNAME:EST
DTSTART:20251102T060000
END:STANDARD
END:VTIMEZONE
BEGIN:VEVENT
DTSTART;VALUE=DATE:20240506
DTEND;VALUE=DATE:20240507
DTSTAMP:20260423T085851
CREATED:20230302T225905Z
LAST-MODIFIED:20230302T225905Z
UID:10002449-1714953600-1715039999@kaleidoscope-education.org
SUMMARY:L'Anse Clubs
DESCRIPTION:Lego Club and Craft Club meet from 4:00-5:30 at Kaleidoscope L’Anse.
URL:https://kaleidoscope-education.org/event/lanse-clubs/2024-05-06/
END:VEVENT
BEGIN:VEVENT
DTSTART;VALUE=DATE:20240506
DTEND;VALUE=DATE:20240507
DTSTAMP:20260423T085851
CREATED:20230302T225711Z
LAST-MODIFIED:20230302T225711Z
UID:10002436-1714953600-1715039999@kaleidoscope-education.org
SUMMARY:Club Teen Night - L'Anse
DESCRIPTION:6:00-8:00 PM at Kaleidoscope L’Anse
URL:https://kaleidoscope-education.org/event/club-teen-night-lanse-2/2024-05-06/
END:VEVENT
BEGIN:VEVENT
DTSTART;VALUE=DATE:20240506
DTEND;VALUE=DATE:20240507
DTSTAMP:20260423T085851
CREATED:20230302T225540Z
LAST-MODIFIED:20230302T225540Z
UID:10002423-1714953600-1715039999@kaleidoscope-education.org
SUMMARY:Hancock Classes
DESCRIPTION:
URL:https://kaleidoscope-education.org/event/hancock-classes-4/2024-05-06/
END:VEVENT
BEGIN:VEVENT
DTSTART;VALUE=DATE:20240505
DTEND;VALUE=DATE:20240506
DTSTAMP:20260423T085851
CREATED:20230223T223636Z
LAST-MODIFIED:20230223T223636Z
UID:10000326-1714867200-1714867200@kaleidoscope-education.org
SUMMARY:Week 14
DESCRIPTION:
URL:https://kaleidoscope-education.org/event/week-14-2/
END:VEVENT
BEGIN:VEVENT
DTSTART;VALUE=DATE:20240502
DTEND;VALUE=DATE:20240503
DTSTAMP:20260423T085851
CREATED:20230302T231826Z
LAST-MODIFIED:20230302T231826Z
UID:10002513-1714608000-1714694399@kaleidoscope-education.org
SUMMARY:Hancock Classes
DESCRIPTION:
URL:https://kaleidoscope-education.org/event/hancock-classes-5/2024-05-02/
END:VEVENT
BEGIN:VEVENT
DTSTART;VALUE=DATE:20240502
DTEND;VALUE=DATE:20240503
DTSTAMP:20260423T085851
CREATED:20230302T231711Z
LAST-MODIFIED:20230302T231711Z
UID:10002500-1714608000-1714694399@kaleidoscope-education.org
SUMMARY:Hancock Arts and Crafts Club
DESCRIPTION:Arts and Crafts Club will meet from 4:00-5:30 at Kaleidoscope Hancock.
URL:https://kaleidoscope-education.org/event/hancock-clubs-6/2024-05-02/
END:VEVENT
BEGIN:VEVENT
DTSTART;VALUE=DATE:20240501
DTEND;VALUE=DATE:20240502
DTSTAMP:20260423T085851
CREATED:20231130T164439Z
LAST-MODIFIED:20240422T162227Z
UID:10000408-1714521600-1714607999@kaleidoscope-education.org
SUMMARY:L'Anse Open House
DESCRIPTION:Join us for our end of year open house from 6:00-8:00 pm! View student work\, meet instructors\, preview upcoming classes\, get help with registration\, and of course\, have some fun visiting with other Kaleidoscope families! \n \n 
URL:https://kaleidoscope-education.org/event/lanse-open-house-3/
END:VEVENT
BEGIN:VEVENT
DTSTART;VALUE=DATE:20240501
DTEND;VALUE=DATE:20240502
DTSTAMP:20260423T085851
CREATED:20230302T231405Z
LAST-MODIFIED:20230302T231405Z
UID:10002487-1714521600-1714607999@kaleidoscope-education.org
SUMMARY:L'Anse Classes
DESCRIPTION:
URL:https://kaleidoscope-education.org/event/lanse-classes-6/2024-05-01/
END:VEVENT
BEGIN:VEVENT
DTSTART;VALUE=DATE:20240430
DTEND;VALUE=DATE:20240501
DTSTAMP:20260423T085851
CREATED:20230302T230917Z
LAST-MODIFIED:20230302T230917Z
UID:10002474-1714435200-1714521599@kaleidoscope-education.org
SUMMARY:L'Anse Classes
DESCRIPTION:
URL:https://kaleidoscope-education.org/event/lanse-classes-5/2024-04-30/
END:VEVENT
BEGIN:VEVENT
DTSTART;VALUE=DATE:20240429
DTEND;VALUE=DATE:20240504
DTSTAMP:20260423T085851
CREATED:20231109T220645Z
LAST-MODIFIED:20231109T220645Z
UID:10000399-1714348800-1714780799@kaleidoscope-education.org
SUMMARY:Returning Student Registration
DESCRIPTION:April 29th-May3rd \nReturning students and their siblings may register for 2024/2025 classes and electives during this week.
URL:https://kaleidoscope-education.org/event/returning-student-registration/
END:VEVENT
BEGIN:VEVENT
DTSTART;VALUE=DATE:20240429
DTEND;VALUE=DATE:20240430
DTSTAMP:20260423T085851
CREATED:20240423T163907Z
LAST-MODIFIED:20240423T163907Z
UID:10002435-1714348800-1714435199@kaleidoscope-education.org
SUMMARY:Club Teen Night Scavenger Hunt - L'Anse
DESCRIPTION:6:00-8:00 PM at Kaleidoscope L’Anse. This special Teen Night will be a scavenger hunt around L’Anse. Staff members will drive the teens. Space is limited to 13 participants so please fill out our contact form to RSVP to let us know how many teens are coming\, or RSVP to Amanda directly.
URL:https://kaleidoscope-education.org/event/club-teen-night-lanse-2-2/
END:VEVENT
BEGIN:VEVENT
DTSTART;VALUE=DATE:20240429
DTEND;VALUE=DATE:20240430
DTSTAMP:20260423T085851
CREATED:20231130T164215Z
LAST-MODIFIED:20240423T173038Z
UID:10000407-1714348800-1714435199@kaleidoscope-education.org
SUMMARY:Hancock Open House
DESCRIPTION:Join us for our end of year open house from 5:00-7:00. View student work\, meet instructors\, preview upcoming classes\, get help with registration\, and of course\, have some fun visiting with other Kaleidoscope families!
URL:https://kaleidoscope-education.org/event/hancock-open-house-2/
END:VEVENT
BEGIN:VEVENT
DTSTART;VALUE=DATE:20240429
DTEND;VALUE=DATE:20240430
DTSTAMP:20260423T085851
CREATED:20230302T230446Z
LAST-MODIFIED:20230302T230446Z
UID:10002461-1714348800-1714435199@kaleidoscope-education.org
SUMMARY:Hancock Clubs
DESCRIPTION:4:00-5:30 at Kaleidoscope Hancock \nClick the links below for more information! \nLego Club \nDrama Club
URL:https://kaleidoscope-education.org/event/lego-club-hancock-2/2024-04-29/
END:VEVENT
BEGIN:VEVENT
DTSTART;VALUE=DATE:20240429
DTEND;VALUE=DATE:20240430
DTSTAMP:20260423T085851
CREATED:20230302T225905Z
LAST-MODIFIED:20230302T225905Z
UID:10002448-1714348800-1714435199@kaleidoscope-education.org
SUMMARY:L'Anse Clubs
DESCRIPTION:Lego Club and Craft Club meet from 4:00-5:30 at Kaleidoscope L’Anse.
URL:https://kaleidoscope-education.org/event/lanse-clubs/2024-04-29/
END:VEVENT
BEGIN:VEVENT
DTSTART;VALUE=DATE:20240429
DTEND;VALUE=DATE:20240430
DTSTAMP:20260423T085851
CREATED:20230302T225540Z
LAST-MODIFIED:20230302T225540Z
UID:10002422-1714348800-1714435199@kaleidoscope-education.org
SUMMARY:Hancock Classes
DESCRIPTION:
URL:https://kaleidoscope-education.org/event/hancock-classes-4/2024-04-29/
END:VEVENT
BEGIN:VEVENT
DTSTART;VALUE=DATE:20240428
DTEND;VALUE=DATE:20240429
DTSTAMP:20260423T085851
CREATED:20230225T124754Z
LAST-MODIFIED:20230225T124754Z
UID:10000330-1714262400-1714348799@kaleidoscope-education.org
SUMMARY:Week 13
DESCRIPTION:
URL:https://kaleidoscope-education.org/event/week-13-3/
END:VEVENT
BEGIN:VEVENT
DTSTART;TZID=America/Detroit:20240426T080000
DTEND;TZID=America/Detroit:20240426T170000
DTSTAMP:20260423T085851
CREATED:20240426T191142Z
LAST-MODIFIED:20240426T191142Z
UID:10002716-1714118400-1714150800@kaleidoscope-education.org
SUMMARY:Registration Deadline for Battle of the Books
DESCRIPTION:This is the last day to REGISTER for Battle of the Books!
URL:https://kaleidoscope-education.org/event/registration-deadline-for-battle-of-the-books/
END:VEVENT
BEGIN:VEVENT
DTSTART;VALUE=DATE:20240425
DTEND;VALUE=DATE:20240426
DTSTAMP:20260423T085851
CREATED:20240412T204333Z
LAST-MODIFIED:20240412T210326Z
UID:10002589-1714003200-1714089599@kaleidoscope-education.org
SUMMARY:Magic Kiln: Exploration Thursday
DESCRIPTION:Exploration Thursday at the Magic Kiln. 11:30-12:30\, registration required by 4/21. Paint a ceramic butterfly. $5 for community members\, free for Kaleidoscope members. Register Here.
URL:https://kaleidoscope-education.org/event/magic-kiln-exploration-thursday/
END:VEVENT
BEGIN:VEVENT
DTSTART;VALUE=DATE:20240425
DTEND;VALUE=DATE:20240426
DTSTAMP:20260423T085851
CREATED:20230302T231826Z
LAST-MODIFIED:20230302T231826Z
UID:10002512-1714003200-1714089599@kaleidoscope-education.org
SUMMARY:Hancock Classes
DESCRIPTION:
URL:https://kaleidoscope-education.org/event/hancock-classes-5/2024-04-25/
END:VEVENT
BEGIN:VEVENT
DTSTART;VALUE=DATE:20240425
DTEND;VALUE=DATE:20240426
DTSTAMP:20260423T085851
CREATED:20230302T231711Z
LAST-MODIFIED:20230302T231711Z
UID:10002499-1714003200-1714089599@kaleidoscope-education.org
SUMMARY:Hancock Arts and Crafts Club
DESCRIPTION:Arts and Crafts Club will meet from 4:00-5:30 at Kaleidoscope Hancock.
URL:https://kaleidoscope-education.org/event/hancock-clubs-6/2024-04-25/
END:VEVENT
BEGIN:VEVENT
DTSTART;VALUE=DATE:20240424
DTEND;VALUE=DATE:20240425
DTSTAMP:20260423T085851
CREATED:20230302T231405Z
LAST-MODIFIED:20230302T231405Z
UID:10002486-1713916800-1714003199@kaleidoscope-education.org
SUMMARY:L'Anse Classes
DESCRIPTION:
URL:https://kaleidoscope-education.org/event/lanse-classes-6/2024-04-24/
END:VEVENT
BEGIN:VEVENT
DTSTART;VALUE=DATE:20240423
DTEND;VALUE=DATE:20240424
DTSTAMP:20260423T085851
CREATED:20240412T204151Z
LAST-MODIFIED:20240412T210228Z
UID:10002588-1713830400-1713916799@kaleidoscope-education.org
SUMMARY:Rocks and Minerals Workshop
DESCRIPTION:Rocks and Minerals Workshop at Kaleidoscope L’Anse. 4:00-6:00. Ages 5 and up. Learn about the minerals that make up the beautiful rocks around us and how to identify them. Taught by geologist Joe Ferrer. Space is limited! $5 for community members\, free for Kaleidoscope members. WORKSHOP IS FULL! Contact us to ask to be on the waiting list when we do this again.
URL:https://kaleidoscope-education.org/event/rocks-and-minerals-workshop/
LOCATION:Kaleidoscope L’Anse\, 830 N Main St\, L'Anse\, MI\, 49946\, United States
END:VEVENT
BEGIN:VEVENT
DTSTART;VALUE=DATE:20240423
DTEND;VALUE=DATE:20240424
DTSTAMP:20260423T085851
CREATED:20230302T230917Z
LAST-MODIFIED:20230302T230917Z
UID:10002473-1713830400-1713916799@kaleidoscope-education.org
SUMMARY:L'Anse Classes
DESCRIPTION:
URL:https://kaleidoscope-education.org/event/lanse-classes-5/2024-04-23/
END:VEVENT
BEGIN:VEVENT
DTSTART;VALUE=DATE:20240422
DTEND;VALUE=DATE:20240423
DTSTAMP:20260423T085851
CREATED:20230302T230446Z
LAST-MODIFIED:20230302T230446Z
UID:10002460-1713744000-1713830399@kaleidoscope-education.org
SUMMARY:Hancock Clubs
DESCRIPTION:4:00-5:30 at Kaleidoscope Hancock \nClick the links below for more information! \nLego Club \nDrama Club
URL:https://kaleidoscope-education.org/event/lego-club-hancock-2/2024-04-22/
END:VEVENT
BEGIN:VEVENT
DTSTART;VALUE=DATE:20240422
DTEND;VALUE=DATE:20240423
DTSTAMP:20260423T085851
CREATED:20230302T225905Z
LAST-MODIFIED:20230302T225905Z
UID:10002447-1713744000-1713830399@kaleidoscope-education.org
SUMMARY:L'Anse Clubs
DESCRIPTION:Lego Club and Craft Club meet from 4:00-5:30 at Kaleidoscope L’Anse.
URL:https://kaleidoscope-education.org/event/lanse-clubs/2024-04-22/
END:VEVENT
BEGIN:VEVENT
DTSTART;VALUE=DATE:20240422
DTEND;VALUE=DATE:20240423
DTSTAMP:20260423T085851
CREATED:20230302T225711Z
LAST-MODIFIED:20230302T225711Z
UID:10002434-1713744000-1713830399@kaleidoscope-education.org
SUMMARY:Club Teen Night - L'Anse
DESCRIPTION:6:00-8:00 PM at Kaleidoscope L’Anse
URL:https://kaleidoscope-education.org/event/club-teen-night-lanse-2/2024-04-22/
END:VEVENT
BEGIN:VEVENT
DTSTART;VALUE=DATE:20240422
DTEND;VALUE=DATE:20240423
DTSTAMP:20260423T085851
CREATED:20230302T225540Z
LAST-MODIFIED:20230302T225540Z
UID:10002421-1713744000-1713830399@kaleidoscope-education.org
SUMMARY:Hancock Classes
DESCRIPTION:
URL:https://kaleidoscope-education.org/event/hancock-classes-4/2024-04-22/
END:VEVENT
BEGIN:VEVENT
DTSTART;VALUE=DATE:20240421
DTEND;VALUE=DATE:20240422
DTSTAMP:20260423T085851
CREATED:20230223T223531Z
LAST-MODIFIED:20230223T223531Z
UID:10000325-1713657600-1713657600@kaleidoscope-education.org
SUMMARY:Week 12
DESCRIPTION:
URL:https://kaleidoscope-education.org/event/week-12-2/
END:VEVENT
BEGIN:VEVENT
DTSTART;VALUE=DATE:20240418
DTEND;VALUE=DATE:20240419
DTSTAMP:20260423T085851
CREATED:20230302T231826Z
LAST-MODIFIED:20230302T231826Z
UID:10002511-1713398400-1713484799@kaleidoscope-education.org
SUMMARY:Hancock Classes
DESCRIPTION:
URL:https://kaleidoscope-education.org/event/hancock-classes-5/2024-04-18/
END:VEVENT
BEGIN:VEVENT
DTSTART;VALUE=DATE:20240418
DTEND;VALUE=DATE:20240419
DTSTAMP:20260423T085851
CREATED:20230302T231711Z
LAST-MODIFIED:20230302T231711Z
UID:10002498-1713398400-1713484799@kaleidoscope-education.org
SUMMARY:Hancock Arts and Crafts Club
DESCRIPTION:Arts and Crafts Club will meet from 4:00-5:30 at Kaleidoscope Hancock.
URL:https://kaleidoscope-education.org/event/hancock-clubs-6/2024-04-18/
END:VEVENT
END:VCALENDAR