BEGIN:VCALENDAR
VERSION:2.0
PRODID:-//Kaleidoscope - ECPv6.15.18//NONSGML v1.0//EN
CALSCALE:GREGORIAN
METHOD:PUBLISH
X-WR-CALNAME:Kaleidoscope
X-ORIGINAL-URL:https://kaleidoscope-education.org
X-WR-CALDESC:Events for Kaleidoscope
REFRESH-INTERVAL;VALUE=DURATION:PT1H
X-Robots-Tag:noindex
X-PUBLISHED-TTL:PT1H
BEGIN:VTIMEZONE
TZID:America/Detroit
BEGIN:DAYLIGHT
TZOFFSETFROM:-0500
TZOFFSETTO:-0400
TZNAME:EDT
DTSTART:20230312T070000
END:DAYLIGHT
BEGIN:STANDARD
TZOFFSETFROM:-0400
TZOFFSETTO:-0500
TZNAME:EST
DTSTART:20231105T060000
END:STANDARD
BEGIN:DAYLIGHT
TZOFFSETFROM:-0500
TZOFFSETTO:-0400
TZNAME:EDT
DTSTART:20240310T070000
END:DAYLIGHT
BEGIN:STANDARD
TZOFFSETFROM:-0400
TZOFFSETTO:-0500
TZNAME:EST
DTSTART:20241103T060000
END:STANDARD
BEGIN:DAYLIGHT
TZOFFSETFROM:-0500
TZOFFSETTO:-0400
TZNAME:EDT
DTSTART:20250309T070000
END:DAYLIGHT
BEGIN:STANDARD
TZOFFSETFROM:-0400
TZOFFSETTO:-0500
TZNAME:EST
DTSTART:20251102T060000
END:STANDARD
END:VTIMEZONE
BEGIN:VEVENT
DTSTART;VALUE=DATE:20240407
DTEND;VALUE=DATE:20240408
DTSTAMP:20260425T001401
CREATED:20230223T223439Z
LAST-MODIFIED:20230223T223439Z
UID:10000323-1712448000-1712448000@kaleidoscope-education.org
SUMMARY:Week 10
DESCRIPTION:
URL:https://kaleidoscope-education.org/event/week-10-2/
LOCATION:MI
END:VEVENT
BEGIN:VEVENT
DTSTART;TZID=America/Detroit:20240324T080000
DTEND;TZID=America/Detroit:20240406T170000
DTSTAMP:20260425T001401
CREATED:20230223T223305Z
LAST-MODIFIED:20230223T223305Z
UID:10000322-1711267200-1712422800@kaleidoscope-education.org
SUMMARY:Spring Break
DESCRIPTION:
URL:https://kaleidoscope-education.org/event/spring-break-tentative/
LOCATION:MI
END:VEVENT
BEGIN:VEVENT
DTSTART;VALUE=DATE:20240321
DTEND;VALUE=DATE:20240322
DTSTAMP:20260425T001401
CREATED:20230302T231826Z
LAST-MODIFIED:20230302T231826Z
UID:10002509-1710979200-1711065599@kaleidoscope-education.org
SUMMARY:Hancock Classes
DESCRIPTION:
URL:https://kaleidoscope-education.org/event/hancock-classes-5/2024-03-21/
LOCATION:MI
END:VEVENT
BEGIN:VEVENT
DTSTART;VALUE=DATE:20240321
DTEND;VALUE=DATE:20240322
DTSTAMP:20260425T001401
CREATED:20230302T231711Z
LAST-MODIFIED:20230302T231711Z
UID:10002496-1710979200-1711065599@kaleidoscope-education.org
SUMMARY:Hancock Arts and Crafts Club
DESCRIPTION:Arts and Crafts Club will meet from 4:00-5:30 at Kaleidoscope Hancock.
URL:https://kaleidoscope-education.org/event/hancock-clubs-6/2024-03-21/
LOCATION:MI
END:VEVENT
BEGIN:VEVENT
DTSTART;VALUE=DATE:20240320
DTEND;VALUE=DATE:20240321
DTSTAMP:20260425T001401
CREATED:20230302T231405Z
LAST-MODIFIED:20230302T231405Z
UID:10002483-1710892800-1710979199@kaleidoscope-education.org
SUMMARY:L'Anse Classes
DESCRIPTION:
URL:https://kaleidoscope-education.org/event/lanse-classes-6/2024-03-20/
LOCATION:MI
END:VEVENT
BEGIN:VEVENT
DTSTART;VALUE=DATE:20240319
DTEND;VALUE=DATE:20240320
DTSTAMP:20260425T001401
CREATED:20230302T230917Z
LAST-MODIFIED:20230302T230917Z
UID:10002470-1710806400-1710892799@kaleidoscope-education.org
SUMMARY:L'Anse Classes
DESCRIPTION:
URL:https://kaleidoscope-education.org/event/lanse-classes-5/2024-03-19/
LOCATION:MI
END:VEVENT
BEGIN:VEVENT
DTSTART;VALUE=DATE:20240318
DTEND;VALUE=DATE:20240319
DTSTAMP:20260425T001401
CREATED:20230302T230446Z
LAST-MODIFIED:20230302T230446Z
UID:10002457-1710720000-1710806399@kaleidoscope-education.org
SUMMARY:Hancock Clubs
DESCRIPTION:4:00-5:30 at Kaleidoscope Hancock \nClick the links below for more information! \nLego Club \nDrama Club
URL:https://kaleidoscope-education.org/event/lego-club-hancock-2/2024-03-18/
LOCATION:MI
END:VEVENT
BEGIN:VEVENT
DTSTART;VALUE=DATE:20240318
DTEND;VALUE=DATE:20240319
DTSTAMP:20260425T001401
CREATED:20230302T225905Z
LAST-MODIFIED:20230302T225905Z
UID:10002444-1710720000-1710806399@kaleidoscope-education.org
SUMMARY:L'Anse Clubs
DESCRIPTION:Lego Club and Craft Club meet from 4:00-5:30 at Kaleidoscope L’Anse.
URL:https://kaleidoscope-education.org/event/lanse-clubs/2024-03-18/
LOCATION:MI
END:VEVENT
BEGIN:VEVENT
DTSTART;VALUE=DATE:20240318
DTEND;VALUE=DATE:20240319
DTSTAMP:20260425T001401
CREATED:20230302T225711Z
LAST-MODIFIED:20230302T225711Z
UID:10002431-1710720000-1710806399@kaleidoscope-education.org
SUMMARY:Club Teen Night - L'Anse
DESCRIPTION:6:00-8:00 PM at Kaleidoscope L’Anse
URL:https://kaleidoscope-education.org/event/club-teen-night-lanse-2/2024-03-18/
LOCATION:MI
END:VEVENT
BEGIN:VEVENT
DTSTART;VALUE=DATE:20240318
DTEND;VALUE=DATE:20240319
DTSTAMP:20260425T001401
CREATED:20230302T225540Z
LAST-MODIFIED:20230302T225540Z
UID:10002418-1710720000-1710806399@kaleidoscope-education.org
SUMMARY:Hancock Classes
DESCRIPTION:
URL:https://kaleidoscope-education.org/event/hancock-classes-4/2024-03-18/
LOCATION:MI
END:VEVENT
BEGIN:VEVENT
DTSTART;VALUE=DATE:20240317
DTEND;VALUE=DATE:20240318
DTSTAMP:20260425T001401
CREATED:20230223T223155Z
LAST-MODIFIED:20230223T223155Z
UID:10000321-1710633600-1710719999@kaleidoscope-education.org
SUMMARY:Week 9
DESCRIPTION:
URL:https://kaleidoscope-education.org/event/week-9-2/
LOCATION:MI
END:VEVENT
BEGIN:VEVENT
DTSTART;VALUE=DATE:20240314
DTEND;VALUE=DATE:20240315
DTSTAMP:20260425T001401
CREATED:20230913T214635Z
LAST-MODIFIED:20240716T195616Z
UID:10002536-1710403200-1710435600@kaleidoscope-education.org
SUMMARY:Board Meeting
DESCRIPTION:6:30-8:30 pm. \nBoard meetings are open to the public. \n Contact us to be added to the zoom meeting.
URL:https://kaleidoscope-education.org/event/board-meeting-5/2024-03-14/
LOCATION:MI
END:VEVENT
BEGIN:VEVENT
DTSTART;VALUE=DATE:20240314
DTEND;VALUE=DATE:20240315
DTSTAMP:20260425T001401
CREATED:20230302T231826Z
LAST-MODIFIED:20230302T231826Z
UID:10002508-1710374400-1710460799@kaleidoscope-education.org
SUMMARY:Hancock Classes
DESCRIPTION:
URL:https://kaleidoscope-education.org/event/hancock-classes-5/2024-03-14/
LOCATION:MI
END:VEVENT
BEGIN:VEVENT
DTSTART;VALUE=DATE:20240314
DTEND;VALUE=DATE:20240315
DTSTAMP:20260425T001401
CREATED:20230302T231711Z
LAST-MODIFIED:20230302T231711Z
UID:10002495-1710374400-1710460799@kaleidoscope-education.org
SUMMARY:Hancock Arts and Crafts Club
DESCRIPTION:Arts and Crafts Club will meet from 4:00-5:30 at Kaleidoscope Hancock.
URL:https://kaleidoscope-education.org/event/hancock-clubs-6/2024-03-14/
LOCATION:MI
END:VEVENT
BEGIN:VEVENT
DTSTART;VALUE=DATE:20240313
DTEND;VALUE=DATE:20240314
DTSTAMP:20260425T001401
CREATED:20230302T231405Z
LAST-MODIFIED:20230302T231405Z
UID:10002482-1710288000-1710374399@kaleidoscope-education.org
SUMMARY:L'Anse Classes
DESCRIPTION:
URL:https://kaleidoscope-education.org/event/lanse-classes-6/2024-03-13/
LOCATION:MI
END:VEVENT
BEGIN:VEVENT
DTSTART;VALUE=DATE:20240312
DTEND;VALUE=DATE:20240313
DTSTAMP:20260425T001401
CREATED:20230302T230917Z
LAST-MODIFIED:20230302T230917Z
UID:10002469-1710201600-1710287999@kaleidoscope-education.org
SUMMARY:L'Anse Classes
DESCRIPTION:
URL:https://kaleidoscope-education.org/event/lanse-classes-5/2024-03-12/
LOCATION:MI
END:VEVENT
BEGIN:VEVENT
DTSTART;VALUE=DATE:20240311
DTEND;VALUE=DATE:20240312
DTSTAMP:20260425T001401
CREATED:20230302T230446Z
LAST-MODIFIED:20230302T230446Z
UID:10002456-1710115200-1710201599@kaleidoscope-education.org
SUMMARY:Hancock Clubs
DESCRIPTION:4:00-5:30 at Kaleidoscope Hancock \nClick the links below for more information! \nLego Club \nDrama Club
URL:https://kaleidoscope-education.org/event/lego-club-hancock-2/2024-03-11/
LOCATION:MI
END:VEVENT
BEGIN:VEVENT
DTSTART;VALUE=DATE:20240311
DTEND;VALUE=DATE:20240312
DTSTAMP:20260425T001401
CREATED:20230302T225905Z
LAST-MODIFIED:20230302T225905Z
UID:10002443-1710115200-1710201599@kaleidoscope-education.org
SUMMARY:L'Anse Clubs
DESCRIPTION:Lego Club and Craft Club meet from 4:00-5:30 at Kaleidoscope L’Anse.
URL:https://kaleidoscope-education.org/event/lanse-clubs/2024-03-11/
LOCATION:MI
END:VEVENT
BEGIN:VEVENT
DTSTART;VALUE=DATE:20240311
DTEND;VALUE=DATE:20240312
DTSTAMP:20260425T001401
CREATED:20230302T225711Z
LAST-MODIFIED:20230302T225711Z
UID:10002430-1710115200-1710201599@kaleidoscope-education.org
SUMMARY:Club Teen Night - L'Anse
DESCRIPTION:6:00-8:00 PM at Kaleidoscope L’Anse
URL:https://kaleidoscope-education.org/event/club-teen-night-lanse-2/2024-03-11/
LOCATION:MI
END:VEVENT
BEGIN:VEVENT
DTSTART;VALUE=DATE:20240311
DTEND;VALUE=DATE:20240312
DTSTAMP:20260425T001401
CREATED:20230302T225540Z
LAST-MODIFIED:20230302T225540Z
UID:10002417-1710115200-1710201599@kaleidoscope-education.org
SUMMARY:Hancock Classes
DESCRIPTION:
URL:https://kaleidoscope-education.org/event/hancock-classes-4/2024-03-11/
LOCATION:MI
END:VEVENT
BEGIN:VEVENT
DTSTART;VALUE=DATE:20240310
DTEND;VALUE=DATE:20240311
DTSTAMP:20260425T001401
CREATED:20230223T223122Z
LAST-MODIFIED:20230223T223122Z
UID:10000320-1710028800-1710115199@kaleidoscope-education.org
SUMMARY:Week 8
DESCRIPTION:
URL:https://kaleidoscope-education.org/event/week-8-2/
LOCATION:MI
END:VEVENT
BEGIN:VEVENT
DTSTART;VALUE=DATE:20240307
DTEND;VALUE=DATE:20240308
DTSTAMP:20260425T001401
CREATED:20231130T163548Z
LAST-MODIFIED:20231130T163548Z
UID:10002569-1709769600-1709855999@kaleidoscope-education.org
SUMMARY:Open Skating
DESCRIPTION:Join us for open ice time from 2:00-3:00 at Meadowbrook Arena on the following dates: \nNov 30 \n Dec 7\, 14 \nJan 4\, 11\, 18\, 25 \nFeb 1\, 8\, 15\, 22\, 29  \nMarch 7 \nLoaner skates are available and this is a FREE time to come skate. \n \n 
URL:https://kaleidoscope-education.org/event/open-skating/2024-03-07/
LOCATION:MI
END:VEVENT
BEGIN:VEVENT
DTSTART;VALUE=DATE:20240307
DTEND;VALUE=DATE:20240308
DTSTAMP:20260425T001401
CREATED:20230302T231826Z
LAST-MODIFIED:20230302T231826Z
UID:10002507-1709769600-1709855999@kaleidoscope-education.org
SUMMARY:Hancock Classes
DESCRIPTION:
URL:https://kaleidoscope-education.org/event/hancock-classes-5/2024-03-07/
LOCATION:MI
END:VEVENT
BEGIN:VEVENT
DTSTART;VALUE=DATE:20240307
DTEND;VALUE=DATE:20240308
DTSTAMP:20260425T001401
CREATED:20230302T231711Z
LAST-MODIFIED:20230302T231711Z
UID:10002494-1709769600-1709855999@kaleidoscope-education.org
SUMMARY:Hancock Arts and Crafts Club
DESCRIPTION:Arts and Crafts Club will meet from 4:00-5:30 at Kaleidoscope Hancock.
URL:https://kaleidoscope-education.org/event/hancock-clubs-6/2024-03-07/
LOCATION:MI
END:VEVENT
BEGIN:VEVENT
DTSTART;VALUE=DATE:20240306
DTEND;VALUE=DATE:20240307
DTSTAMP:20260425T001401
CREATED:20230302T231405Z
LAST-MODIFIED:20230302T231405Z
UID:10002481-1709683200-1709769599@kaleidoscope-education.org
SUMMARY:L'Anse Classes
DESCRIPTION:
URL:https://kaleidoscope-education.org/event/lanse-classes-6/2024-03-06/
LOCATION:MI
END:VEVENT
BEGIN:VEVENT
DTSTART;VALUE=DATE:20240305
DTEND;VALUE=DATE:20240306
DTSTAMP:20260425T001401
CREATED:20230302T230917Z
LAST-MODIFIED:20230302T230917Z
UID:10002468-1709596800-1709683199@kaleidoscope-education.org
SUMMARY:L'Anse Classes
DESCRIPTION:
URL:https://kaleidoscope-education.org/event/lanse-classes-5/2024-03-05/
LOCATION:MI
END:VEVENT
BEGIN:VEVENT
DTSTART;VALUE=DATE:20240304
DTEND;VALUE=DATE:20240305
DTSTAMP:20260425T001401
CREATED:20230302T230446Z
LAST-MODIFIED:20230302T230446Z
UID:10002455-1709510400-1709596799@kaleidoscope-education.org
SUMMARY:Hancock Clubs
DESCRIPTION:4:00-5:30 at Kaleidoscope Hancock \nClick the links below for more information! \nLego Club \nDrama Club
URL:https://kaleidoscope-education.org/event/lego-club-hancock-2/2024-03-04/
LOCATION:MI
END:VEVENT
BEGIN:VEVENT
DTSTART;VALUE=DATE:20240304
DTEND;VALUE=DATE:20240305
DTSTAMP:20260425T001401
CREATED:20230302T225905Z
LAST-MODIFIED:20230302T225905Z
UID:10002442-1709510400-1709596799@kaleidoscope-education.org
SUMMARY:L'Anse Clubs
DESCRIPTION:Lego Club and Craft Club meet from 4:00-5:30 at Kaleidoscope L’Anse.
URL:https://kaleidoscope-education.org/event/lanse-clubs/2024-03-04/
LOCATION:MI
END:VEVENT
BEGIN:VEVENT
DTSTART;VALUE=DATE:20240304
DTEND;VALUE=DATE:20240305
DTSTAMP:20260425T001401
CREATED:20230302T225711Z
LAST-MODIFIED:20230302T225711Z
UID:10002429-1709510400-1709596799@kaleidoscope-education.org
SUMMARY:Club Teen Night - L'Anse
DESCRIPTION:6:00-8:00 PM at Kaleidoscope L’Anse
URL:https://kaleidoscope-education.org/event/club-teen-night-lanse-2/2024-03-04/
LOCATION:MI
END:VEVENT
BEGIN:VEVENT
DTSTART;VALUE=DATE:20240304
DTEND;VALUE=DATE:20240305
DTSTAMP:20260425T001401
CREATED:20230302T225540Z
LAST-MODIFIED:20230302T225540Z
UID:10002416-1709510400-1709596799@kaleidoscope-education.org
SUMMARY:Hancock Classes
DESCRIPTION:
URL:https://kaleidoscope-education.org/event/hancock-classes-4/2024-03-04/
LOCATION:MI
END:VEVENT
END:VCALENDAR