BEGIN:VCALENDAR
VERSION:2.0
PRODID:-//Kaleidoscope - ECPv6.15.18//NONSGML v1.0//EN
CALSCALE:GREGORIAN
METHOD:PUBLISH
X-WR-CALNAME:Kaleidoscope
X-ORIGINAL-URL:https://kaleidoscope-education.org
X-WR-CALDESC:Events for Kaleidoscope
REFRESH-INTERVAL;VALUE=DURATION:PT1H
X-Robots-Tag:noindex
X-PUBLISHED-TTL:PT1H
BEGIN:VTIMEZONE
TZID:America/Detroit
BEGIN:DAYLIGHT
TZOFFSETFROM:-0500
TZOFFSETTO:-0400
TZNAME:EDT
DTSTART:20230312T070000
END:DAYLIGHT
BEGIN:STANDARD
TZOFFSETFROM:-0400
TZOFFSETTO:-0500
TZNAME:EST
DTSTART:20231105T060000
END:STANDARD
BEGIN:DAYLIGHT
TZOFFSETFROM:-0500
TZOFFSETTO:-0400
TZNAME:EDT
DTSTART:20240310T070000
END:DAYLIGHT
BEGIN:STANDARD
TZOFFSETFROM:-0400
TZOFFSETTO:-0500
TZNAME:EST
DTSTART:20241103T060000
END:STANDARD
BEGIN:DAYLIGHT
TZOFFSETFROM:-0500
TZOFFSETTO:-0400
TZNAME:EDT
DTSTART:20250309T070000
END:DAYLIGHT
BEGIN:STANDARD
TZOFFSETFROM:-0400
TZOFFSETTO:-0500
TZNAME:EST
DTSTART:20251102T060000
END:STANDARD
END:VTIMEZONE
BEGIN:VEVENT
DTSTART;VALUE=DATE:20240306
DTEND;VALUE=DATE:20240307
DTSTAMP:20260425T163135
CREATED:20230302T231405Z
LAST-MODIFIED:20230302T231405Z
UID:10002481-1709683200-1709769599@kaleidoscope-education.org
SUMMARY:L'Anse Classes
DESCRIPTION:
URL:https://kaleidoscope-education.org/event/lanse-classes-6/2024-03-06/
END:VEVENT
BEGIN:VEVENT
DTSTART;VALUE=DATE:20240305
DTEND;VALUE=DATE:20240306
DTSTAMP:20260425T163135
CREATED:20230302T230917Z
LAST-MODIFIED:20230302T230917Z
UID:10002468-1709596800-1709683199@kaleidoscope-education.org
SUMMARY:L'Anse Classes
DESCRIPTION:
URL:https://kaleidoscope-education.org/event/lanse-classes-5/2024-03-05/
END:VEVENT
BEGIN:VEVENT
DTSTART;VALUE=DATE:20240304
DTEND;VALUE=DATE:20240305
DTSTAMP:20260425T163135
CREATED:20230302T230446Z
LAST-MODIFIED:20230302T230446Z
UID:10002455-1709510400-1709596799@kaleidoscope-education.org
SUMMARY:Hancock Clubs
DESCRIPTION:4:00-5:30 at Kaleidoscope Hancock \nClick the links below for more information! \nLego Club \nDrama Club
URL:https://kaleidoscope-education.org/event/lego-club-hancock-2/2024-03-04/
END:VEVENT
BEGIN:VEVENT
DTSTART;VALUE=DATE:20240304
DTEND;VALUE=DATE:20240305
DTSTAMP:20260425T163135
CREATED:20230302T225905Z
LAST-MODIFIED:20230302T225905Z
UID:10002442-1709510400-1709596799@kaleidoscope-education.org
SUMMARY:L'Anse Clubs
DESCRIPTION:Lego Club and Craft Club meet from 4:00-5:30 at Kaleidoscope L’Anse.
URL:https://kaleidoscope-education.org/event/lanse-clubs/2024-03-04/
END:VEVENT
BEGIN:VEVENT
DTSTART;VALUE=DATE:20240304
DTEND;VALUE=DATE:20240305
DTSTAMP:20260425T163135
CREATED:20230302T225711Z
LAST-MODIFIED:20230302T225711Z
UID:10002429-1709510400-1709596799@kaleidoscope-education.org
SUMMARY:Club Teen Night - L'Anse
DESCRIPTION:6:00-8:00 PM at Kaleidoscope L’Anse
URL:https://kaleidoscope-education.org/event/club-teen-night-lanse-2/2024-03-04/
END:VEVENT
BEGIN:VEVENT
DTSTART;VALUE=DATE:20240304
DTEND;VALUE=DATE:20240305
DTSTAMP:20260425T163135
CREATED:20230302T225540Z
LAST-MODIFIED:20230302T225540Z
UID:10002416-1709510400-1709596799@kaleidoscope-education.org
SUMMARY:Hancock Classes
DESCRIPTION:
URL:https://kaleidoscope-education.org/event/hancock-classes-4/2024-03-04/
END:VEVENT
BEGIN:VEVENT
DTSTART;VALUE=DATE:20240303
DTEND;VALUE=DATE:20240304
DTSTAMP:20260425T163135
CREATED:20230223T223052Z
LAST-MODIFIED:20230223T223052Z
UID:10000319-1709424000-1709510399@kaleidoscope-education.org
SUMMARY:Week 7
DESCRIPTION:
URL:https://kaleidoscope-education.org/event/week-7-2/
END:VEVENT
BEGIN:VEVENT
DTSTART;VALUE=DATE:20240229
DTEND;VALUE=DATE:20240301
DTSTAMP:20260425T163135
CREATED:20231130T163548Z
LAST-MODIFIED:20231130T163548Z
UID:10002568-1709164800-1709251199@kaleidoscope-education.org
SUMMARY:Open Skating
DESCRIPTION:Join us for open ice time from 2:00-3:00 at Meadowbrook Arena on the following dates: \nNov 30 \n Dec 7\, 14 \nJan 4\, 11\, 18\, 25 \nFeb 1\, 8\, 15\, 22\, 29  \nMarch 7 \nLoaner skates are available and this is a FREE time to come skate. \n \n 
URL:https://kaleidoscope-education.org/event/open-skating/2024-02-29/
END:VEVENT
BEGIN:VEVENT
DTSTART;VALUE=DATE:20240229
DTEND;VALUE=DATE:20240301
DTSTAMP:20260425T163135
CREATED:20230302T231826Z
LAST-MODIFIED:20230302T231826Z
UID:10002506-1709164800-1709251199@kaleidoscope-education.org
SUMMARY:Hancock Classes
DESCRIPTION:
URL:https://kaleidoscope-education.org/event/hancock-classes-5/2024-02-29/
END:VEVENT
BEGIN:VEVENT
DTSTART;VALUE=DATE:20240229
DTEND;VALUE=DATE:20240301
DTSTAMP:20260425T163135
CREATED:20230302T231711Z
LAST-MODIFIED:20230302T231711Z
UID:10002493-1709164800-1709251199@kaleidoscope-education.org
SUMMARY:Hancock Arts and Crafts Club
DESCRIPTION:Arts and Crafts Club will meet from 4:00-5:30 at Kaleidoscope Hancock.
URL:https://kaleidoscope-education.org/event/hancock-clubs-6/2024-02-29/
END:VEVENT
BEGIN:VEVENT
DTSTART;VALUE=DATE:20240228
DTEND;VALUE=DATE:20240229
DTSTAMP:20260425T163135
CREATED:20230302T231405Z
LAST-MODIFIED:20230302T231405Z
UID:10002480-1709078400-1709164799@kaleidoscope-education.org
SUMMARY:L'Anse Classes
DESCRIPTION:
URL:https://kaleidoscope-education.org/event/lanse-classes-6/2024-02-28/
END:VEVENT
BEGIN:VEVENT
DTSTART;VALUE=DATE:20240227
DTEND;VALUE=DATE:20240228
DTSTAMP:20260425T163135
CREATED:20231202T175000Z
LAST-MODIFIED:20231202T175000Z
UID:10000409-1708992000-1709078399@kaleidoscope-education.org
SUMMARY:Snow Much Fun
DESCRIPTION:Join us at Kaleidoscope L’Anse for our winter celebration from 3:30-5:30. More details to come!
URL:https://kaleidoscope-education.org/event/snow-much-fun/
END:VEVENT
BEGIN:VEVENT
DTSTART;VALUE=DATE:20240227
DTEND;VALUE=DATE:20240228
DTSTAMP:20260425T163135
CREATED:20230302T230917Z
LAST-MODIFIED:20230302T230917Z
UID:10002467-1708992000-1709078399@kaleidoscope-education.org
SUMMARY:L'Anse Classes
DESCRIPTION:
URL:https://kaleidoscope-education.org/event/lanse-classes-5/2024-02-27/
END:VEVENT
BEGIN:VEVENT
DTSTART;VALUE=DATE:20240226
DTEND;VALUE=DATE:20240227
DTSTAMP:20260425T163135
CREATED:20230302T230446Z
LAST-MODIFIED:20230302T230446Z
UID:10002454-1708905600-1708991999@kaleidoscope-education.org
SUMMARY:Hancock Clubs
DESCRIPTION:4:00-5:30 at Kaleidoscope Hancock \nClick the links below for more information! \nLego Club \nDrama Club
URL:https://kaleidoscope-education.org/event/lego-club-hancock-2/2024-02-26/
END:VEVENT
BEGIN:VEVENT
DTSTART;VALUE=DATE:20240226
DTEND;VALUE=DATE:20240227
DTSTAMP:20260425T163135
CREATED:20230302T225905Z
LAST-MODIFIED:20230302T225905Z
UID:10002441-1708905600-1708991999@kaleidoscope-education.org
SUMMARY:L'Anse Clubs
DESCRIPTION:Lego Club and Craft Club meet from 4:00-5:30 at Kaleidoscope L’Anse.
URL:https://kaleidoscope-education.org/event/lanse-clubs/2024-02-26/
END:VEVENT
BEGIN:VEVENT
DTSTART;VALUE=DATE:20240226
DTEND;VALUE=DATE:20240227
DTSTAMP:20260425T163135
CREATED:20230302T225711Z
LAST-MODIFIED:20230302T225711Z
UID:10002428-1708905600-1708991999@kaleidoscope-education.org
SUMMARY:Club Teen Night - L'Anse
DESCRIPTION:6:00-8:00 PM at Kaleidoscope L’Anse
URL:https://kaleidoscope-education.org/event/club-teen-night-lanse-2/2024-02-26/
END:VEVENT
BEGIN:VEVENT
DTSTART;VALUE=DATE:20240226
DTEND;VALUE=DATE:20240227
DTSTAMP:20260425T163135
CREATED:20230302T225540Z
LAST-MODIFIED:20230302T225540Z
UID:10002415-1708905600-1708991999@kaleidoscope-education.org
SUMMARY:Hancock Classes
DESCRIPTION:
URL:https://kaleidoscope-education.org/event/hancock-classes-4/2024-02-26/
END:VEVENT
BEGIN:VEVENT
DTSTART;VALUE=DATE:20240225
DTEND;VALUE=DATE:20240226
DTSTAMP:20260425T163135
CREATED:20230223T223026Z
LAST-MODIFIED:20230223T223026Z
UID:10000318-1708819200-1708905599@kaleidoscope-education.org
SUMMARY:Week 6
DESCRIPTION:
URL:https://kaleidoscope-education.org/event/week-6-2/
END:VEVENT
BEGIN:VEVENT
DTSTART;VALUE=DATE:20240222
DTEND;VALUE=DATE:20240223
DTSTAMP:20260425T163135
CREATED:20231130T163548Z
LAST-MODIFIED:20231130T163548Z
UID:10002567-1708560000-1708646399@kaleidoscope-education.org
SUMMARY:Open Skating
DESCRIPTION:Join us for open ice time from 2:00-3:00 at Meadowbrook Arena on the following dates: \nNov 30 \n Dec 7\, 14 \nJan 4\, 11\, 18\, 25 \nFeb 1\, 8\, 15\, 22\, 29  \nMarch 7 \nLoaner skates are available and this is a FREE time to come skate. \n \n 
URL:https://kaleidoscope-education.org/event/open-skating/2024-02-22/
END:VEVENT
BEGIN:VEVENT
DTSTART;VALUE=DATE:20240222
DTEND;VALUE=DATE:20240223
DTSTAMP:20260425T163135
CREATED:20230302T231826Z
LAST-MODIFIED:20230302T231826Z
UID:10002505-1708560000-1708646399@kaleidoscope-education.org
SUMMARY:Hancock Classes
DESCRIPTION:
URL:https://kaleidoscope-education.org/event/hancock-classes-5/2024-02-22/
END:VEVENT
BEGIN:VEVENT
DTSTART;VALUE=DATE:20240222
DTEND;VALUE=DATE:20240223
DTSTAMP:20260425T163135
CREATED:20230302T231711Z
LAST-MODIFIED:20230302T231711Z
UID:10002492-1708560000-1708646399@kaleidoscope-education.org
SUMMARY:Hancock Arts and Crafts Club
DESCRIPTION:Arts and Crafts Club will meet from 4:00-5:30 at Kaleidoscope Hancock.
URL:https://kaleidoscope-education.org/event/hancock-clubs-6/2024-02-22/
END:VEVENT
BEGIN:VEVENT
DTSTART;VALUE=DATE:20240221
DTEND;VALUE=DATE:20240222
DTSTAMP:20260425T163135
CREATED:20230302T231405Z
LAST-MODIFIED:20230302T231405Z
UID:10002479-1708473600-1708559999@kaleidoscope-education.org
SUMMARY:L'Anse Classes
DESCRIPTION:
URL:https://kaleidoscope-education.org/event/lanse-classes-6/2024-02-21/
END:VEVENT
BEGIN:VEVENT
DTSTART;VALUE=DATE:20240220
DTEND;VALUE=DATE:20240221
DTSTAMP:20260425T163135
CREATED:20230302T230917Z
LAST-MODIFIED:20230302T230917Z
UID:10002466-1708387200-1708473599@kaleidoscope-education.org
SUMMARY:L'Anse Classes
DESCRIPTION:
URL:https://kaleidoscope-education.org/event/lanse-classes-5/2024-02-20/
END:VEVENT
BEGIN:VEVENT
DTSTART;VALUE=DATE:20240219
DTEND;VALUE=DATE:20240220
DTSTAMP:20260425T163135
CREATED:20230302T230446Z
LAST-MODIFIED:20230302T230446Z
UID:10002453-1708300800-1708387199@kaleidoscope-education.org
SUMMARY:Hancock Clubs
DESCRIPTION:4:00-5:30 at Kaleidoscope Hancock \nClick the links below for more information! \nLego Club \nDrama Club
URL:https://kaleidoscope-education.org/event/lego-club-hancock-2/2024-02-19/
END:VEVENT
BEGIN:VEVENT
DTSTART;VALUE=DATE:20240219
DTEND;VALUE=DATE:20240220
DTSTAMP:20260425T163135
CREATED:20230302T225905Z
LAST-MODIFIED:20230302T225905Z
UID:10002440-1708300800-1708387199@kaleidoscope-education.org
SUMMARY:L'Anse Clubs
DESCRIPTION:Lego Club and Craft Club meet from 4:00-5:30 at Kaleidoscope L’Anse.
URL:https://kaleidoscope-education.org/event/lanse-clubs/2024-02-19/
END:VEVENT
BEGIN:VEVENT
DTSTART;VALUE=DATE:20240219
DTEND;VALUE=DATE:20240220
DTSTAMP:20260425T163135
CREATED:20230302T225711Z
LAST-MODIFIED:20230302T225711Z
UID:10002427-1708300800-1708387199@kaleidoscope-education.org
SUMMARY:Club Teen Night - L'Anse
DESCRIPTION:6:00-8:00 PM at Kaleidoscope L’Anse
URL:https://kaleidoscope-education.org/event/club-teen-night-lanse-2/2024-02-19/
END:VEVENT
BEGIN:VEVENT
DTSTART;VALUE=DATE:20240219
DTEND;VALUE=DATE:20240220
DTSTAMP:20260425T163135
CREATED:20230302T225540Z
LAST-MODIFIED:20230302T225540Z
UID:10002414-1708300800-1708387199@kaleidoscope-education.org
SUMMARY:Hancock Classes
DESCRIPTION:
URL:https://kaleidoscope-education.org/event/hancock-classes-4/2024-02-19/
END:VEVENT
BEGIN:VEVENT
DTSTART;VALUE=DATE:20240218
DTEND;VALUE=DATE:20240219
DTSTAMP:20260425T163135
CREATED:20230223T222851Z
LAST-MODIFIED:20230223T222851Z
UID:10000317-1708214400-1708214400@kaleidoscope-education.org
SUMMARY:Week 5
DESCRIPTION:
URL:https://kaleidoscope-education.org/event/week-5-2/
END:VEVENT
BEGIN:VEVENT
DTSTART;TZID=America/Detroit:20240216T080000
DTEND;TZID=America/Detroit:20240216T170000
DTSTAMP:20260425T163135
CREATED:20240205T173821Z
LAST-MODIFIED:20240205T173821Z
UID:10002582-1708070400-1708102800@kaleidoscope-education.org
SUMMARY:Tubing
DESCRIPTION:test
URL:https://kaleidoscope-education.org/event/tubing-4/
END:VEVENT
BEGIN:VEVENT
DTSTART;TZID=America/Detroit:20240216T080000
DTEND;TZID=America/Detroit:20240216T170000
DTSTAMP:20260425T163135
CREATED:20240205T173240Z
LAST-MODIFIED:20240205T173240Z
UID:10002580-1708070400-1708102800@kaleidoscope-education.org
SUMMARY:Tubing
DESCRIPTION:test
URL:https://kaleidoscope-education.org/event/tubing-2/
END:VEVENT
END:VCALENDAR