BEGIN:VCALENDAR
VERSION:2.0
PRODID:-//Kaleidoscope - ECPv6.15.18//NONSGML v1.0//EN
CALSCALE:GREGORIAN
METHOD:PUBLISH
X-WR-CALNAME:Kaleidoscope
X-ORIGINAL-URL:https://kaleidoscope-education.org
X-WR-CALDESC:Events for Kaleidoscope
REFRESH-INTERVAL;VALUE=DURATION:PT1H
X-Robots-Tag:noindex
X-PUBLISHED-TTL:PT1H
BEGIN:VTIMEZONE
TZID:America/Detroit
BEGIN:DAYLIGHT
TZOFFSETFROM:-0500
TZOFFSETTO:-0400
TZNAME:EDT
DTSTART:20220313T070000
END:DAYLIGHT
BEGIN:STANDARD
TZOFFSETFROM:-0400
TZOFFSETTO:-0500
TZNAME:EST
DTSTART:20221106T060000
END:STANDARD
BEGIN:DAYLIGHT
TZOFFSETFROM:-0500
TZOFFSETTO:-0400
TZNAME:EDT
DTSTART:20230312T070000
END:DAYLIGHT
BEGIN:STANDARD
TZOFFSETFROM:-0400
TZOFFSETTO:-0500
TZNAME:EST
DTSTART:20231105T060000
END:STANDARD
BEGIN:DAYLIGHT
TZOFFSETFROM:-0500
TZOFFSETTO:-0400
TZNAME:EDT
DTSTART:20240310T070000
END:DAYLIGHT
BEGIN:STANDARD
TZOFFSETFROM:-0400
TZOFFSETTO:-0500
TZNAME:EST
DTSTART:20241103T060000
END:STANDARD
BEGIN:DAYLIGHT
TZOFFSETFROM:-0500
TZOFFSETTO:-0400
TZNAME:EDT
DTSTART:20250309T070000
END:DAYLIGHT
BEGIN:STANDARD
TZOFFSETFROM:-0400
TZOFFSETTO:-0500
TZNAME:EST
DTSTART:20251102T060000
END:STANDARD
END:VTIMEZONE
BEGIN:VEVENT
DTSTART;VALUE=DATE:20240201
DTEND;VALUE=DATE:20240202
DTSTAMP:20260425T125937
CREATED:20230302T231711Z
LAST-MODIFIED:20230302T231711Z
UID:10002489-1706745600-1706831999@kaleidoscope-education.org
SUMMARY:Hancock Arts and Crafts Club
DESCRIPTION:Arts and Crafts Club will meet from 4:00-5:30 at Kaleidoscope Hancock.
URL:https://kaleidoscope-education.org/event/hancock-clubs-6/2024-02-01/
LOCATION:MI
END:VEVENT
BEGIN:VEVENT
DTSTART;VALUE=DATE:20240131
DTEND;VALUE=DATE:20240201
DTSTAMP:20260425T125937
CREATED:20230302T231405Z
LAST-MODIFIED:20230302T231405Z
UID:10002476-1706659200-1706745599@kaleidoscope-education.org
SUMMARY:L'Anse Classes
DESCRIPTION:
URL:https://kaleidoscope-education.org/event/lanse-classes-6/2024-01-31/
LOCATION:MI
END:VEVENT
BEGIN:VEVENT
DTSTART;VALUE=DATE:20240130
DTEND;VALUE=DATE:20240131
DTSTAMP:20260425T125937
CREATED:20230302T230917Z
LAST-MODIFIED:20230302T230917Z
UID:10002463-1706572800-1706659199@kaleidoscope-education.org
SUMMARY:L'Anse Classes
DESCRIPTION:
URL:https://kaleidoscope-education.org/event/lanse-classes-5/2024-01-30/
LOCATION:MI
END:VEVENT
BEGIN:VEVENT
DTSTART;VALUE=DATE:20240129
DTEND;VALUE=DATE:20240130
DTSTAMP:20260425T125937
CREATED:20230302T230446Z
LAST-MODIFIED:20230302T230446Z
UID:10002450-1706486400-1706572799@kaleidoscope-education.org
SUMMARY:Hancock Clubs
DESCRIPTION:4:00-5:30 at Kaleidoscope Hancock \nClick the links below for more information! \nLego Club \nDrama Club
URL:https://kaleidoscope-education.org/event/lego-club-hancock-2/2024-01-29/
LOCATION:MI
END:VEVENT
BEGIN:VEVENT
DTSTART;VALUE=DATE:20240129
DTEND;VALUE=DATE:20240130
DTSTAMP:20260425T125937
CREATED:20230302T225905Z
LAST-MODIFIED:20230302T225905Z
UID:10002437-1706486400-1706572799@kaleidoscope-education.org
SUMMARY:L'Anse Clubs
DESCRIPTION:Lego Club and Craft Club meet from 4:00-5:30 at Kaleidoscope L’Anse.
URL:https://kaleidoscope-education.org/event/lanse-clubs/2024-01-29/
LOCATION:MI
END:VEVENT
BEGIN:VEVENT
DTSTART;VALUE=DATE:20240129
DTEND;VALUE=DATE:20240130
DTSTAMP:20260425T125937
CREATED:20230302T225711Z
LAST-MODIFIED:20230302T225711Z
UID:10002424-1706486400-1706572799@kaleidoscope-education.org
SUMMARY:Club Teen Night - L'Anse
DESCRIPTION:6:00-8:00 PM at Kaleidoscope L’Anse
URL:https://kaleidoscope-education.org/event/club-teen-night-lanse-2/2024-01-29/
LOCATION:MI
END:VEVENT
BEGIN:VEVENT
DTSTART;VALUE=DATE:20240129
DTEND;VALUE=DATE:20240130
DTSTAMP:20260425T125937
CREATED:20230302T225540Z
LAST-MODIFIED:20230302T225540Z
UID:10002411-1706486400-1706572799@kaleidoscope-education.org
SUMMARY:Hancock Classes
DESCRIPTION:
URL:https://kaleidoscope-education.org/event/hancock-classes-4/2024-01-29/
LOCATION:MI
END:VEVENT
BEGIN:VEVENT
DTSTART;VALUE=DATE:20240128
DTEND;VALUE=DATE:20240129
DTSTAMP:20260425T125937
CREATED:20230223T222708Z
LAST-MODIFIED:20230223T222708Z
UID:10000314-1706400000-1706400000@kaleidoscope-education.org
SUMMARY:Week 2
DESCRIPTION:
URL:https://kaleidoscope-education.org/event/week-2-2/
LOCATION:MI
END:VEVENT
BEGIN:VEVENT
DTSTART;VALUE=DATE:20240125
DTEND;VALUE=DATE:20240126
DTSTAMP:20260425T125937
CREATED:20231130T163548Z
LAST-MODIFIED:20231130T163548Z
UID:10002563-1706140800-1706227199@kaleidoscope-education.org
SUMMARY:Open Skating
DESCRIPTION:Join us for open ice time from 2:00-3:00 at Meadowbrook Arena on the following dates: \nNov 30 \n Dec 7\, 14 \nJan 4\, 11\, 18\, 25 \nFeb 1\, 8\, 15\, 22\, 29  \nMarch 7 \nLoaner skates are available and this is a FREE time to come skate. \n \n 
URL:https://kaleidoscope-education.org/event/open-skating/2024-01-25/
LOCATION:MI
END:VEVENT
BEGIN:VEVENT
DTSTART;VALUE=DATE:20240125
DTEND;VALUE=DATE:20240126
DTSTAMP:20260425T125937
CREATED:20230302T231826Z
LAST-MODIFIED:20230302T231826Z
UID:10000354-1706140800-1706227199@kaleidoscope-education.org
SUMMARY:Hancock Classes
DESCRIPTION:
URL:https://kaleidoscope-education.org/event/hancock-classes-5/2024-01-25/
LOCATION:MI
END:VEVENT
BEGIN:VEVENT
DTSTART;VALUE=DATE:20240125
DTEND;VALUE=DATE:20240126
DTSTAMP:20260425T125937
CREATED:20230302T231711Z
LAST-MODIFIED:20230302T231711Z
UID:10000353-1706140800-1706227199@kaleidoscope-education.org
SUMMARY:Hancock Arts and Crafts Club
DESCRIPTION:Arts and Crafts Club will meet from 4:00-5:30 at Kaleidoscope Hancock.
URL:https://kaleidoscope-education.org/event/hancock-clubs-6/2024-01-25/
LOCATION:MI
END:VEVENT
BEGIN:VEVENT
DTSTART;VALUE=DATE:20240124
DTEND;VALUE=DATE:20240125
DTSTAMP:20260425T125937
CREATED:20230302T231405Z
LAST-MODIFIED:20230302T231405Z
UID:10000352-1706054400-1706140799@kaleidoscope-education.org
SUMMARY:L'Anse Classes
DESCRIPTION:
URL:https://kaleidoscope-education.org/event/lanse-classes-6/2024-01-24/
LOCATION:MI
END:VEVENT
BEGIN:VEVENT
DTSTART;VALUE=DATE:20240123
DTEND;VALUE=DATE:20240124
DTSTAMP:20260425T125937
CREATED:20230302T230917Z
LAST-MODIFIED:20230302T230917Z
UID:10000351-1705968000-1706054399@kaleidoscope-education.org
SUMMARY:L'Anse Classes
DESCRIPTION:
URL:https://kaleidoscope-education.org/event/lanse-classes-5/2024-01-23/
LOCATION:MI
END:VEVENT
BEGIN:VEVENT
DTSTART;VALUE=DATE:20240122
DTEND;VALUE=DATE:20240123
DTSTAMP:20260425T125937
CREATED:20230302T230446Z
LAST-MODIFIED:20230302T230446Z
UID:10000350-1705881600-1705967999@kaleidoscope-education.org
SUMMARY:Hancock Clubs
DESCRIPTION:4:00-5:30 at Kaleidoscope Hancock \nClick the links below for more information! \nLego Club \nDrama Club
URL:https://kaleidoscope-education.org/event/lego-club-hancock-2/2024-01-22/
LOCATION:MI
END:VEVENT
BEGIN:VEVENT
DTSTART;VALUE=DATE:20240122
DTEND;VALUE=DATE:20240123
DTSTAMP:20260425T125937
CREATED:20230302T225905Z
LAST-MODIFIED:20230302T225905Z
UID:10000349-1705881600-1705967999@kaleidoscope-education.org
SUMMARY:L'Anse Clubs
DESCRIPTION:Lego Club and Craft Club meet from 4:00-5:30 at Kaleidoscope L’Anse.
URL:https://kaleidoscope-education.org/event/lanse-clubs/2024-01-22/
LOCATION:MI
END:VEVENT
BEGIN:VEVENT
DTSTART;VALUE=DATE:20240122
DTEND;VALUE=DATE:20240123
DTSTAMP:20260425T125937
CREATED:20230302T225711Z
LAST-MODIFIED:20230302T225711Z
UID:10000348-1705881600-1705967999@kaleidoscope-education.org
SUMMARY:Club Teen Night - L'Anse
DESCRIPTION:6:00-8:00 PM at Kaleidoscope L’Anse
URL:https://kaleidoscope-education.org/event/club-teen-night-lanse-2/2024-01-22/
LOCATION:MI
END:VEVENT
BEGIN:VEVENT
DTSTART;VALUE=DATE:20240122
DTEND;VALUE=DATE:20240123
DTSTAMP:20260425T125937
CREATED:20230302T225540Z
LAST-MODIFIED:20230302T225540Z
UID:10000347-1705881600-1705967999@kaleidoscope-education.org
SUMMARY:Hancock Classes
DESCRIPTION:
URL:https://kaleidoscope-education.org/event/hancock-classes-4/2024-01-22/
LOCATION:MI
END:VEVENT
BEGIN:VEVENT
DTSTART;VALUE=DATE:20240121
DTEND;VALUE=DATE:20240122
DTSTAMP:20260425T125937
CREATED:20230223T222629Z
LAST-MODIFIED:20230223T222629Z
UID:10000313-1705795200-1705881599@kaleidoscope-education.org
SUMMARY:Semester 2 Begins/Week 1
DESCRIPTION:
URL:https://kaleidoscope-education.org/event/semester-2-begins-week-1/
LOCATION:MI
END:VEVENT
BEGIN:VEVENT
DTSTART;VALUE=DATE:20240118
DTEND;VALUE=DATE:20240119
DTSTAMP:20260425T125937
CREATED:20231130T163548Z
LAST-MODIFIED:20231130T163548Z
UID:10002562-1705536000-1705622399@kaleidoscope-education.org
SUMMARY:Open Skating
DESCRIPTION:Join us for open ice time from 2:00-3:00 at Meadowbrook Arena on the following dates: \nNov 30 \n Dec 7\, 14 \nJan 4\, 11\, 18\, 25 \nFeb 1\, 8\, 15\, 22\, 29  \nMarch 7 \nLoaner skates are available and this is a FREE time to come skate. \n \n 
URL:https://kaleidoscope-education.org/event/open-skating/2024-01-18/
LOCATION:MI
END:VEVENT
BEGIN:VEVENT
DTSTART;VALUE=DATE:20240111
DTEND;VALUE=DATE:20240112
DTSTAMP:20260425T125937
CREATED:20230913T214635Z
LAST-MODIFIED:20240716T195616Z
UID:10002535-1704960000-1704992400@kaleidoscope-education.org
SUMMARY:Board Meeting
DESCRIPTION:6:30-8:30 pm. \nBoard meetings are open to the public. \n Contact us to be added to the zoom meeting.
URL:https://kaleidoscope-education.org/event/board-meeting-5/2024-01-11/
LOCATION:MI
END:VEVENT
BEGIN:VEVENT
DTSTART;VALUE=DATE:20240111
DTEND;VALUE=DATE:20240112
DTSTAMP:20260425T125937
CREATED:20231130T163548Z
LAST-MODIFIED:20231130T163548Z
UID:10002561-1704931200-1705017599@kaleidoscope-education.org
SUMMARY:Open Skating
DESCRIPTION:Join us for open ice time from 2:00-3:00 at Meadowbrook Arena on the following dates: \nNov 30 \n Dec 7\, 14 \nJan 4\, 11\, 18\, 25 \nFeb 1\, 8\, 15\, 22\, 29  \nMarch 7 \nLoaner skates are available and this is a FREE time to come skate. \n \n 
URL:https://kaleidoscope-education.org/event/open-skating/2024-01-11/
LOCATION:MI
END:VEVENT
BEGIN:VEVENT
DTSTART;VALUE=DATE:20240110
DTEND;VALUE=DATE:20240111
DTSTAMP:20260425T125937
CREATED:20231215T150300Z
LAST-MODIFIED:20231215T150300Z
UID:10000411-1704844800-1704931199@kaleidoscope-education.org
SUMMARY:Legos at the Library
DESCRIPTION:Every second Wednesday of the month\, join Kaleidoscope at the Portage Lake District library from 1:00-3:00. A Kaleidoscope instructor will lead an activity and free-build time. This event is FREE. \nFor more details\, click here!
URL:https://kaleidoscope-education.org/event/legos-at-the-library-2-2-3/
LOCATION:MI
ATTACH;FMTTYPE=image/jpeg:https://kaleidoscope-education.org/wp-content/uploads/2022/09/legos-at-the-library-scaled-e1677784989594.jpeg
END:VEVENT
BEGIN:VEVENT
DTSTART;VALUE=DATE:20240104
DTEND;VALUE=DATE:20240105
DTSTAMP:20260425T125937
CREATED:20231130T163548Z
LAST-MODIFIED:20231130T163548Z
UID:10002560-1704326400-1704412799@kaleidoscope-education.org
SUMMARY:Open Skating
DESCRIPTION:Join us for open ice time from 2:00-3:00 at Meadowbrook Arena on the following dates: \nNov 30 \n Dec 7\, 14 \nJan 4\, 11\, 18\, 25 \nFeb 1\, 8\, 15\, 22\, 29  \nMarch 7 \nLoaner skates are available and this is a FREE time to come skate. \n \n 
URL:https://kaleidoscope-education.org/event/open-skating/2024-01-04/
LOCATION:MI
END:VEVENT
BEGIN:VEVENT
DTSTART;TZID=America/Detroit:20231224T080000
DTEND;TZID=America/Detroit:20240121T080000
DTSTAMP:20260425T125937
CREATED:20230223T222347Z
LAST-MODIFIED:20230223T222347Z
UID:10000312-1703404800-1705824000@kaleidoscope-education.org
SUMMARY:Winter Break
DESCRIPTION:Kaleidoscope offices will be closed from Dec 24th\, 2023 – Jan 21th\, 2024 for Winter Break.
URL:https://kaleidoscope-education.org/event/winter-break-2/
LOCATION:MI
END:VEVENT
BEGIN:VEVENT
DTSTART;VALUE=DATE:20231221
DTEND;VALUE=DATE:20231222
DTSTAMP:20260425T125937
CREATED:20230302T222935Z
LAST-MODIFIED:20230302T222935Z
UID:10002353-1703116800-1703203199@kaleidoscope-education.org
SUMMARY:Hancock Classes
DESCRIPTION:Kaleidoscope Hancock Thursday Schedule
URL:https://kaleidoscope-education.org/event/hancock-classes-3/2023-12-21/
LOCATION:MI
END:VEVENT
BEGIN:VEVENT
DTSTART;VALUE=DATE:20231220
DTEND;VALUE=DATE:20231221
DTSTAMP:20260425T125937
CREATED:20230302T222810Z
LAST-MODIFIED:20230302T222810Z
UID:10002340-1703030400-1703116799@kaleidoscope-education.org
SUMMARY:L'Anse Classes
DESCRIPTION:Kaleidoscope L’Anse Wednesday Schedule
URL:https://kaleidoscope-education.org/event/lanse-classes-4/2023-12-20/
LOCATION:MI
END:VEVENT
BEGIN:VEVENT
DTSTART;VALUE=DATE:20231219
DTEND;VALUE=DATE:20231220
DTSTAMP:20260425T125937
CREATED:20231115T180941Z
LAST-MODIFIED:20231115T180941Z
UID:10000404-1702944000-1703030399@kaleidoscope-education.org
SUMMARY:Kid's Holiday Crafting - L'Anse
DESCRIPTION:Drop your children off to create and wrap holiday gifts. December 19th 3:30-5:30. Free for Kaleidoscope members\, $5 for community members. Register by 12/16.
URL:https://kaleidoscope-education.org/event/kids-holiday-crafting-lanse/
LOCATION:MI
END:VEVENT
BEGIN:VEVENT
DTSTART;VALUE=DATE:20231219
DTEND;VALUE=DATE:20231220
DTSTAMP:20260425T125937
CREATED:20230302T222617Z
LAST-MODIFIED:20230302T222617Z
UID:10002327-1702944000-1703030399@kaleidoscope-education.org
SUMMARY:L'Anse Classes
DESCRIPTION:Kaleidoscope L’Anse Tuesday Schedule
URL:https://kaleidoscope-education.org/event/lanse-classes-3/2023-12-19/
LOCATION:MI
END:VEVENT
BEGIN:VEVENT
DTSTART;VALUE=DATE:20231218
DTEND;VALUE=DATE:20231219
DTSTAMP:20260425T125937
CREATED:20231019T135651Z
LAST-MODIFIED:20231019T135651Z
UID:10002554-1702857600-1702943999@kaleidoscope-education.org
SUMMARY:Club Teen Night - L'Anse
DESCRIPTION:Club Teen Night meets from 6:00-8:00 PM at Kaleidoscope L’Anse.
URL:https://kaleidoscope-education.org/event/club-teen-night-lanse-3/2023-12-18/
LOCATION:MI
END:VEVENT
BEGIN:VEVENT
DTSTART;VALUE=DATE:20231218
DTEND;VALUE=DATE:20231219
DTSTAMP:20260425T125937
CREATED:20230302T223717Z
LAST-MODIFIED:20230302T223717Z
UID:10002379-1702857600-1702943999@kaleidoscope-education.org
SUMMARY:L'Anse Clubs
DESCRIPTION:Lego Club and Arts and Crafts Club meet from 4:00-5:30 at Kaleidoscope L’Anse.
URL:https://kaleidoscope-education.org/event/lego-club-lanse/2023-12-18/
LOCATION:MI
END:VEVENT
END:VCALENDAR