BEGIN:VCALENDAR
VERSION:2.0
PRODID:-//Kaleidoscope - ECPv6.15.18//NONSGML v1.0//EN
CALSCALE:GREGORIAN
METHOD:PUBLISH
X-WR-CALNAME:Kaleidoscope
X-ORIGINAL-URL:https://kaleidoscope-education.org
X-WR-CALDESC:Events for Kaleidoscope
REFRESH-INTERVAL;VALUE=DURATION:PT1H
X-Robots-Tag:noindex
X-PUBLISHED-TTL:PT1H
BEGIN:VTIMEZONE
TZID:America/Detroit
BEGIN:DAYLIGHT
TZOFFSETFROM:-0500
TZOFFSETTO:-0400
TZNAME:EDT
DTSTART:20220313T070000
END:DAYLIGHT
BEGIN:STANDARD
TZOFFSETFROM:-0400
TZOFFSETTO:-0500
TZNAME:EST
DTSTART:20221106T060000
END:STANDARD
BEGIN:DAYLIGHT
TZOFFSETFROM:-0500
TZOFFSETTO:-0400
TZNAME:EDT
DTSTART:20230312T070000
END:DAYLIGHT
BEGIN:STANDARD
TZOFFSETFROM:-0400
TZOFFSETTO:-0500
TZNAME:EST
DTSTART:20231105T060000
END:STANDARD
BEGIN:DAYLIGHT
TZOFFSETFROM:-0500
TZOFFSETTO:-0400
TZNAME:EDT
DTSTART:20240310T070000
END:DAYLIGHT
BEGIN:STANDARD
TZOFFSETFROM:-0400
TZOFFSETTO:-0500
TZNAME:EST
DTSTART:20241103T060000
END:STANDARD
END:VTIMEZONE
BEGIN:VEVENT
DTSTART;VALUE=DATE:20231214
DTEND;VALUE=DATE:20231215
DTSTAMP:20260425T173408
CREATED:20230302T224720Z
LAST-MODIFIED:20230302T224720Z
UID:10002410-1702512000-1702598399@kaleidoscope-education.org
SUMMARY:Arts and Crafts Club - Hancock
DESCRIPTION:Arts and Crafts Club will meet from 4:00-5:30 at Kaleidoscope Hancock.
URL:https://kaleidoscope-education.org/event/hancock-clubs-3/2023-12-14/
END:VEVENT
BEGIN:VEVENT
DTSTART;VALUE=DATE:20231214
DTEND;VALUE=DATE:20231215
DTSTAMP:20260425T173408
CREATED:20230302T222935Z
LAST-MODIFIED:20230302T222935Z
UID:10002352-1702512000-1702598399@kaleidoscope-education.org
SUMMARY:Hancock Classes
DESCRIPTION:Kaleidoscope Hancock Thursday Schedule
URL:https://kaleidoscope-education.org/event/hancock-classes-3/2023-12-14/
END:VEVENT
BEGIN:VEVENT
DTSTART;VALUE=DATE:20231213
DTEND;VALUE=DATE:20231214
DTSTAMP:20260425T173408
CREATED:20231206T195238Z
LAST-MODIFIED:20231206T195238Z
UID:10000410-1702425600-1702511999@kaleidoscope-education.org
SUMMARY:Legos at the Library
DESCRIPTION:Every second Wednesday of the month\, join Kaleidoscope at the Portage Lake District library from 1:00-3:00. A Kaleidoscope instructor will lead an activity and free-build time. This event is FREE. \nThis week\, Join Zack at Portage Lake District Library to make some lego-imprint ornaments! \n \nFor more details\, click here!
URL:https://kaleidoscope-education.org/event/legos-at-the-library-2-2-2/
ATTACH;FMTTYPE=image/jpeg:https://kaleidoscope-education.org/wp-content/uploads/2022/09/legos-at-the-library-scaled-e1677784989594.jpeg
END:VEVENT
BEGIN:VEVENT
DTSTART;VALUE=DATE:20231213
DTEND;VALUE=DATE:20231214
DTSTAMP:20260425T173408
CREATED:20230302T224529Z
LAST-MODIFIED:20230302T224529Z
UID:10002398-1702425600-1702511999@kaleidoscope-education.org
SUMMARY:Drama Club
DESCRIPTION:Drama Club meets from 4:00-5:30 at Kaleidoscope Hancock.
URL:https://kaleidoscope-education.org/event/hancock-clubs-2/2023-12-13/
END:VEVENT
BEGIN:VEVENT
DTSTART;VALUE=DATE:20231213
DTEND;VALUE=DATE:20231214
DTSTAMP:20260425T173408
CREATED:20230302T222810Z
LAST-MODIFIED:20230302T222810Z
UID:10002339-1702425600-1702511999@kaleidoscope-education.org
SUMMARY:L'Anse Classes
DESCRIPTION:Kaleidoscope L’Anse Wednesday Schedule
URL:https://kaleidoscope-education.org/event/lanse-classes-4/2023-12-13/
END:VEVENT
BEGIN:VEVENT
DTSTART;VALUE=DATE:20231212
DTEND;VALUE=DATE:20231213
DTSTAMP:20260425T173408
CREATED:20230302T222617Z
LAST-MODIFIED:20230302T222617Z
UID:10002326-1702339200-1702425599@kaleidoscope-education.org
SUMMARY:L'Anse Classes
DESCRIPTION:Kaleidoscope L’Anse Tuesday Schedule
URL:https://kaleidoscope-education.org/event/lanse-classes-3/2023-12-12/
END:VEVENT
BEGIN:VEVENT
DTSTART;VALUE=DATE:20231211
DTEND;VALUE=DATE:20231212
DTSTAMP:20260425T173408
CREATED:20231019T135651Z
LAST-MODIFIED:20231019T135651Z
UID:10002553-1702252800-1702339199@kaleidoscope-education.org
SUMMARY:Club Teen Night - L'Anse
DESCRIPTION:Club Teen Night meets from 6:00-8:00 PM at Kaleidoscope L’Anse.
URL:https://kaleidoscope-education.org/event/club-teen-night-lanse-3/2023-12-11/
END:VEVENT
BEGIN:VEVENT
DTSTART;VALUE=DATE:20231211
DTEND;VALUE=DATE:20231212
DTSTAMP:20260425T173408
CREATED:20230302T223717Z
LAST-MODIFIED:20230302T223717Z
UID:10002378-1702252800-1702339199@kaleidoscope-education.org
SUMMARY:L'Anse Clubs
DESCRIPTION:Lego Club and Arts and Crafts Club meet from 4:00-5:30 at Kaleidoscope L’Anse.
URL:https://kaleidoscope-education.org/event/lego-club-lanse/2023-12-11/
END:VEVENT
BEGIN:VEVENT
DTSTART;VALUE=DATE:20231211
DTEND;VALUE=DATE:20231212
DTSTAMP:20260425T173408
CREATED:20230302T223350Z
LAST-MODIFIED:20230302T223350Z
UID:10002365-1702252800-1702339199@kaleidoscope-education.org
SUMMARY:Lego Club - Hancock
DESCRIPTION:Lego Club meets from 4:00-5:30 at Kaleidoscope Hancock.
URL:https://kaleidoscope-education.org/event/lego-club-hancock/2023-12-11/
END:VEVENT
BEGIN:VEVENT
DTSTART;VALUE=DATE:20231211
DTEND;VALUE=DATE:20231212
DTSTAMP:20260425T173408
CREATED:20230302T222226Z
LAST-MODIFIED:20230302T222226Z
UID:10002313-1702252800-1702339199@kaleidoscope-education.org
SUMMARY:Hancock Classes
DESCRIPTION:Kaleidoscope Hancock Monday Schedule
URL:https://kaleidoscope-education.org/event/hancock-classes-2/2023-12-11/
END:VEVENT
BEGIN:VEVENT
DTSTART;VALUE=DATE:20231210
DTEND;VALUE=DATE:20231211
DTSTAMP:20260425T173408
CREATED:20230223T222152Z
LAST-MODIFIED:20230223T222152Z
UID:10000310-1702166400-1702252799@kaleidoscope-education.org
SUMMARY:Week 13
DESCRIPTION:
URL:https://kaleidoscope-education.org/event/week-13/
END:VEVENT
BEGIN:VEVENT
DTSTART;VALUE=DATE:20231207
DTEND;VALUE=DATE:20231208
DTSTAMP:20260425T173408
CREATED:20231130T163548Z
LAST-MODIFIED:20231130T163548Z
UID:10002558-1701907200-1701993599@kaleidoscope-education.org
SUMMARY:Open Skating
DESCRIPTION:Join us for open ice time from 2:00-3:00 at Meadowbrook Arena on the following dates: \nNov 30 \n Dec 7\, 14 \nJan 4\, 11\, 18\, 25 \nFeb 1\, 8\, 15\, 22\, 29  \nMarch 7 \nLoaner skates are available and this is a FREE time to come skate. \n \n 
URL:https://kaleidoscope-education.org/event/open-skating/2023-12-07/
END:VEVENT
BEGIN:VEVENT
DTSTART;VALUE=DATE:20231207
DTEND;VALUE=DATE:20231208
DTSTAMP:20260425T173409
CREATED:20230921T131529Z
LAST-MODIFIED:20230921T131529Z
UID:10002549-1701907200-1701993599@kaleidoscope-education.org
SUMMARY:Old-School Gym Games (Explore Athletics)
DESCRIPTION:Join Explore Athletics Class for these sessions of old-school gym games! 2:00-3:00 at Kaleidoscope Hancock.
URL:https://kaleidoscope-education.org/event/old-school-gym-games-explore-athletics/2023-12-07/
END:VEVENT
BEGIN:VEVENT
DTSTART;VALUE=DATE:20231207
DTEND;VALUE=DATE:20231208
DTSTAMP:20260425T173409
CREATED:20230302T224720Z
LAST-MODIFIED:20230302T224720Z
UID:10002409-1701907200-1701993599@kaleidoscope-education.org
SUMMARY:Arts and Crafts Club - Hancock
DESCRIPTION:Arts and Crafts Club will meet from 4:00-5:30 at Kaleidoscope Hancock.
URL:https://kaleidoscope-education.org/event/hancock-clubs-3/2023-12-07/
END:VEVENT
BEGIN:VEVENT
DTSTART;VALUE=DATE:20231207
DTEND;VALUE=DATE:20231208
DTSTAMP:20260425T173409
CREATED:20230302T222935Z
LAST-MODIFIED:20230302T222935Z
UID:10002351-1701907200-1701993599@kaleidoscope-education.org
SUMMARY:Hancock Classes
DESCRIPTION:Kaleidoscope Hancock Thursday Schedule
URL:https://kaleidoscope-education.org/event/hancock-classes-3/2023-12-07/
END:VEVENT
BEGIN:VEVENT
DTSTART;VALUE=DATE:20231206
DTEND;VALUE=DATE:20231207
DTSTAMP:20260425T173409
CREATED:20230302T224529Z
LAST-MODIFIED:20230302T224529Z
UID:10002397-1701820800-1701907199@kaleidoscope-education.org
SUMMARY:Drama Club
DESCRIPTION:Drama Club meets from 4:00-5:30 at Kaleidoscope Hancock.
URL:https://kaleidoscope-education.org/event/hancock-clubs-2/2023-12-06/
END:VEVENT
BEGIN:VEVENT
DTSTART;VALUE=DATE:20231206
DTEND;VALUE=DATE:20231207
DTSTAMP:20260425T173409
CREATED:20230302T222810Z
LAST-MODIFIED:20230302T222810Z
UID:10002338-1701820800-1701907199@kaleidoscope-education.org
SUMMARY:L'Anse Classes
DESCRIPTION:Kaleidoscope L’Anse Wednesday Schedule
URL:https://kaleidoscope-education.org/event/lanse-classes-4/2023-12-06/
END:VEVENT
BEGIN:VEVENT
DTSTART;VALUE=DATE:20231205
DTEND;VALUE=DATE:20231206
DTSTAMP:20260425T173409
CREATED:20230302T222617Z
LAST-MODIFIED:20230302T222617Z
UID:10002325-1701734400-1701820799@kaleidoscope-education.org
SUMMARY:L'Anse Classes
DESCRIPTION:Kaleidoscope L’Anse Tuesday Schedule
URL:https://kaleidoscope-education.org/event/lanse-classes-3/2023-12-05/
END:VEVENT
BEGIN:VEVENT
DTSTART;VALUE=DATE:20231204
DTEND;VALUE=DATE:20231205
DTSTAMP:20260425T173409
CREATED:20231019T135651Z
LAST-MODIFIED:20231019T135651Z
UID:10002552-1701648000-1701734399@kaleidoscope-education.org
SUMMARY:Club Teen Night - L'Anse
DESCRIPTION:Club Teen Night meets from 6:00-8:00 PM at Kaleidoscope L’Anse.
URL:https://kaleidoscope-education.org/event/club-teen-night-lanse-3/2023-12-04/
END:VEVENT
BEGIN:VEVENT
DTSTART;VALUE=DATE:20231204
DTEND;VALUE=DATE:20231205
DTSTAMP:20260425T173409
CREATED:20230302T223717Z
LAST-MODIFIED:20230302T223717Z
UID:10002377-1701648000-1701734399@kaleidoscope-education.org
SUMMARY:L'Anse Clubs
DESCRIPTION:Lego Club and Arts and Crafts Club meet from 4:00-5:30 at Kaleidoscope L’Anse.
URL:https://kaleidoscope-education.org/event/lego-club-lanse/2023-12-04/
END:VEVENT
BEGIN:VEVENT
DTSTART;VALUE=DATE:20231204
DTEND;VALUE=DATE:20231205
DTSTAMP:20260425T173409
CREATED:20230302T223350Z
LAST-MODIFIED:20230302T223350Z
UID:10002364-1701648000-1701734399@kaleidoscope-education.org
SUMMARY:Lego Club - Hancock
DESCRIPTION:Lego Club meets from 4:00-5:30 at Kaleidoscope Hancock.
URL:https://kaleidoscope-education.org/event/lego-club-hancock/2023-12-04/
END:VEVENT
BEGIN:VEVENT
DTSTART;VALUE=DATE:20231204
DTEND;VALUE=DATE:20231205
DTSTAMP:20260425T173409
CREATED:20230302T222226Z
LAST-MODIFIED:20230302T222226Z
UID:10002312-1701648000-1701734399@kaleidoscope-education.org
SUMMARY:Hancock Classes
DESCRIPTION:Kaleidoscope Hancock Monday Schedule
URL:https://kaleidoscope-education.org/event/hancock-classes-2/2023-12-04/
END:VEVENT
BEGIN:VEVENT
DTSTART;VALUE=DATE:20231203
DTEND;VALUE=DATE:20231204
DTSTAMP:20260425T173409
CREATED:20230225T124601Z
LAST-MODIFIED:20230225T124601Z
UID:10000329-1701561600-1701647999@kaleidoscope-education.org
SUMMARY:Week 12
DESCRIPTION:
URL:https://kaleidoscope-education.org/event/week-12-4/
END:VEVENT
BEGIN:VEVENT
DTSTART;VALUE=DATE:20231130
DTEND;VALUE=DATE:20231201
DTSTAMP:20260425T173409
CREATED:20231130T163548Z
LAST-MODIFIED:20231130T163548Z
UID:10000406-1701302400-1701388799@kaleidoscope-education.org
SUMMARY:Open Skating
DESCRIPTION:Join us for open ice time from 2:00-3:00 at Meadowbrook Arena on the following dates: \nNov 30 \n Dec 7\, 14 \nJan 4\, 11\, 18\, 25 \nFeb 1\, 8\, 15\, 22\, 29  \nMarch 7 \nLoaner skates are available and this is a FREE time to come skate. \n \n 
URL:https://kaleidoscope-education.org/event/open-skating/2023-11-30/
END:VEVENT
BEGIN:VEVENT
DTSTART;VALUE=DATE:20231130
DTEND;VALUE=DATE:20231201
DTSTAMP:20260425T173409
CREATED:20231127T162458Z
LAST-MODIFIED:20231127T162458Z
UID:10000405-1701302400-1701388799@kaleidoscope-education.org
SUMMARY:Exploration Thurs - Magic Kiln
DESCRIPTION:Join us at 11:30 for a special Exploration Thursday at the Magic Kiln! Registration required.
URL:https://kaleidoscope-education.org/event/exploration-thurs-magic-kiln/
END:VEVENT
BEGIN:VEVENT
DTSTART;VALUE=DATE:20231130
DTEND;VALUE=DATE:20231201
DTSTAMP:20260425T173409
CREATED:20230921T131529Z
LAST-MODIFIED:20230921T131529Z
UID:10002548-1701302400-1701388799@kaleidoscope-education.org
SUMMARY:Old-School Gym Games (Explore Athletics)
DESCRIPTION:Join Explore Athletics Class for these sessions of old-school gym games! 2:00-3:00 at Kaleidoscope Hancock.
URL:https://kaleidoscope-education.org/event/old-school-gym-games-explore-athletics/2023-11-30/
END:VEVENT
BEGIN:VEVENT
DTSTART;VALUE=DATE:20231130
DTEND;VALUE=DATE:20231201
DTSTAMP:20260425T173409
CREATED:20230302T224720Z
LAST-MODIFIED:20230302T224720Z
UID:10002408-1701302400-1701388799@kaleidoscope-education.org
SUMMARY:Arts and Crafts Club - Hancock
DESCRIPTION:Arts and Crafts Club will meet from 4:00-5:30 at Kaleidoscope Hancock.
URL:https://kaleidoscope-education.org/event/hancock-clubs-3/2023-11-30/
END:VEVENT
BEGIN:VEVENT
DTSTART;VALUE=DATE:20231130
DTEND;VALUE=DATE:20231201
DTSTAMP:20260425T173409
CREATED:20230302T222935Z
LAST-MODIFIED:20230302T222935Z
UID:10002350-1701302400-1701388799@kaleidoscope-education.org
SUMMARY:Hancock Classes
DESCRIPTION:Kaleidoscope Hancock Thursday Schedule
URL:https://kaleidoscope-education.org/event/hancock-classes-3/2023-11-30/
END:VEVENT
BEGIN:VEVENT
DTSTART;VALUE=DATE:20231129
DTEND;VALUE=DATE:20231130
DTSTAMP:20260425T173409
CREATED:20231108T203005Z
LAST-MODIFIED:20231108T203005Z
UID:10000396-1701216000-1701302399@kaleidoscope-education.org
SUMMARY:Scholastic Book Order Deadline
DESCRIPTION:Ready to discover the characters and stories your kids love? With expertly curated selections\, plus the chance for your teacher to earn rewards for the classroom with every order\, Scholastic Book Clubs is here for you all year long to boost your kid’s reading fandom and maybe even create moments of quality time you can share together!\n\nPlace an order of $25 or more and you can pick a FREE $5 book (use code READS at checkout) to add to your reader’s TBR pile!\n\nFamily Order Due Date: 11/29/23\n\nSHOP OUR CLASS PAGE:  https://orders.scholastic.com/YLPPP\n\nSHOP FLYERS: https://clubs.scholastic.com/all-flyers\n\nInvite relatives and friends to help your child discover the pure joy of reading when you share our Class Page link. Every order benefits our classroom\, helping me earn FREE books and resources that every child can enjoy.\n\nFlyers are also be available at both Kaleidoscope locations in case you would like a physcial copy.
URL:https://kaleidoscope-education.org/event/scholastic-book-order-deadline/
END:VEVENT
BEGIN:VEVENT
DTSTART;VALUE=DATE:20231129
DTEND;VALUE=DATE:20231130
DTSTAMP:20260425T173409
CREATED:20230302T224529Z
LAST-MODIFIED:20230302T224529Z
UID:10002396-1701216000-1701302399@kaleidoscope-education.org
SUMMARY:Drama Club
DESCRIPTION:Drama Club meets from 4:00-5:30 at Kaleidoscope Hancock.
URL:https://kaleidoscope-education.org/event/hancock-clubs-2/2023-11-29/
END:VEVENT
END:VCALENDAR