BEGIN:VCALENDAR
VERSION:2.0
PRODID:-//Kaleidoscope - ECPv6.15.18//NONSGML v1.0//EN
CALSCALE:GREGORIAN
METHOD:PUBLISH
X-WR-CALNAME:Kaleidoscope
X-ORIGINAL-URL:https://kaleidoscope-education.org
X-WR-CALDESC:Events for Kaleidoscope
REFRESH-INTERVAL;VALUE=DURATION:PT1H
X-Robots-Tag:noindex
X-PUBLISHED-TTL:PT1H
BEGIN:VTIMEZONE
TZID:America/Detroit
BEGIN:DAYLIGHT
TZOFFSETFROM:-0500
TZOFFSETTO:-0400
TZNAME:EDT
DTSTART:20220313T070000
END:DAYLIGHT
BEGIN:STANDARD
TZOFFSETFROM:-0400
TZOFFSETTO:-0500
TZNAME:EST
DTSTART:20221106T060000
END:STANDARD
BEGIN:DAYLIGHT
TZOFFSETFROM:-0500
TZOFFSETTO:-0400
TZNAME:EDT
DTSTART:20230312T070000
END:DAYLIGHT
BEGIN:STANDARD
TZOFFSETFROM:-0400
TZOFFSETTO:-0500
TZNAME:EST
DTSTART:20231105T060000
END:STANDARD
BEGIN:DAYLIGHT
TZOFFSETFROM:-0500
TZOFFSETTO:-0400
TZNAME:EDT
DTSTART:20240310T070000
END:DAYLIGHT
BEGIN:STANDARD
TZOFFSETFROM:-0400
TZOFFSETTO:-0500
TZNAME:EST
DTSTART:20241103T060000
END:STANDARD
END:VTIMEZONE
BEGIN:VEVENT
DTSTART;VALUE=DATE:20231130
DTEND;VALUE=DATE:20231201
DTSTAMP:20260425T192359
CREATED:20231130T163548Z
LAST-MODIFIED:20231130T163548Z
UID:10000406-1701302400-1701388799@kaleidoscope-education.org
SUMMARY:Open Skating
DESCRIPTION:Join us for open ice time from 2:00-3:00 at Meadowbrook Arena on the following dates: \nNov 30 \n Dec 7\, 14 \nJan 4\, 11\, 18\, 25 \nFeb 1\, 8\, 15\, 22\, 29  \nMarch 7 \nLoaner skates are available and this is a FREE time to come skate. \n \n 
URL:https://kaleidoscope-education.org/event/open-skating/2023-11-30/
LOCATION:MI
END:VEVENT
BEGIN:VEVENT
DTSTART;VALUE=DATE:20231130
DTEND;VALUE=DATE:20231201
DTSTAMP:20260425T192359
CREATED:20231127T162458Z
LAST-MODIFIED:20231127T162458Z
UID:10000405-1701302400-1701388799@kaleidoscope-education.org
SUMMARY:Exploration Thurs - Magic Kiln
DESCRIPTION:Join us at 11:30 for a special Exploration Thursday at the Magic Kiln! Registration required.
URL:https://kaleidoscope-education.org/event/exploration-thurs-magic-kiln/
LOCATION:MI
END:VEVENT
BEGIN:VEVENT
DTSTART;VALUE=DATE:20231130
DTEND;VALUE=DATE:20231201
DTSTAMP:20260425T192359
CREATED:20230921T131529Z
LAST-MODIFIED:20230921T131529Z
UID:10002548-1701302400-1701388799@kaleidoscope-education.org
SUMMARY:Old-School Gym Games (Explore Athletics)
DESCRIPTION:Join Explore Athletics Class for these sessions of old-school gym games! 2:00-3:00 at Kaleidoscope Hancock.
URL:https://kaleidoscope-education.org/event/old-school-gym-games-explore-athletics/2023-11-30/
LOCATION:MI
END:VEVENT
BEGIN:VEVENT
DTSTART;VALUE=DATE:20231130
DTEND;VALUE=DATE:20231201
DTSTAMP:20260425T192359
CREATED:20230302T224720Z
LAST-MODIFIED:20230302T224720Z
UID:10002408-1701302400-1701388799@kaleidoscope-education.org
SUMMARY:Arts and Crafts Club - Hancock
DESCRIPTION:Arts and Crafts Club will meet from 4:00-5:30 at Kaleidoscope Hancock.
URL:https://kaleidoscope-education.org/event/hancock-clubs-3/2023-11-30/
LOCATION:MI
END:VEVENT
BEGIN:VEVENT
DTSTART;VALUE=DATE:20231130
DTEND;VALUE=DATE:20231201
DTSTAMP:20260425T192359
CREATED:20230302T222935Z
LAST-MODIFIED:20230302T222935Z
UID:10002350-1701302400-1701388799@kaleidoscope-education.org
SUMMARY:Hancock Classes
DESCRIPTION:Kaleidoscope Hancock Thursday Schedule
URL:https://kaleidoscope-education.org/event/hancock-classes-3/2023-11-30/
LOCATION:MI
END:VEVENT
BEGIN:VEVENT
DTSTART;VALUE=DATE:20231129
DTEND;VALUE=DATE:20231130
DTSTAMP:20260425T192359
CREATED:20231108T203005Z
LAST-MODIFIED:20231108T203005Z
UID:10000396-1701216000-1701302399@kaleidoscope-education.org
SUMMARY:Scholastic Book Order Deadline
DESCRIPTION:Ready to discover the characters and stories your kids love? With expertly curated selections\, plus the chance for your teacher to earn rewards for the classroom with every order\, Scholastic Book Clubs is here for you all year long to boost your kid’s reading fandom and maybe even create moments of quality time you can share together!\n\nPlace an order of $25 or more and you can pick a FREE $5 book (use code READS at checkout) to add to your reader’s TBR pile!\n\nFamily Order Due Date: 11/29/23\n\nSHOP OUR CLASS PAGE:  https://orders.scholastic.com/YLPPP\n\nSHOP FLYERS: https://clubs.scholastic.com/all-flyers\n\nInvite relatives and friends to help your child discover the pure joy of reading when you share our Class Page link. Every order benefits our classroom\, helping me earn FREE books and resources that every child can enjoy.\n\nFlyers are also be available at both Kaleidoscope locations in case you would like a physcial copy.
URL:https://kaleidoscope-education.org/event/scholastic-book-order-deadline/
LOCATION:MI
END:VEVENT
BEGIN:VEVENT
DTSTART;VALUE=DATE:20231129
DTEND;VALUE=DATE:20231130
DTSTAMP:20260425T192359
CREATED:20230302T224529Z
LAST-MODIFIED:20230302T224529Z
UID:10002396-1701216000-1701302399@kaleidoscope-education.org
SUMMARY:Drama Club
DESCRIPTION:Drama Club meets from 4:00-5:30 at Kaleidoscope Hancock.
URL:https://kaleidoscope-education.org/event/hancock-clubs-2/2023-11-29/
LOCATION:MI
END:VEVENT
BEGIN:VEVENT
DTSTART;VALUE=DATE:20231129
DTEND;VALUE=DATE:20231130
DTSTAMP:20260425T192359
CREATED:20230302T222810Z
LAST-MODIFIED:20230302T222810Z
UID:10002337-1701216000-1701302399@kaleidoscope-education.org
SUMMARY:L'Anse Classes
DESCRIPTION:Kaleidoscope L’Anse Wednesday Schedule
URL:https://kaleidoscope-education.org/event/lanse-classes-4/2023-11-29/
LOCATION:MI
END:VEVENT
BEGIN:VEVENT
DTSTART;VALUE=DATE:20231128
DTEND;VALUE=DATE:20231129
DTSTAMP:20260425T192359
CREATED:20231107T164308Z
LAST-MODIFIED:20231107T164308Z
UID:10000395-1701129600-1701215999@kaleidoscope-education.org
SUMMARY:#GivingTuesday
DESCRIPTION:Click here to learn about #GivingTuesday!
URL:https://kaleidoscope-education.org/event/givingtuesday/
LOCATION:MI
END:VEVENT
BEGIN:VEVENT
DTSTART;VALUE=DATE:20231128
DTEND;VALUE=DATE:20231129
DTSTAMP:20260425T192359
CREATED:20230302T222617Z
LAST-MODIFIED:20230302T222617Z
UID:10002324-1701129600-1701215999@kaleidoscope-education.org
SUMMARY:L'Anse Classes
DESCRIPTION:Kaleidoscope L’Anse Tuesday Schedule
URL:https://kaleidoscope-education.org/event/lanse-classes-3/2023-11-28/
LOCATION:MI
END:VEVENT
BEGIN:VEVENT
DTSTART;VALUE=DATE:20231127
DTEND;VALUE=DATE:20231128
DTSTAMP:20260425T192359
CREATED:20231019T135651Z
LAST-MODIFIED:20231019T135651Z
UID:10002551-1701043200-1701129599@kaleidoscope-education.org
SUMMARY:Club Teen Night - L'Anse
DESCRIPTION:Club Teen Night meets from 6:00-8:00 PM at Kaleidoscope L’Anse.
URL:https://kaleidoscope-education.org/event/club-teen-night-lanse-3/2023-11-27/
LOCATION:MI
END:VEVENT
BEGIN:VEVENT
DTSTART;VALUE=DATE:20231127
DTEND;VALUE=DATE:20231128
DTSTAMP:20260425T192359
CREATED:20230302T223717Z
LAST-MODIFIED:20230302T223717Z
UID:10002376-1701043200-1701129599@kaleidoscope-education.org
SUMMARY:L'Anse Clubs
DESCRIPTION:Lego Club and Arts and Crafts Club meet from 4:00-5:30 at Kaleidoscope L’Anse.
URL:https://kaleidoscope-education.org/event/lego-club-lanse/2023-11-27/
LOCATION:MI
END:VEVENT
BEGIN:VEVENT
DTSTART;VALUE=DATE:20231127
DTEND;VALUE=DATE:20231128
DTSTAMP:20260425T192359
CREATED:20230302T223350Z
LAST-MODIFIED:20230302T223350Z
UID:10002363-1701043200-1701129599@kaleidoscope-education.org
SUMMARY:Lego Club - Hancock
DESCRIPTION:Lego Club meets from 4:00-5:30 at Kaleidoscope Hancock.
URL:https://kaleidoscope-education.org/event/lego-club-hancock/2023-11-27/
LOCATION:MI
END:VEVENT
BEGIN:VEVENT
DTSTART;VALUE=DATE:20231127
DTEND;VALUE=DATE:20231128
DTSTAMP:20260425T192359
CREATED:20230302T222226Z
LAST-MODIFIED:20230302T222226Z
UID:10002311-1701043200-1701129599@kaleidoscope-education.org
SUMMARY:Hancock Classes
DESCRIPTION:Kaleidoscope Hancock Monday Schedule
URL:https://kaleidoscope-education.org/event/hancock-classes-2/2023-11-27/
LOCATION:MI
END:VEVENT
BEGIN:VEVENT
DTSTART;VALUE=DATE:20231126
DTEND;VALUE=DATE:20231127
DTSTAMP:20260425T192359
CREATED:20230223T221925Z
LAST-MODIFIED:20230223T221925Z
UID:10000308-1700956800-1701043199@kaleidoscope-education.org
SUMMARY:Week 11
DESCRIPTION:
URL:https://kaleidoscope-education.org/event/week-11/
LOCATION:MI
END:VEVENT
BEGIN:VEVENT
DTSTART;VALUE=DATE:20231119
DTEND;VALUE=DATE:20231126
DTSTAMP:20260425T192359
CREATED:20230223T221847Z
LAST-MODIFIED:20230223T221847Z
UID:10000307-1700352000-1700956799@kaleidoscope-education.org
SUMMARY:FALL BREAK
DESCRIPTION:There will be no classes or clubs\, and Kaleidoscope offices are closed this week.
URL:https://kaleidoscope-education.org/event/fall-break/
LOCATION:MI
END:VEVENT
BEGIN:VEVENT
DTSTART;VALUE=DATE:20231116
DTEND;VALUE=DATE:20231117
DTSTAMP:20260425T192359
CREATED:20230921T131529Z
LAST-MODIFIED:20230921T131529Z
UID:10002547-1700092800-1700179199@kaleidoscope-education.org
SUMMARY:Old-School Gym Games (Explore Athletics)
DESCRIPTION:Join Explore Athletics Class for these sessions of old-school gym games! 2:00-3:00 at Kaleidoscope Hancock.
URL:https://kaleidoscope-education.org/event/old-school-gym-games-explore-athletics/2023-11-16/
LOCATION:MI
END:VEVENT
BEGIN:VEVENT
DTSTART;VALUE=DATE:20231116
DTEND;VALUE=DATE:20231117
DTSTAMP:20260425T192359
CREATED:20230302T224720Z
LAST-MODIFIED:20230302T224720Z
UID:10002407-1700092800-1700179199@kaleidoscope-education.org
SUMMARY:Arts and Crafts Club - Hancock
DESCRIPTION:Arts and Crafts Club will meet from 4:00-5:30 at Kaleidoscope Hancock.
URL:https://kaleidoscope-education.org/event/hancock-clubs-3/2023-11-16/
LOCATION:MI
END:VEVENT
BEGIN:VEVENT
DTSTART;VALUE=DATE:20231116
DTEND;VALUE=DATE:20231117
DTSTAMP:20260425T192359
CREATED:20230302T222935Z
LAST-MODIFIED:20230302T222935Z
UID:10002349-1700092800-1700179199@kaleidoscope-education.org
SUMMARY:Hancock Classes
DESCRIPTION:Kaleidoscope Hancock Thursday Schedule
URL:https://kaleidoscope-education.org/event/hancock-classes-3/2023-11-16/
LOCATION:MI
END:VEVENT
BEGIN:VEVENT
DTSTART;VALUE=DATE:20231115
DTEND;VALUE=DATE:20231116
DTSTAMP:20260425T192359
CREATED:20230302T224529Z
LAST-MODIFIED:20230302T224529Z
UID:10002395-1700006400-1700092799@kaleidoscope-education.org
SUMMARY:Drama Club
DESCRIPTION:Drama Club meets from 4:00-5:30 at Kaleidoscope Hancock.
URL:https://kaleidoscope-education.org/event/hancock-clubs-2/2023-11-15/
LOCATION:MI
END:VEVENT
BEGIN:VEVENT
DTSTART;VALUE=DATE:20231115
DTEND;VALUE=DATE:20231116
DTSTAMP:20260425T192359
CREATED:20230302T222810Z
LAST-MODIFIED:20230302T222810Z
UID:10002336-1700006400-1700092799@kaleidoscope-education.org
SUMMARY:L'Anse Classes
DESCRIPTION:Kaleidoscope L’Anse Wednesday Schedule
URL:https://kaleidoscope-education.org/event/lanse-classes-4/2023-11-15/
LOCATION:MI
END:VEVENT
BEGIN:VEVENT
DTSTART;VALUE=DATE:20231114
DTEND;VALUE=DATE:20231115
DTSTAMP:20260425T192359
CREATED:20231114T175831Z
LAST-MODIFIED:20231114T175831Z
UID:10000403-1699920000-1700006399@kaleidoscope-education.org
SUMMARY:
DESCRIPTION:Join us at Meadowbrook Arena in L’Anse from 2:00-3:00 on Thursdays beginning 11/30. (Our first date has been postponed to 11/30 due to warm weather). Cost is free! \nExact Dates Below. Dates do NOT align with weeks Kaleidoscope has classes and clubs. \nNov 30 \nDec 7\, 14 \nJan 14\, 11\, 18\, 25 \nFeb 1\, 8\, 15\, 22\, 29 \nMarch TBD
URL:https://kaleidoscope-education.org/event/9892/
LOCATION:MI
END:VEVENT
BEGIN:VEVENT
DTSTART;VALUE=DATE:20231114
DTEND;VALUE=DATE:20231115
DTSTAMP:20260425T192359
CREATED:20230302T222617Z
LAST-MODIFIED:20230302T222617Z
UID:10002323-1699920000-1700006399@kaleidoscope-education.org
SUMMARY:L'Anse Classes
DESCRIPTION:Kaleidoscope L’Anse Tuesday Schedule
URL:https://kaleidoscope-education.org/event/lanse-classes-3/2023-11-14/
LOCATION:MI
END:VEVENT
BEGIN:VEVENT
DTSTART;VALUE=DATE:20231114
DTEND;VALUE=DATE:20231115
DTSTAMP:20260425T192359
CREATED:20230927T172555Z
LAST-MODIFIED:20230927T172555Z
UID:10000389-1699920000-1700006399@kaleidoscope-education.org
SUMMARY:Seesaw Catchup Day - L'ANSE
DESCRIPTION:Does your student need some help with or supervision while completing their Seesaw assignments? Bring them in to Kaleidoscope L’Anse this day during our regular business hours\, from 11:45-3:00.
URL:https://kaleidoscope-education.org/event/seesaw-catchup-day-lanse/
LOCATION:MI
END:VEVENT
BEGIN:VEVENT
DTSTART;VALUE=DATE:20231113
DTEND;VALUE=DATE:20231114
DTSTAMP:20260425T192359
CREATED:20231019T135651Z
LAST-MODIFIED:20231019T135651Z
UID:10002550-1699833600-1699919999@kaleidoscope-education.org
SUMMARY:Club Teen Night - L'Anse
DESCRIPTION:Club Teen Night meets from 6:00-8:00 PM at Kaleidoscope L’Anse.
URL:https://kaleidoscope-education.org/event/club-teen-night-lanse-3/2023-11-13/
LOCATION:MI
END:VEVENT
BEGIN:VEVENT
DTSTART;VALUE=DATE:20231113
DTEND;VALUE=DATE:20231114
DTSTAMP:20260425T192359
CREATED:20230927T171913Z
LAST-MODIFIED:20230927T171913Z
UID:10000388-1699833600-1699919999@kaleidoscope-education.org
SUMMARY:Seesaw Catchup Day - HANCOCK
DESCRIPTION:Does your student need some help with or supervision while completing their Seesaw assignments? Bring them in to Kaleidoscope Hancock this day during our regular business hours\, 9:30-6:00.
URL:https://kaleidoscope-education.org/event/seesaw-catchup-day-hancock/
LOCATION:MI
END:VEVENT
BEGIN:VEVENT
DTSTART;VALUE=DATE:20231113
DTEND;VALUE=DATE:20231114
DTSTAMP:20260425T192359
CREATED:20230302T223717Z
LAST-MODIFIED:20230302T223717Z
UID:10002375-1699833600-1699919999@kaleidoscope-education.org
SUMMARY:L'Anse Clubs
DESCRIPTION:Lego Club and Arts and Crafts Club meet from 4:00-5:30 at Kaleidoscope L’Anse.
URL:https://kaleidoscope-education.org/event/lego-club-lanse/2023-11-13/
LOCATION:MI
END:VEVENT
BEGIN:VEVENT
DTSTART;VALUE=DATE:20231113
DTEND;VALUE=DATE:20231114
DTSTAMP:20260425T192359
CREATED:20230302T223350Z
LAST-MODIFIED:20230302T223350Z
UID:10002362-1699833600-1699919999@kaleidoscope-education.org
SUMMARY:Lego Club - Hancock
DESCRIPTION:Lego Club meets from 4:00-5:30 at Kaleidoscope Hancock.
URL:https://kaleidoscope-education.org/event/lego-club-hancock/2023-11-13/
LOCATION:MI
END:VEVENT
BEGIN:VEVENT
DTSTART;VALUE=DATE:20231113
DTEND;VALUE=DATE:20231114
DTSTAMP:20260425T192359
CREATED:20230302T222226Z
LAST-MODIFIED:20230302T222226Z
UID:10002310-1699833600-1699919999@kaleidoscope-education.org
SUMMARY:Hancock Classes
DESCRIPTION:Kaleidoscope Hancock Monday Schedule
URL:https://kaleidoscope-education.org/event/hancock-classes-2/2023-11-13/
LOCATION:MI
END:VEVENT
BEGIN:VEVENT
DTSTART;VALUE=DATE:20231112
DTEND;VALUE=DATE:20231113
DTSTAMP:20260425T192359
CREATED:20230223T221751Z
LAST-MODIFIED:20230223T221751Z
UID:10000306-1699747200-1699833599@kaleidoscope-education.org
SUMMARY:Week 10
DESCRIPTION:
URL:https://kaleidoscope-education.org/event/week-10/
LOCATION:MI
END:VEVENT
END:VCALENDAR