BEGIN:VCALENDAR
VERSION:2.0
PRODID:-//Kaleidoscope - ECPv6.15.20//NONSGML v1.0//EN
CALSCALE:GREGORIAN
METHOD:PUBLISH
X-WR-CALNAME:Kaleidoscope
X-ORIGINAL-URL:https://kaleidoscope-education.org
X-WR-CALDESC:Events for Kaleidoscope
REFRESH-INTERVAL;VALUE=DURATION:PT1H
X-Robots-Tag:noindex
X-PUBLISHED-TTL:PT1H
BEGIN:VTIMEZONE
TZID:America/Detroit
BEGIN:DAYLIGHT
TZOFFSETFROM:-0500
TZOFFSETTO:-0400
TZNAME:EDT
DTSTART:20220313T070000
END:DAYLIGHT
BEGIN:STANDARD
TZOFFSETFROM:-0400
TZOFFSETTO:-0500
TZNAME:EST
DTSTART:20221106T060000
END:STANDARD
BEGIN:DAYLIGHT
TZOFFSETFROM:-0500
TZOFFSETTO:-0400
TZNAME:EDT
DTSTART:20230312T070000
END:DAYLIGHT
BEGIN:STANDARD
TZOFFSETFROM:-0400
TZOFFSETTO:-0500
TZNAME:EST
DTSTART:20231105T060000
END:STANDARD
BEGIN:DAYLIGHT
TZOFFSETFROM:-0500
TZOFFSETTO:-0400
TZNAME:EDT
DTSTART:20240310T070000
END:DAYLIGHT
BEGIN:STANDARD
TZOFFSETFROM:-0400
TZOFFSETTO:-0500
TZNAME:EST
DTSTART:20241103T060000
END:STANDARD
END:VTIMEZONE
BEGIN:VEVENT
DTSTART;VALUE=DATE:20231108
DTEND;VALUE=DATE:20231109
DTSTAMP:20260425T234702
CREATED:20231030T180041Z
LAST-MODIFIED:20231030T180041Z
UID:10002556-1699401600-1699487999@kaleidoscope-education.org
SUMMARY:Fall into Reading
DESCRIPTION:Celebrate READING this week at both Kaleidoscope locations! \nMost activities are drop in\, but please REGISTER HERE for the Portage Lake District Library Field Trip.
URL:https://kaleidoscope-education.org/event/fall-into-reading/2023-11-08/
END:VEVENT
BEGIN:VEVENT
DTSTART;VALUE=DATE:20231108
DTEND;VALUE=DATE:20231109
DTSTAMP:20260425T234703
CREATED:20231002T181612Z
LAST-MODIFIED:20231002T181612Z
UID:10000390-1699401600-1699487999@kaleidoscope-education.org
SUMMARY:Explorer Lab
DESCRIPTION:Explorer Lab is open 2:30-5:30 every Wednesday at Kaleidoscope Hancock beginning November 8th.
URL:https://kaleidoscope-education.org/event/explorer-lab-2-2/
END:VEVENT
BEGIN:VEVENT
DTSTART;VALUE=DATE:20231108
DTEND;VALUE=DATE:20231109
DTSTAMP:20260425T234703
CREATED:20230812T175304Z
LAST-MODIFIED:20230812T175304Z
UID:10002531-1699401600-1699487999@kaleidoscope-education.org
SUMMARY:Legos at the Library
DESCRIPTION:Every second Wednesday of the month\, join Kaleidoscope at the Portage Lake District library from 1:00-3:00. A Kaleidoscope instructor will lead an activity and free-build time. This event is FREE. \nFor more details\, click here!
URL:https://kaleidoscope-education.org/event/legos-at-the-library-2-2/2023-11-08/
ATTACH;FMTTYPE=image/jpeg:https://kaleidoscope-education.org/wp-content/uploads/2022/09/legos-at-the-library-scaled-e1677784989594.jpeg
END:VEVENT
BEGIN:VEVENT
DTSTART;VALUE=DATE:20231108
DTEND;VALUE=DATE:20231109
DTSTAMP:20260425T234703
CREATED:20230302T224529Z
LAST-MODIFIED:20230302T224529Z
UID:10002394-1699401600-1699487999@kaleidoscope-education.org
SUMMARY:Drama Club
DESCRIPTION:Drama Club meets from 4:00-5:30 at Kaleidoscope Hancock.
URL:https://kaleidoscope-education.org/event/hancock-clubs-2/2023-11-08/
END:VEVENT
BEGIN:VEVENT
DTSTART;VALUE=DATE:20231108
DTEND;VALUE=DATE:20231109
DTSTAMP:20260425T234703
CREATED:20230302T222810Z
LAST-MODIFIED:20230302T222810Z
UID:10002335-1699401600-1699487999@kaleidoscope-education.org
SUMMARY:L'Anse Classes
DESCRIPTION:Kaleidoscope L’Anse Wednesday Schedule
URL:https://kaleidoscope-education.org/event/lanse-classes-4/2023-11-08/
END:VEVENT
BEGIN:VEVENT
DTSTART;VALUE=DATE:20231107
DTEND;VALUE=DATE:20231108
DTSTAMP:20260425T234703
CREATED:20231030T180041Z
LAST-MODIFIED:20231030T180041Z
UID:10002555-1699315200-1699401599@kaleidoscope-education.org
SUMMARY:Fall into Reading
DESCRIPTION:Celebrate READING this week at both Kaleidoscope locations! \nMost activities are drop in\, but please REGISTER HERE for the Portage Lake District Library Field Trip.
URL:https://kaleidoscope-education.org/event/fall-into-reading/2023-11-07/
END:VEVENT
BEGIN:VEVENT
DTSTART;VALUE=DATE:20231107
DTEND;VALUE=DATE:20231108
DTSTAMP:20260425T234703
CREATED:20230302T222617Z
LAST-MODIFIED:20230302T222617Z
UID:10002322-1699315200-1699401599@kaleidoscope-education.org
SUMMARY:L'Anse Classes
DESCRIPTION:Kaleidoscope L’Anse Tuesday Schedule
URL:https://kaleidoscope-education.org/event/lanse-classes-3/2023-11-07/
END:VEVENT
BEGIN:VEVENT
DTSTART;VALUE=DATE:20231106
DTEND;VALUE=DATE:20231107
DTSTAMP:20260425T234703
CREATED:20231030T180041Z
LAST-MODIFIED:20231030T180041Z
UID:10000394-1699228800-1699315199@kaleidoscope-education.org
SUMMARY:Fall into Reading
DESCRIPTION:Celebrate READING this week at both Kaleidoscope locations! \nMost activities are drop in\, but please REGISTER HERE for the Portage Lake District Library Field Trip.
URL:https://kaleidoscope-education.org/event/fall-into-reading/2023-11-06/
END:VEVENT
BEGIN:VEVENT
DTSTART;VALUE=DATE:20231106
DTEND;VALUE=DATE:20231107
DTSTAMP:20260425T234703
CREATED:20231019T135651Z
LAST-MODIFIED:20231019T135651Z
UID:10000392-1699228800-1699315199@kaleidoscope-education.org
SUMMARY:Club Teen Night - L'Anse
DESCRIPTION:Club Teen Night meets from 6:00-8:00 PM at Kaleidoscope L’Anse.
URL:https://kaleidoscope-education.org/event/club-teen-night-lanse-3/2023-11-06/
END:VEVENT
BEGIN:VEVENT
DTSTART;VALUE=DATE:20231106
DTEND;VALUE=DATE:20231107
DTSTAMP:20260425T234703
CREATED:20230302T223717Z
LAST-MODIFIED:20230302T223717Z
UID:10002374-1699228800-1699315199@kaleidoscope-education.org
SUMMARY:L'Anse Clubs
DESCRIPTION:Lego Club and Arts and Crafts Club meet from 4:00-5:30 at Kaleidoscope L’Anse.
URL:https://kaleidoscope-education.org/event/lego-club-lanse/2023-11-06/
END:VEVENT
BEGIN:VEVENT
DTSTART;VALUE=DATE:20231106
DTEND;VALUE=DATE:20231107
DTSTAMP:20260425T234703
CREATED:20230302T223350Z
LAST-MODIFIED:20230302T223350Z
UID:10002361-1699228800-1699315199@kaleidoscope-education.org
SUMMARY:Lego Club - Hancock
DESCRIPTION:Lego Club meets from 4:00-5:30 at Kaleidoscope Hancock.
URL:https://kaleidoscope-education.org/event/lego-club-hancock/2023-11-06/
END:VEVENT
BEGIN:VEVENT
DTSTART;VALUE=DATE:20231106
DTEND;VALUE=DATE:20231107
DTSTAMP:20260425T234703
CREATED:20230302T222226Z
LAST-MODIFIED:20230302T222226Z
UID:10002309-1699228800-1699315199@kaleidoscope-education.org
SUMMARY:Hancock Classes
DESCRIPTION:Kaleidoscope Hancock Monday Schedule
URL:https://kaleidoscope-education.org/event/hancock-classes-2/2023-11-06/
END:VEVENT
BEGIN:VEVENT
DTSTART;VALUE=DATE:20231105
DTEND;VALUE=DATE:20231106
DTSTAMP:20260425T234703
CREATED:20230223T221712Z
LAST-MODIFIED:20230223T221712Z
UID:10000305-1699142400-1699142400@kaleidoscope-education.org
SUMMARY:Week 9
DESCRIPTION:
URL:https://kaleidoscope-education.org/event/week-9/
END:VEVENT
BEGIN:VEVENT
DTSTART;VALUE=DATE:20231102
DTEND;VALUE=DATE:20231103
DTSTAMP:20260425T234703
CREATED:20230921T125944Z
LAST-MODIFIED:20230921T125944Z
UID:10002546-1698883200-1698969599@kaleidoscope-education.org
SUMMARY:Hiking and Orienteering (Explore Athletics)
DESCRIPTION:Join us for a Hiking and Orienteering series in the Hancock area! Meet at a local trailhead at 2:00–see flyer below for locations.
URL:https://kaleidoscope-education.org/event/hiking-and-orienteering-explore-athletics/2023-11-02/
END:VEVENT
BEGIN:VEVENT
DTSTART;VALUE=DATE:20231102
DTEND;VALUE=DATE:20231103
DTSTAMP:20260425T234703
CREATED:20230302T224720Z
LAST-MODIFIED:20230302T224720Z
UID:10002405-1698883200-1698969599@kaleidoscope-education.org
SUMMARY:Arts and Crafts Club - Hancock
DESCRIPTION:Arts and Crafts Club will meet from 4:00-5:30 at Kaleidoscope Hancock.
URL:https://kaleidoscope-education.org/event/hancock-clubs-3/2023-11-02/
END:VEVENT
BEGIN:VEVENT
DTSTART;VALUE=DATE:20231102
DTEND;VALUE=DATE:20231103
DTSTAMP:20260425T234703
CREATED:20230302T222935Z
LAST-MODIFIED:20230302T222935Z
UID:10002347-1698883200-1698969599@kaleidoscope-education.org
SUMMARY:Hancock Classes
DESCRIPTION:Kaleidoscope Hancock Thursday Schedule
URL:https://kaleidoscope-education.org/event/hancock-classes-3/2023-11-02/
END:VEVENT
BEGIN:VEVENT
DTSTART;VALUE=DATE:20231101
DTEND;VALUE=DATE:20231102
DTSTAMP:20260425T234703
CREATED:20230302T224529Z
LAST-MODIFIED:20230302T224529Z
UID:10002393-1698796800-1698883199@kaleidoscope-education.org
SUMMARY:Drama Club
DESCRIPTION:Drama Club meets from 4:00-5:30 at Kaleidoscope Hancock.
URL:https://kaleidoscope-education.org/event/hancock-clubs-2/2023-11-01/
END:VEVENT
BEGIN:VEVENT
DTSTART;VALUE=DATE:20231101
DTEND;VALUE=DATE:20231102
DTSTAMP:20260425T234703
CREATED:20230302T222810Z
LAST-MODIFIED:20230302T222810Z
UID:10002334-1698796800-1698883199@kaleidoscope-education.org
SUMMARY:L'Anse Classes
DESCRIPTION:Kaleidoscope L’Anse Wednesday Schedule
URL:https://kaleidoscope-education.org/event/lanse-classes-4/2023-11-01/
END:VEVENT
BEGIN:VEVENT
DTSTART;VALUE=DATE:20231101
DTEND;VALUE=DATE:20231102
DTSTAMP:20260425T234703
CREATED:20230914T152349Z
LAST-MODIFIED:20230914T152349Z
UID:10000382-1698796800-1698883199@kaleidoscope-education.org
SUMMARY:Self Defense Basics
DESCRIPTION:Wed\, Nov 1st 6:30-8:30. \nLearn the basics of self defense with other adults in this one night workshop!
URL:https://kaleidoscope-education.org/event/self-defense-basics/
END:VEVENT
BEGIN:VEVENT
DTSTART;VALUE=DATE:20231031
DTEND;VALUE=DATE:20231101
DTSTAMP:20260425T234703
CREATED:20230302T222617Z
LAST-MODIFIED:20230302T222617Z
UID:10002321-1698710400-1698796799@kaleidoscope-education.org
SUMMARY:L'Anse Classes
DESCRIPTION:Kaleidoscope L’Anse Tuesday Schedule
URL:https://kaleidoscope-education.org/event/lanse-classes-3/2023-10-31/
END:VEVENT
BEGIN:VEVENT
DTSTART;VALUE=DATE:20231030
DTEND;VALUE=DATE:20231031
DTSTAMP:20260425T234703
CREATED:20230302T224108Z
LAST-MODIFIED:20230302T224108Z
UID:10002386-1698624000-1698710399@kaleidoscope-education.org
SUMMARY:Club Teen Night - L'Anse
DESCRIPTION:Club Teen Night meets from 6:00-8:00 PM at Kaleidoscope L’Anse. \nSee below for our special event during our Oct 30th Club Teen Night! Our Murder Mystery Night DOES require registration.
URL:https://kaleidoscope-education.org/event/club-teen-night-lanse/2023-10-30/
END:VEVENT
BEGIN:VEVENT
DTSTART;VALUE=DATE:20231030
DTEND;VALUE=DATE:20231031
DTSTAMP:20260425T234703
CREATED:20230302T223717Z
LAST-MODIFIED:20230302T223717Z
UID:10002373-1698624000-1698710399@kaleidoscope-education.org
SUMMARY:L'Anse Clubs
DESCRIPTION:Lego Club and Arts and Crafts Club meet from 4:00-5:30 at Kaleidoscope L’Anse.
URL:https://kaleidoscope-education.org/event/lego-club-lanse/2023-10-30/
END:VEVENT
BEGIN:VEVENT
DTSTART;VALUE=DATE:20231030
DTEND;VALUE=DATE:20231031
DTSTAMP:20260425T234703
CREATED:20230302T223350Z
LAST-MODIFIED:20230302T223350Z
UID:10002360-1698624000-1698710399@kaleidoscope-education.org
SUMMARY:Lego Club - Hancock
DESCRIPTION:Lego Club meets from 4:00-5:30 at Kaleidoscope Hancock.
URL:https://kaleidoscope-education.org/event/lego-club-hancock/2023-10-30/
END:VEVENT
BEGIN:VEVENT
DTSTART;VALUE=DATE:20231030
DTEND;VALUE=DATE:20231031
DTSTAMP:20260425T234703
CREATED:20230302T222226Z
LAST-MODIFIED:20230302T222226Z
UID:10002308-1698624000-1698710399@kaleidoscope-education.org
SUMMARY:Hancock Classes
DESCRIPTION:Kaleidoscope Hancock Monday Schedule
URL:https://kaleidoscope-education.org/event/hancock-classes-2/2023-10-30/
END:VEVENT
BEGIN:VEVENT
DTSTART;VALUE=DATE:20231029
DTEND;VALUE=DATE:20231030
DTSTAMP:20260425T234703
CREATED:20230225T124353Z
LAST-MODIFIED:20230225T124353Z
UID:10000328-1698537600-1698623999@kaleidoscope-education.org
SUMMARY:Week 8
DESCRIPTION:
URL:https://kaleidoscope-education.org/event/week-8-3/
END:VEVENT
BEGIN:VEVENT
DTSTART;VALUE=DATE:20231026
DTEND;VALUE=DATE:20231027
DTSTAMP:20260425T234703
CREATED:20231019T134956Z
LAST-MODIFIED:20231019T134956Z
UID:10000391-1698278400-1698364799@kaleidoscope-education.org
SUMMARY:Exploration Thursdays
DESCRIPTION:Beginning this October\, Exploration Thursdays will take place will be open at Kaleidoscope Hancock (417 Quincy St\, 4th Floor) every Thursday we are in session from 11:30-1:30 \nSee our Exploration Thursdays webpage for more details. \nThis week’s activity requires registration!
URL:https://kaleidoscope-education.org/event/exploration-thursdays-3-2/
END:VEVENT
BEGIN:VEVENT
DTSTART;VALUE=DATE:20231026
DTEND;VALUE=DATE:20231027
DTSTAMP:20260425T234703
CREATED:20230921T125944Z
LAST-MODIFIED:20230921T125944Z
UID:10002545-1698278400-1698364799@kaleidoscope-education.org
SUMMARY:Hiking and Orienteering (Explore Athletics)
DESCRIPTION:Join us for a Hiking and Orienteering series in the Hancock area! Meet at a local trailhead at 2:00–see flyer below for locations.
URL:https://kaleidoscope-education.org/event/hiking-and-orienteering-explore-athletics/2023-10-26/
END:VEVENT
BEGIN:VEVENT
DTSTART;VALUE=DATE:20231026
DTEND;VALUE=DATE:20231027
DTSTAMP:20260425T234703
CREATED:20230302T224720Z
LAST-MODIFIED:20230302T224720Z
UID:10002404-1698278400-1698364799@kaleidoscope-education.org
SUMMARY:Arts and Crafts Club - Hancock
DESCRIPTION:Arts and Crafts Club will meet from 4:00-5:30 at Kaleidoscope Hancock.
URL:https://kaleidoscope-education.org/event/hancock-clubs-3/2023-10-26/
END:VEVENT
BEGIN:VEVENT
DTSTART;VALUE=DATE:20231026
DTEND;VALUE=DATE:20231027
DTSTAMP:20260425T234703
CREATED:20230302T222935Z
LAST-MODIFIED:20230302T222935Z
UID:10002346-1698278400-1698364799@kaleidoscope-education.org
SUMMARY:Hancock Classes
DESCRIPTION:Kaleidoscope Hancock Thursday Schedule
URL:https://kaleidoscope-education.org/event/hancock-classes-3/2023-10-26/
END:VEVENT
BEGIN:VEVENT
DTSTART;VALUE=DATE:20231025
DTEND;VALUE=DATE:20231026
DTSTAMP:20260425T234703
CREATED:20230302T224529Z
LAST-MODIFIED:20230302T224529Z
UID:10002392-1698192000-1698278399@kaleidoscope-education.org
SUMMARY:Drama Club
DESCRIPTION:Drama Club meets from 4:00-5:30 at Kaleidoscope Hancock.
URL:https://kaleidoscope-education.org/event/hancock-clubs-2/2023-10-25/
END:VEVENT
END:VCALENDAR