BEGIN:VCALENDAR
VERSION:2.0
PRODID:-//Kaleidoscope - ECPv6.15.18//NONSGML v1.0//EN
CALSCALE:GREGORIAN
METHOD:PUBLISH
X-ORIGINAL-URL:https://kaleidoscope-education.org
X-WR-CALDESC:Events for Kaleidoscope
REFRESH-INTERVAL;VALUE=DURATION:PT1H
X-Robots-Tag:noindex
X-PUBLISHED-TTL:PT1H
BEGIN:VTIMEZONE
TZID:America/Detroit
BEGIN:DAYLIGHT
TZOFFSETFROM:-0500
TZOFFSETTO:-0400
TZNAME:EDT
DTSTART:20250309T070000
END:DAYLIGHT
BEGIN:STANDARD
TZOFFSETFROM:-0400
TZOFFSETTO:-0500
TZNAME:EST
DTSTART:20251102T060000
END:STANDARD
BEGIN:DAYLIGHT
TZOFFSETFROM:-0500
TZOFFSETTO:-0400
TZNAME:EDT
DTSTART:20260308T070000
END:DAYLIGHT
BEGIN:STANDARD
TZOFFSETFROM:-0400
TZOFFSETTO:-0500
TZNAME:EST
DTSTART:20261101T060000
END:STANDARD
BEGIN:DAYLIGHT
TZOFFSETFROM:-0500
TZOFFSETTO:-0400
TZNAME:EDT
DTSTART:20270314T070000
END:DAYLIGHT
BEGIN:STANDARD
TZOFFSETFROM:-0400
TZOFFSETTO:-0500
TZNAME:EST
DTSTART:20271107T060000
END:STANDARD
END:VTIMEZONE
BEGIN:VEVENT
DTSTART;VALUE=DATE:20260425
DTEND;VALUE=DATE:20260426
DTSTAMP:20260422T212416
CREATED:20260203T150729Z
LAST-MODIFIED:20260227T171944Z
UID:10003583-1777104000-1777136400@kaleidoscope-education.org
SUMMARY:STEAM Saturdays
DESCRIPTION:STEAM Saturdays are from 10:00-12:00 at Kaleidoscope Hancock (417 Quincy) and include simultaneous programs: art is in our Indigo classroom. and science is in our Thistle classroom. Families may move freely between the classrooms.  \nKaleidoscope are available to assist\, and provide supplemental and complementary activities so that all family members can be engaged in age-appropriate projects. \nThis event is free to anyone in the community\, with optional donations to Kaleidoscope.  \n2026 STEAM Saturday Dates: \n\nJanuary 31\nFebruary 21\nMarch 14\nApril 25\nFurther Dates TBD
URL:https://kaleidoscope-education.org/event/steam-saturdays/2026-04-25/
LOCATION:Kaleidoscope Hancock\, 417 Quincy St\, Hancock\, 49930\, United States
END:VEVENT
BEGIN:VEVENT
DTSTART;VALUE=DATE:20260427
DTEND;VALUE=DATE:20260428
DTSTAMP:20260422T212416
CREATED:20250902T155046Z
LAST-MODIFIED:20250902T155046Z
UID:10003384-1777248000-1777334399@kaleidoscope-education.org
SUMMARY:Hancock Classes
DESCRIPTION:See detailed class schedules and important dates here.
URL:https://kaleidoscope-education.org/event/hancock-classes-8/2026-04-27/
LOCATION:Kaleidoscope Hancock\, 417 Quincy St\, Hancock\, 49930\, United States
END:VEVENT
BEGIN:VEVENT
DTSTART;VALUE=DATE:20260427
DTEND;VALUE=DATE:20260428
DTSTAMP:20260422T212416
CREATED:20260324T213407Z
LAST-MODIFIED:20260324T213407Z
UID:10003576-1777248000-1777334399@kaleidoscope-education.org
SUMMARY:Hancock Open House
DESCRIPTION:Come check us out! End of year open house from 5:30-7:30 at Kaleidoscope Hancock. \nView student work\, preview classes\, get help with registration\, plan for your 2026/2027 electives\, register for summer events\, and visit with staff and other Kaleidoscope families!
URL:https://kaleidoscope-education.org/event/hancock-open-house-4-2/
LOCATION:Kaleidoscope Hancock\, 417 Quincy St\, Hancock\, 49930\, United States
END:VEVENT
BEGIN:VEVENT
DTSTART;VALUE=DATE:20260428
DTEND;VALUE=DATE:20260429
DTSTAMP:20260422T212416
CREATED:20250902T161215Z
LAST-MODIFIED:20250902T161215Z
UID:10003521-1777334400-1777420799@kaleidoscope-education.org
SUMMARY:Hancock Classes
DESCRIPTION:See detailed class schedules and important dates here.
URL:https://kaleidoscope-education.org/event/hancock-classes-11/2026-04-28/
LOCATION:Kaleidoscope Hancock\, 417 Quincy St\, Hancock\, 49930\, United States
END:VEVENT
BEGIN:VEVENT
DTSTART;VALUE=DATE:20260504
DTEND;VALUE=DATE:20260505
DTSTAMP:20260422T212416
CREATED:20250902T155046Z
LAST-MODIFIED:20250902T155046Z
UID:10003385-1777852800-1777939199@kaleidoscope-education.org
SUMMARY:Hancock Classes
DESCRIPTION:See detailed class schedules and important dates here.
URL:https://kaleidoscope-education.org/event/hancock-classes-8/2026-05-04/
LOCATION:Kaleidoscope Hancock\, 417 Quincy St\, Hancock\, 49930\, United States
END:VEVENT
BEGIN:VEVENT
DTSTART;VALUE=DATE:20260505
DTEND;VALUE=DATE:20260506
DTSTAMP:20260422T212416
CREATED:20250902T161215Z
LAST-MODIFIED:20250902T161215Z
UID:10003522-1777939200-1778025599@kaleidoscope-education.org
SUMMARY:Hancock Classes
DESCRIPTION:See detailed class schedules and important dates here.
URL:https://kaleidoscope-education.org/event/hancock-classes-11/2026-05-05/
LOCATION:Kaleidoscope Hancock\, 417 Quincy St\, Hancock\, 49930\, United States
END:VEVENT
BEGIN:VEVENT
DTSTART;VALUE=DATE:20260622
DTEND;VALUE=DATE:20260626
DTSTAMP:20260422T212416
CREATED:20260319T135347Z
LAST-MODIFIED:20260319T140348Z
UID:10003621-1782086400-1782431999@kaleidoscope-education.org
SUMMARY:Art Camp - Hancock
DESCRIPTION:Get creative at Kaleidoscope Hancock’s Art Camp! \n9:00 am – 12:00 pm Mon-Thurs\, June 22-25. \nAges 8-14. \nMore info coming soon.
URL:https://kaleidoscope-education.org/event/art-camp-hancock/
LOCATION:Kaleidoscope Hancock\, 417 Quincy St\, Hancock\, 49930\, United States
END:VEVENT
BEGIN:VEVENT
DTSTART;VALUE=DATE:20260622
DTEND;VALUE=DATE:20260626
DTSTAMP:20260422T212416
CREATED:20260319T140917Z
LAST-MODIFIED:20260319T140917Z
UID:10003622-1782086400-1782431999@kaleidoscope-education.org
SUMMARY:STEAM Camp
DESCRIPTION:1:00-4:00 PM Monday-Thursday\, June 22-25. \nAges 8-14. \nGet ready to tinker\, create\, and explore! \nMore Info Coming Soon. \n 
URL:https://kaleidoscope-education.org/event/steam-camp-2/
LOCATION:Kaleidoscope Hancock\, 417 Quincy St\, Hancock\, 49930\, United States
END:VEVENT
BEGIN:VEVENT
DTSTART;VALUE=DATE:20260707
DTEND;VALUE=DATE:20260708
DTSTAMP:20260422T212416
CREATED:20260219T142138Z
LAST-MODIFIED:20260219T142138Z
UID:10003595-1783382400-1783468799@kaleidoscope-education.org
SUMMARY:Hancock Summer Classes
DESCRIPTION:See detailed class schedules and important dates here.
URL:https://kaleidoscope-education.org/event/hancock-summer-classes-3/2026-07-07/
LOCATION:Kaleidoscope Hancock\, 417 Quincy St\, Hancock\, 49930\, United States
END:VEVENT
BEGIN:VEVENT
DTSTART;VALUE=DATE:20260714
DTEND;VALUE=DATE:20260715
DTSTAMP:20260422T212416
CREATED:20260219T142138Z
LAST-MODIFIED:20260219T142138Z
UID:10003596-1784016000-1784048400@kaleidoscope-education.org
SUMMARY:Hancock Summer Classes
DESCRIPTION:See detailed class schedules and important dates here.
URL:https://kaleidoscope-education.org/event/hancock-summer-classes-3/2026-07-14/
LOCATION:Kaleidoscope Hancock\, 417 Quincy St\, Hancock\, 49930\, United States
END:VEVENT
BEGIN:VEVENT
DTSTART;VALUE=DATE:20260721
DTEND;VALUE=DATE:20260722
DTSTAMP:20260422T212416
CREATED:20260219T142138Z
LAST-MODIFIED:20260219T142138Z
UID:10003597-1784620800-1784653200@kaleidoscope-education.org
SUMMARY:Hancock Summer Classes
DESCRIPTION:See detailed class schedules and important dates here.
URL:https://kaleidoscope-education.org/event/hancock-summer-classes-3/2026-07-21/
LOCATION:Kaleidoscope Hancock\, 417 Quincy St\, Hancock\, 49930\, United States
END:VEVENT
BEGIN:VEVENT
DTSTART;VALUE=DATE:20260728
DTEND;VALUE=DATE:20260729
DTSTAMP:20260422T212416
CREATED:20260219T142138Z
LAST-MODIFIED:20260219T142138Z
UID:10003598-1785225600-1785258000@kaleidoscope-education.org
SUMMARY:Hancock Summer Classes
DESCRIPTION:See detailed class schedules and important dates here.
URL:https://kaleidoscope-education.org/event/hancock-summer-classes-3/2026-07-28/
LOCATION:Kaleidoscope Hancock\, 417 Quincy St\, Hancock\, 49930\, United States
END:VEVENT
BEGIN:VEVENT
DTSTART;VALUE=DATE:20260804
DTEND;VALUE=DATE:20260805
DTSTAMP:20260422T212416
CREATED:20260219T142138Z
LAST-MODIFIED:20260219T142138Z
UID:10003599-1785830400-1785862800@kaleidoscope-education.org
SUMMARY:Hancock Summer Classes
DESCRIPTION:See detailed class schedules and important dates here.
URL:https://kaleidoscope-education.org/event/hancock-summer-classes-3/2026-08-04/
LOCATION:Kaleidoscope Hancock\, 417 Quincy St\, Hancock\, 49930\, United States
END:VEVENT
BEGIN:VEVENT
DTSTART;VALUE=DATE:20260811
DTEND;VALUE=DATE:20260812
DTSTAMP:20260422T212416
CREATED:20260219T142138Z
LAST-MODIFIED:20260219T142138Z
UID:10003600-1786435200-1786467600@kaleidoscope-education.org
SUMMARY:Hancock Summer Classes
DESCRIPTION:See detailed class schedules and important dates here.
URL:https://kaleidoscope-education.org/event/hancock-summer-classes-3/2026-08-11/
LOCATION:Kaleidoscope Hancock\, 417 Quincy St\, Hancock\, 49930\, United States
END:VEVENT
BEGIN:VEVENT
DTSTART;VALUE=DATE:20260818
DTEND;VALUE=DATE:20260819
DTSTAMP:20260422T212416
CREATED:20260219T142138Z
LAST-MODIFIED:20260219T142138Z
UID:10003601-1787040000-1787072400@kaleidoscope-education.org
SUMMARY:Hancock Summer Classes
DESCRIPTION:See detailed class schedules and important dates here.
URL:https://kaleidoscope-education.org/event/hancock-summer-classes-3/2026-08-18/
LOCATION:Kaleidoscope Hancock\, 417 Quincy St\, Hancock\, 49930\, United States
END:VEVENT
BEGIN:VEVENT
DTSTART;VALUE=DATE:20260825
DTEND;VALUE=DATE:20260826
DTSTAMP:20260422T212416
CREATED:20260219T142138Z
LAST-MODIFIED:20260219T142138Z
UID:10003602-1787644800-1787677200@kaleidoscope-education.org
SUMMARY:Hancock Summer Classes
DESCRIPTION:See detailed class schedules and important dates here.
URL:https://kaleidoscope-education.org/event/hancock-summer-classes-3/2026-08-25/
LOCATION:Kaleidoscope Hancock\, 417 Quincy St\, Hancock\, 49930\, United States
END:VEVENT
END:VCALENDAR