BEGIN:VCALENDAR
VERSION:2.0
PRODID:-//Kaleidoscope - ECPv6.15.18//NONSGML v1.0//EN
CALSCALE:GREGORIAN
METHOD:PUBLISH
X-ORIGINAL-URL:https://kaleidoscope-education.org
X-WR-CALDESC:Events for Kaleidoscope
REFRESH-INTERVAL;VALUE=DURATION:PT1H
X-Robots-Tag:noindex
X-PUBLISHED-TTL:PT1H
BEGIN:VTIMEZONE
TZID:America/Detroit
BEGIN:DAYLIGHT
TZOFFSETFROM:-0500
TZOFFSETTO:-0400
TZNAME:EDT
DTSTART:20240310T070000
END:DAYLIGHT
BEGIN:STANDARD
TZOFFSETFROM:-0400
TZOFFSETTO:-0500
TZNAME:EST
DTSTART:20241103T060000
END:STANDARD
BEGIN:DAYLIGHT
TZOFFSETFROM:-0500
TZOFFSETTO:-0400
TZNAME:EDT
DTSTART:20250309T070000
END:DAYLIGHT
BEGIN:STANDARD
TZOFFSETFROM:-0400
TZOFFSETTO:-0500
TZNAME:EST
DTSTART:20251102T060000
END:STANDARD
BEGIN:DAYLIGHT
TZOFFSETFROM:-0500
TZOFFSETTO:-0400
TZNAME:EDT
DTSTART:20260308T070000
END:DAYLIGHT
BEGIN:STANDARD
TZOFFSETFROM:-0400
TZOFFSETTO:-0500
TZNAME:EST
DTSTART:20261101T060000
END:STANDARD
BEGIN:DAYLIGHT
TZOFFSETFROM:-0500
TZOFFSETTO:-0400
TZNAME:EDT
DTSTART:20270314T070000
END:DAYLIGHT
BEGIN:STANDARD
TZOFFSETFROM:-0400
TZOFFSETTO:-0500
TZNAME:EST
DTSTART:20271107T060000
END:STANDARD
END:VTIMEZONE
BEGIN:VEVENT
DTSTART;VALUE=DATE:20260126
DTEND;VALUE=DATE:20260127
DTSTAMP:20260423T012943
CREATED:20250902T155046Z
LAST-MODIFIED:20250902T155046Z
UID:10003373-1769385600-1769471999@kaleidoscope-education.org
SUMMARY:Hancock Classes
DESCRIPTION:See detailed class schedules and important dates here.
URL:https://kaleidoscope-education.org/event/hancock-classes-8/2026-01-26/
LOCATION:Kaleidoscope Hancock\, 417 Quincy St\, Hancock\, 49930\, United States
END:VEVENT
BEGIN:VEVENT
DTSTART;VALUE=DATE:20260120
DTEND;VALUE=DATE:20260121
DTSTAMP:20260423T012943
CREATED:20250902T161215Z
LAST-MODIFIED:20250902T161215Z
UID:10003509-1768867200-1768953599@kaleidoscope-education.org
SUMMARY:Hancock Classes
DESCRIPTION:See detailed class schedules and important dates here.
URL:https://kaleidoscope-education.org/event/hancock-classes-11/2026-01-20/
LOCATION:Kaleidoscope Hancock\, 417 Quincy St\, Hancock\, 49930\, United States
END:VEVENT
BEGIN:VEVENT
DTSTART;VALUE=DATE:20260119
DTEND;VALUE=DATE:20260120
DTSTAMP:20260423T012943
CREATED:20250902T155342Z
LAST-MODIFIED:20250902T155342Z
UID:10003400-1768780800-1768867199@kaleidoscope-education.org
SUMMARY:Hancock Classes
DESCRIPTION:See detailed class schedules and important dates here.
URL:https://kaleidoscope-education.org/event/hancock-classes-10/2026-01-19/
LOCATION:Kaleidoscope Hancock\, 417 Quincy St\, Hancock\, 49930\, United States
END:VEVENT
BEGIN:VEVENT
DTSTART;VALUE=DATE:20260119
DTEND;VALUE=DATE:20260120
DTSTAMP:20260423T012943
CREATED:20250902T155046Z
LAST-MODIFIED:20250902T155046Z
UID:10003372-1768780800-1768867199@kaleidoscope-education.org
SUMMARY:Hancock Classes
DESCRIPTION:See detailed class schedules and important dates here.
URL:https://kaleidoscope-education.org/event/hancock-classes-8/2026-01-19/
LOCATION:Kaleidoscope Hancock\, 417 Quincy St\, Hancock\, 49930\, United States
END:VEVENT
BEGIN:VEVENT
DTSTART;VALUE=DATE:20251216
DTEND;VALUE=DATE:20251217
DTSTAMP:20260423T012943
CREATED:20250902T155234Z
LAST-MODIFIED:20250902T155234Z
UID:10003399-1765843200-1765929599@kaleidoscope-education.org
SUMMARY:Hancock Classes
DESCRIPTION:See detailed class schedules and important dates here.
URL:https://kaleidoscope-education.org/event/hancock-classes-9/2025-12-16/
LOCATION:Kaleidoscope Hancock\, 417 Quincy St\, Hancock\, 49930\, United States
END:VEVENT
BEGIN:VEVENT
DTSTART;VALUE=DATE:20251215
DTEND;VALUE=DATE:20251216
DTSTAMP:20260423T012943
CREATED:20250902T154930Z
LAST-MODIFIED:20250902T160421Z
UID:10003371-1765756800-1765843199@kaleidoscope-education.org
SUMMARY:Hancock Classes
DESCRIPTION:See detailed class schedules and important dates here. \n 
URL:https://kaleidoscope-education.org/event/hancock-classes-7/2025-12-15/
LOCATION:Kaleidoscope Hancock\, 417 Quincy St\, Hancock\, 49930\, United States
END:VEVENT
BEGIN:VEVENT
DTSTART;VALUE=DATE:20251209
DTEND;VALUE=DATE:20251210
DTSTAMP:20260423T012943
CREATED:20250902T155234Z
LAST-MODIFIED:20250902T155234Z
UID:10003398-1765238400-1765324799@kaleidoscope-education.org
SUMMARY:Hancock Classes
DESCRIPTION:See detailed class schedules and important dates here.
URL:https://kaleidoscope-education.org/event/hancock-classes-9/2025-12-09/
LOCATION:Kaleidoscope Hancock\, 417 Quincy St\, Hancock\, 49930\, United States
END:VEVENT
BEGIN:VEVENT
DTSTART;VALUE=DATE:20251208
DTEND;VALUE=DATE:20251209
DTSTAMP:20260423T012943
CREATED:20251104T200751Z
LAST-MODIFIED:20251107T151820Z
UID:10003566-1765152000-1765238399@kaleidoscope-education.org
SUMMARY:HANCOCK Kids' Holiday Crafting
DESCRIPTION:5:30-7:30 pm at Kaleidoscope Hancock. \nKids are invited to come craft and wrap gifts for family and friends!  \nKaleidoscope Members: Free \nCommunity Members: $5 \nRegistration required. \nMore info coming soon. 
URL:https://kaleidoscope-education.org/event/hancock-kids-holiday-crafting/
LOCATION:Kaleidoscope Hancock\, 417 Quincy St\, Hancock\, 49930\, United States
END:VEVENT
BEGIN:VEVENT
DTSTART;VALUE=DATE:20251208
DTEND;VALUE=DATE:20251209
DTSTAMP:20260423T012943
CREATED:20250902T154930Z
LAST-MODIFIED:20250902T160421Z
UID:10003370-1765152000-1765238399@kaleidoscope-education.org
SUMMARY:Hancock Classes
DESCRIPTION:See detailed class schedules and important dates here. \n 
URL:https://kaleidoscope-education.org/event/hancock-classes-7/2025-12-08/
LOCATION:Kaleidoscope Hancock\, 417 Quincy St\, Hancock\, 49930\, United States
END:VEVENT
BEGIN:VEVENT
DTSTART;VALUE=DATE:20251202
DTEND;VALUE=DATE:20251203
DTSTAMP:20260423T012943
CREATED:20250902T155234Z
LAST-MODIFIED:20250902T155234Z
UID:10003397-1764633600-1764719999@kaleidoscope-education.org
SUMMARY:Hancock Classes
DESCRIPTION:See detailed class schedules and important dates here.
URL:https://kaleidoscope-education.org/event/hancock-classes-9/2025-12-02/
LOCATION:Kaleidoscope Hancock\, 417 Quincy St\, Hancock\, 49930\, United States
END:VEVENT
BEGIN:VEVENT
DTSTART;VALUE=DATE:20251201
DTEND;VALUE=DATE:20251202
DTSTAMP:20260423T012943
CREATED:20250902T154930Z
LAST-MODIFIED:20250902T160421Z
UID:10003369-1764547200-1764633599@kaleidoscope-education.org
SUMMARY:Hancock Classes
DESCRIPTION:See detailed class schedules and important dates here. \n 
URL:https://kaleidoscope-education.org/event/hancock-classes-7/2025-12-01/
LOCATION:Kaleidoscope Hancock\, 417 Quincy St\, Hancock\, 49930\, United States
END:VEVENT
BEGIN:VEVENT
DTSTART;VALUE=DATE:20251118
DTEND;VALUE=DATE:20251119
DTSTAMP:20260423T012943
CREATED:20250902T155234Z
LAST-MODIFIED:20250902T155234Z
UID:10003396-1763424000-1763510399@kaleidoscope-education.org
SUMMARY:Hancock Classes
DESCRIPTION:See detailed class schedules and important dates here.
URL:https://kaleidoscope-education.org/event/hancock-classes-9/2025-11-18/
LOCATION:Kaleidoscope Hancock\, 417 Quincy St\, Hancock\, 49930\, United States
END:VEVENT
BEGIN:VEVENT
DTSTART;VALUE=DATE:20251117
DTEND;VALUE=DATE:20251118
DTSTAMP:20260423T012943
CREATED:20250902T154930Z
LAST-MODIFIED:20250902T160421Z
UID:10003368-1763337600-1763423999@kaleidoscope-education.org
SUMMARY:Hancock Classes
DESCRIPTION:See detailed class schedules and important dates here. \n 
URL:https://kaleidoscope-education.org/event/hancock-classes-7/2025-11-17/
LOCATION:Kaleidoscope Hancock\, 417 Quincy St\, Hancock\, 49930\, United States
END:VEVENT
BEGIN:VEVENT
DTSTART;VALUE=DATE:20251111
DTEND;VALUE=DATE:20251112
DTSTAMP:20260423T012943
CREATED:20250902T155234Z
LAST-MODIFIED:20250902T155234Z
UID:10003395-1762819200-1762905599@kaleidoscope-education.org
SUMMARY:Hancock Classes
DESCRIPTION:See detailed class schedules and important dates here.
URL:https://kaleidoscope-education.org/event/hancock-classes-9/2025-11-11/
LOCATION:Kaleidoscope Hancock\, 417 Quincy St\, Hancock\, 49930\, United States
END:VEVENT
BEGIN:VEVENT
DTSTART;VALUE=DATE:20251110
DTEND;VALUE=DATE:20251111
DTSTAMP:20260423T012943
CREATED:20250902T154930Z
LAST-MODIFIED:20250902T160421Z
UID:10003367-1762732800-1762819199@kaleidoscope-education.org
SUMMARY:Hancock Classes
DESCRIPTION:See detailed class schedules and important dates here. \n 
URL:https://kaleidoscope-education.org/event/hancock-classes-7/2025-11-10/
LOCATION:Kaleidoscope Hancock\, 417 Quincy St\, Hancock\, 49930\, United States
END:VEVENT
BEGIN:VEVENT
DTSTART;VALUE=DATE:20251104
DTEND;VALUE=DATE:20251105
DTSTAMP:20260423T012943
CREATED:20250902T155234Z
LAST-MODIFIED:20250902T155234Z
UID:10003394-1762214400-1762300799@kaleidoscope-education.org
SUMMARY:Hancock Classes
DESCRIPTION:See detailed class schedules and important dates here.
URL:https://kaleidoscope-education.org/event/hancock-classes-9/2025-11-04/
LOCATION:Kaleidoscope Hancock\, 417 Quincy St\, Hancock\, 49930\, United States
END:VEVENT
BEGIN:VEVENT
DTSTART;VALUE=DATE:20251103
DTEND;VALUE=DATE:20251104
DTSTAMP:20260423T012943
CREATED:20250902T154930Z
LAST-MODIFIED:20250902T160421Z
UID:10003366-1762128000-1762214399@kaleidoscope-education.org
SUMMARY:Hancock Classes
DESCRIPTION:See detailed class schedules and important dates here. \n 
URL:https://kaleidoscope-education.org/event/hancock-classes-7/2025-11-03/
LOCATION:Kaleidoscope Hancock\, 417 Quincy St\, Hancock\, 49930\, United States
END:VEVENT
BEGIN:VEVENT
DTSTART;VALUE=DATE:20251028
DTEND;VALUE=DATE:20251029
DTSTAMP:20260423T012943
CREATED:20250902T155234Z
LAST-MODIFIED:20250902T155234Z
UID:10003393-1761609600-1761695999@kaleidoscope-education.org
SUMMARY:Hancock Classes
DESCRIPTION:See detailed class schedules and important dates here.
URL:https://kaleidoscope-education.org/event/hancock-classes-9/2025-10-28/
LOCATION:Kaleidoscope Hancock\, 417 Quincy St\, Hancock\, 49930\, United States
END:VEVENT
BEGIN:VEVENT
DTSTART;VALUE=DATE:20251027
DTEND;VALUE=DATE:20251028
DTSTAMP:20260423T012943
CREATED:20250902T154930Z
LAST-MODIFIED:20250902T160421Z
UID:10003365-1761523200-1761609599@kaleidoscope-education.org
SUMMARY:Hancock Classes
DESCRIPTION:See detailed class schedules and important dates here. \n 
URL:https://kaleidoscope-education.org/event/hancock-classes-7/2025-10-27/
LOCATION:Kaleidoscope Hancock\, 417 Quincy St\, Hancock\, 49930\, United States
END:VEVENT
BEGIN:VEVENT
DTSTART;VALUE=DATE:20251021
DTEND;VALUE=DATE:20251022
DTSTAMP:20260423T012943
CREATED:20250902T155234Z
LAST-MODIFIED:20250902T155234Z
UID:10003392-1761004800-1761091199@kaleidoscope-education.org
SUMMARY:Hancock Classes
DESCRIPTION:See detailed class schedules and important dates here.
URL:https://kaleidoscope-education.org/event/hancock-classes-9/2025-10-21/
LOCATION:Kaleidoscope Hancock\, 417 Quincy St\, Hancock\, 49930\, United States
END:VEVENT
BEGIN:VEVENT
DTSTART;VALUE=DATE:20251020
DTEND;VALUE=DATE:20251021
DTSTAMP:20260423T012943
CREATED:20250902T154930Z
LAST-MODIFIED:20250902T160421Z
UID:10003364-1760918400-1761004799@kaleidoscope-education.org
SUMMARY:Hancock Classes
DESCRIPTION:See detailed class schedules and important dates here. \n 
URL:https://kaleidoscope-education.org/event/hancock-classes-7/2025-10-20/
LOCATION:Kaleidoscope Hancock\, 417 Quincy St\, Hancock\, 49930\, United States
END:VEVENT
BEGIN:VEVENT
DTSTART;VALUE=DATE:20251014
DTEND;VALUE=DATE:20251015
DTSTAMP:20260423T012943
CREATED:20250902T155234Z
LAST-MODIFIED:20250902T155234Z
UID:10003391-1760400000-1760486399@kaleidoscope-education.org
SUMMARY:Hancock Classes
DESCRIPTION:See detailed class schedules and important dates here.
URL:https://kaleidoscope-education.org/event/hancock-classes-9/2025-10-14/
LOCATION:Kaleidoscope Hancock\, 417 Quincy St\, Hancock\, 49930\, United States
END:VEVENT
BEGIN:VEVENT
DTSTART;VALUE=DATE:20251013
DTEND;VALUE=DATE:20251014
DTSTAMP:20260423T012943
CREATED:20250902T154930Z
LAST-MODIFIED:20250902T160421Z
UID:10003363-1760313600-1760399999@kaleidoscope-education.org
SUMMARY:Hancock Classes
DESCRIPTION:See detailed class schedules and important dates here. \n 
URL:https://kaleidoscope-education.org/event/hancock-classes-7/2025-10-13/
LOCATION:Kaleidoscope Hancock\, 417 Quincy St\, Hancock\, 49930\, United States
END:VEVENT
BEGIN:VEVENT
DTSTART;VALUE=DATE:20251007
DTEND;VALUE=DATE:20251008
DTSTAMP:20260423T012943
CREATED:20250902T155234Z
LAST-MODIFIED:20250902T155234Z
UID:10003390-1759795200-1759881599@kaleidoscope-education.org
SUMMARY:Hancock Classes
DESCRIPTION:See detailed class schedules and important dates here.
URL:https://kaleidoscope-education.org/event/hancock-classes-9/2025-10-07/
LOCATION:Kaleidoscope Hancock\, 417 Quincy St\, Hancock\, 49930\, United States
END:VEVENT
BEGIN:VEVENT
DTSTART;VALUE=DATE:20251006
DTEND;VALUE=DATE:20251007
DTSTAMP:20260423T012943
CREATED:20250902T154930Z
LAST-MODIFIED:20250902T160421Z
UID:10003362-1759708800-1759795199@kaleidoscope-education.org
SUMMARY:Hancock Classes
DESCRIPTION:See detailed class schedules and important dates here. \n 
URL:https://kaleidoscope-education.org/event/hancock-classes-7/2025-10-06/
LOCATION:Kaleidoscope Hancock\, 417 Quincy St\, Hancock\, 49930\, United States
END:VEVENT
BEGIN:VEVENT
DTSTART;VALUE=DATE:20250930
DTEND;VALUE=DATE:20251001
DTSTAMP:20260423T012943
CREATED:20250902T155234Z
LAST-MODIFIED:20250902T155234Z
UID:10003389-1759190400-1759276799@kaleidoscope-education.org
SUMMARY:Hancock Classes
DESCRIPTION:See detailed class schedules and important dates here.
URL:https://kaleidoscope-education.org/event/hancock-classes-9/2025-09-30/
LOCATION:Kaleidoscope Hancock\, 417 Quincy St\, Hancock\, 49930\, United States
END:VEVENT
BEGIN:VEVENT
DTSTART;VALUE=DATE:20250929
DTEND;VALUE=DATE:20250930
DTSTAMP:20260423T012943
CREATED:20250902T154930Z
LAST-MODIFIED:20250902T160421Z
UID:10003361-1759104000-1759190399@kaleidoscope-education.org
SUMMARY:Hancock Classes
DESCRIPTION:See detailed class schedules and important dates here. \n 
URL:https://kaleidoscope-education.org/event/hancock-classes-7/2025-09-29/
LOCATION:Kaleidoscope Hancock\, 417 Quincy St\, Hancock\, 49930\, United States
END:VEVENT
BEGIN:VEVENT
DTSTART;VALUE=DATE:20250923
DTEND;VALUE=DATE:20250924
DTSTAMP:20260423T012943
CREATED:20250902T155234Z
LAST-MODIFIED:20250902T155234Z
UID:10003388-1758585600-1758671999@kaleidoscope-education.org
SUMMARY:Hancock Classes
DESCRIPTION:See detailed class schedules and important dates here.
URL:https://kaleidoscope-education.org/event/hancock-classes-9/2025-09-23/
LOCATION:Kaleidoscope Hancock\, 417 Quincy St\, Hancock\, 49930\, United States
END:VEVENT
BEGIN:VEVENT
DTSTART;VALUE=DATE:20250922
DTEND;VALUE=DATE:20250923
DTSTAMP:20260423T012943
CREATED:20250902T154930Z
LAST-MODIFIED:20250902T160421Z
UID:10003360-1758499200-1758585599@kaleidoscope-education.org
SUMMARY:Hancock Classes
DESCRIPTION:See detailed class schedules and important dates here. \n 
URL:https://kaleidoscope-education.org/event/hancock-classes-7/2025-09-22/
LOCATION:Kaleidoscope Hancock\, 417 Quincy St\, Hancock\, 49930\, United States
END:VEVENT
BEGIN:VEVENT
DTSTART;VALUE=DATE:20250916
DTEND;VALUE=DATE:20250917
DTSTAMP:20260423T012943
CREATED:20250902T155234Z
LAST-MODIFIED:20250902T155234Z
UID:10003387-1757980800-1758067199@kaleidoscope-education.org
SUMMARY:Hancock Classes
DESCRIPTION:See detailed class schedules and important dates here.
URL:https://kaleidoscope-education.org/event/hancock-classes-9/2025-09-16/
LOCATION:Kaleidoscope Hancock\, 417 Quincy St\, Hancock\, 49930\, United States
END:VEVENT
END:VCALENDAR